BEGIN:VCALENDAR
VERSION:2.0
PRODID:-//The Home Channel - ECPv6.15.11//NONSGML v1.0//EN
CALSCALE:GREGORIAN
METHOD:PUBLISH
X-ORIGINAL-URL:https://thehomechannel.co.za
X-WR-CALDESC:Events for The Home Channel
REFRESH-INTERVAL;VALUE=DURATION:PT1H
X-Robots-Tag:noindex
X-PUBLISHED-TTL:PT1H
BEGIN:VTIMEZONE
TZID:Africa/Johannesburg
BEGIN:STANDARD
TZOFFSETFROM:+0200
TZOFFSETTO:+0200
TZNAME:SAST
DTSTART:19690101T000000
END:STANDARD
END:VTIMEZONE
BEGIN:VEVENT
DTSTART;TZID=Africa/Johannesburg:20260425T230546
DTEND;TZID=Africa/Johannesburg:20260420T143000
DTSTAMP:20260425T230546
CREATED:20260413T142319Z
LAST-MODIFIED:20260413T170512Z
UID:137640-0-1776695400@thehomechannel.co.za
SUMMARY:000011
DESCRIPTION:“OVHD\, DSTV”
URL:https://thehomechannel.co.za/tv-schedule/000011-2/
CATEGORIES:15:00:00
END:VEVENT
BEGIN:VEVENT
DTSTART;TZID=Africa/Johannesburg:20260425T230546
DTEND;TZID=Africa/Johannesburg:20260420T170000
DTSTAMP:20260425T230546
CREATED:20260413T142319Z
LAST-MODIFIED:20260413T142319Z
UID:137649-0-1776704400@thehomechannel.co.za
SUMMARY:000015
DESCRIPTION:“DSTV\, OVHD”
URL:https://thehomechannel.co.za/tv-schedule/000015-3/
CATEGORIES:18:00:00
END:VEVENT
BEGIN:VEVENT
DTSTART;TZID=Africa/Johannesburg:20260425T230546
DTEND;TZID=Africa/Johannesburg:20260420T150000
DTSTAMP:20260425T230546
CREATED:20260413T142319Z
LAST-MODIFIED:20260413T170512Z
UID:137641-0-1776697200@thehomechannel.co.za
SUMMARY:000012
DESCRIPTION:“OVHD\, DSTV”
URL:https://thehomechannel.co.za/tv-schedule/000012-2/
CATEGORIES:16:00:00
END:VEVENT
BEGIN:VEVENT
DTSTART;TZID=Africa/Johannesburg:20260425T230546
DTEND;TZID=Africa/Johannesburg:20260420T180000
DTSTAMP:20260425T230546
CREATED:20260413T142352Z
LAST-MODIFIED:20260413T170734Z
UID:137650-0-1776708000@thehomechannel.co.za
SUMMARY:000016
DESCRIPTION:“OVHD\, DSTV”
URL:https://thehomechannel.co.za/tv-schedule/000016-2/
CATEGORIES:18:30:00
END:VEVENT
BEGIN:VEVENT
DTSTART;TZID=Africa/Johannesburg:20260425T230546
DTEND;TZID=Africa/Johannesburg:20260420T183000
DTSTAMP:20260425T230546
CREATED:20260413T142352Z
LAST-MODIFIED:20260413T170734Z
UID:137651-0-1776709800@thehomechannel.co.za
SUMMARY:000017
DESCRIPTION:“OVHD\, DSTV”
URL:https://thehomechannel.co.za/tv-schedule/000017-2/
CATEGORIES:19:00:00
END:VEVENT
BEGIN:VEVENT
DTSTART;TZID=Africa/Johannesburg:20260425T230546
DTEND;TZID=Africa/Johannesburg:20260420T190000
DTSTAMP:20260425T230546
CREATED:20260413T142352Z
LAST-MODIFIED:20260413T170734Z
UID:137652-0-1776711600@thehomechannel.co.za
SUMMARY:000018
DESCRIPTION:“OVHD\, DSTV”
URL:https://thehomechannel.co.za/tv-schedule/000018-2/
CATEGORIES:19:30:00
END:VEVENT
BEGIN:VEVENT
DTSTART;TZID=Africa/Johannesburg:20260425T230546
DTEND;TZID=Africa/Johannesburg:20260420T193000
DTSTAMP:20260425T230546
CREATED:20260413T142352Z
LAST-MODIFIED:20260413T170734Z
UID:137653-0-1776713400@thehomechannel.co.za
SUMMARY:000019
DESCRIPTION:“OVHD\, DSTV”
URL:https://thehomechannel.co.za/tv-schedule/000019-2/
CATEGORIES:20:00:00
END:VEVENT
BEGIN:VEVENT
DTSTART;TZID=Africa/Johannesburg:20260425T230546
DTEND;TZID=Africa/Johannesburg:20260420T200000
DTSTAMP:20260425T230546
CREATED:20260413T142352Z
LAST-MODIFIED:20260413T170931Z
UID:137654-0-1776715200@thehomechannel.co.za
SUMMARY:000020
DESCRIPTION:“OVHD\, DSTV”
URL:https://thehomechannel.co.za/tv-schedule/000020-2/
CATEGORIES:21:00:00
END:VEVENT
BEGIN:VEVENT
DTSTART;TZID=Africa/Johannesburg:20260425T230546
DTEND;TZID=Africa/Johannesburg:20260420T210000
DTSTAMP:20260425T230546
CREATED:20260413T142417Z
LAST-MODIFIED:20260413T170931Z
UID:137655-0-1776718800@thehomechannel.co.za
SUMMARY:000021
DESCRIPTION:“OVHD\, DSTV”
URL:https://thehomechannel.co.za/tv-schedule/000021-2/
CATEGORIES:22:00:00
END:VEVENT
BEGIN:VEVENT
DTSTART;TZID=Africa/Johannesburg:20260425T230546
DTEND;TZID=Africa/Johannesburg:20260420T220000
DTSTAMP:20260425T230546
CREATED:20260413T142417Z
LAST-MODIFIED:20260413T170931Z
UID:137656-0-1776722400@thehomechannel.co.za
SUMMARY:000022
DESCRIPTION:“OVHD\, DSTV”
URL:https://thehomechannel.co.za/tv-schedule/000022-2/
CATEGORIES:22:30:00
END:VEVENT
BEGIN:VEVENT
DTSTART;TZID=Africa/Johannesburg:20260425T230546
DTEND;TZID=Africa/Johannesburg:20260420T223000
DTSTAMP:20260425T230546
CREATED:20260413T142417Z
LAST-MODIFIED:20260413T170931Z
UID:137657-0-1776724200@thehomechannel.co.za
SUMMARY:000023
DESCRIPTION:“OVHD\, DSTV”
URL:https://thehomechannel.co.za/tv-schedule/000023-2/
CATEGORIES:23:00:00
END:VEVENT
BEGIN:VEVENT
DTSTART;TZID=Africa/Johannesburg:20260425T230546
DTEND;TZID=Africa/Johannesburg:20260421T230000
DTSTAMP:20260425T230546
CREATED:20260413T142417Z
LAST-MODIFIED:20260413T170931Z
UID:137658-0-1776812400@thehomechannel.co.za
SUMMARY:000024
DESCRIPTION:“OVHD\, DSTV”
URL:https://thehomechannel.co.za/tv-schedule/000024-2/
CATEGORIES:00:00:00
END:VEVENT
BEGIN:VEVENT
DTSTART;TZID=Africa/Johannesburg:20260425T230546
DTEND;TZID=Africa/Johannesburg:20260421T000000
DTSTAMP:20260425T230546
CREATED:20260413T142417Z
LAST-MODIFIED:20260413T171131Z
UID:137659-0-1776729600@thehomechannel.co.za
SUMMARY:000025
DESCRIPTION:OVHD
URL:https://thehomechannel.co.za/tv-schedule/000025-2/
CATEGORIES:01:00:00
END:VEVENT
BEGIN:VEVENT
DTSTART;TZID=Africa/Johannesburg:20260425T230546
DTEND;TZID=Africa/Johannesburg:20260421T020000
DTSTAMP:20260425T230546
CREATED:20260413T142443Z
LAST-MODIFIED:20260413T171131Z
UID:137661-0-1776736800@thehomechannel.co.za
SUMMARY:000027
DESCRIPTION:“OVHD\, DSTV”
URL:https://thehomechannel.co.za/tv-schedule/000027-2/
CATEGORIES:02:30:00
END:VEVENT
BEGIN:VEVENT
DTSTART;TZID=Africa/Johannesburg:20260425T230546
DTEND;TZID=Africa/Johannesburg:20260421T023000
DTSTAMP:20260425T230546
CREATED:20260413T142443Z
LAST-MODIFIED:20260413T171131Z
UID:137662-0-1776738600@thehomechannel.co.za
SUMMARY:000028
DESCRIPTION:“OVHD\, DSTV”
URL:https://thehomechannel.co.za/tv-schedule/000028-2/
CATEGORIES:03:00:00
END:VEVENT
BEGIN:VEVENT
DTSTART;TZID=Africa/Johannesburg:20260425T230546
DTEND;TZID=Africa/Johannesburg:20260421T030000
DTSTAMP:20260425T230546
CREATED:20260413T142443Z
LAST-MODIFIED:20260413T171131Z
UID:137663-0-1776740400@thehomechannel.co.za
SUMMARY:000029
DESCRIPTION:“OVHD\, DSTV”
URL:https://thehomechannel.co.za/tv-schedule/000029-2/
CATEGORIES:04:00:00
END:VEVENT
BEGIN:VEVENT
DTSTART;TZID=Africa/Johannesburg:20260425T230546
DTEND;TZID=Africa/Johannesburg:20260421T040000
DTSTAMP:20260425T230546
CREATED:20260413T142443Z
LAST-MODIFIED:20260413T171323Z
UID:137664-0-1776744000@thehomechannel.co.za
SUMMARY:000030
DESCRIPTION:“OVHD\, DSTV”
URL:https://thehomechannel.co.za/tv-schedule/000030-2/
CATEGORIES:04:30:00
END:VEVENT
BEGIN:VEVENT
DTSTART;TZID=Africa/Johannesburg:20260425T230546
DTEND;TZID=Africa/Johannesburg:20260421T010000
DTSTAMP:20260425T230546
CREATED:20260413T142443Z
LAST-MODIFIED:20260413T171131Z
UID:137660-0-1776733200@thehomechannel.co.za
SUMMARY:000026
DESCRIPTION:“OVHD\, DSTV”
URL:https://thehomechannel.co.za/tv-schedule/000026-2/
CATEGORIES:02:00:00
END:VEVENT
BEGIN:VEVENT
DTSTART;TZID=Africa/Johannesburg:20260425T230546
DTEND;TZID=Africa/Johannesburg:20260421T050000
DTSTAMP:20260425T230546
CREATED:20260413T142513Z
LAST-MODIFIED:20260413T171323Z
UID:137666-0-1776747600@thehomechannel.co.za
SUMMARY:000032
DESCRIPTION:“OVHD\, DSTV”
URL:https://thehomechannel.co.za/tv-schedule/000032-2/
CATEGORIES:06:00:00
END:VEVENT
BEGIN:VEVENT
DTSTART;TZID=Africa/Johannesburg:20260425T230546
DTEND;TZID=Africa/Johannesburg:20260421T060000
DTSTAMP:20260425T230546
CREATED:20260413T142513Z
LAST-MODIFIED:20260413T171323Z
UID:137667-0-1776751200@thehomechannel.co.za
SUMMARY:000033
DESCRIPTION:“OVHD\, DSTV”
URL:https://thehomechannel.co.za/tv-schedule/000033-2/
CATEGORIES:06:30:00
END:VEVENT
BEGIN:VEVENT
DTSTART;TZID=Africa/Johannesburg:20260425T230546
DTEND;TZID=Africa/Johannesburg:20260421T063000
DTSTAMP:20260425T230546
CREATED:20260413T142513Z
LAST-MODIFIED:20260413T171324Z
UID:137668-0-1776753000@thehomechannel.co.za
SUMMARY:000034
DESCRIPTION:“OVHD\, DSTV”
URL:https://thehomechannel.co.za/tv-schedule/000034-2/
CATEGORIES:07:00:00
END:VEVENT
BEGIN:VEVENT
DTSTART;TZID=Africa/Johannesburg:20260425T230546
DTEND;TZID=Africa/Johannesburg:20260421T070000
DTSTAMP:20260425T230546
CREATED:20260413T142513Z
LAST-MODIFIED:20260413T171509Z
UID:137669-0-1776754800@thehomechannel.co.za
SUMMARY:000035
DESCRIPTION:“OVHD\, DSTV”
URL:https://thehomechannel.co.za/tv-schedule/000035-2/
CATEGORIES:07:30:00
END:VEVENT
BEGIN:VEVENT
DTSTART;TZID=Africa/Johannesburg:20260425T230546
DTEND;TZID=Africa/Johannesburg:20260421T043000
DTSTAMP:20260425T230546
CREATED:20260413T142513Z
LAST-MODIFIED:20260413T171323Z
UID:137665-0-1776745800@thehomechannel.co.za
SUMMARY:000031
DESCRIPTION:“OVHD\, DSTV”
URL:https://thehomechannel.co.za/tv-schedule/000031-2/
CATEGORIES:05:00:00
END:VEVENT
BEGIN:VEVENT
DTSTART;TZID=Africa/Johannesburg:20260425T230546
DTEND;TZID=Africa/Johannesburg:20260421T080000
DTSTAMP:20260425T230546
CREATED:20260413T142540Z
LAST-MODIFIED:20260413T171509Z
UID:137671-0-1776758400@thehomechannel.co.za
SUMMARY:000037
DESCRIPTION:“OVHD\, DSTV”
URL:https://thehomechannel.co.za/tv-schedule/000037-2/
CATEGORIES:09:00:00
END:VEVENT
BEGIN:VEVENT
DTSTART;TZID=Africa/Johannesburg:20260425T230546
DTEND;TZID=Africa/Johannesburg:20260421T090000
DTSTAMP:20260425T230546
CREATED:20260413T142540Z
LAST-MODIFIED:20260413T171509Z
UID:137672-0-1776762000@thehomechannel.co.za
SUMMARY:000038
DESCRIPTION:“OVHD\, DSTV”
URL:https://thehomechannel.co.za/tv-schedule/000038-2/
CATEGORIES:10:00:00
END:VEVENT
BEGIN:VEVENT
DTSTART;TZID=Africa/Johannesburg:20260425T230546
DTEND;TZID=Africa/Johannesburg:20260421T100000
DTSTAMP:20260425T230546
CREATED:20260413T142540Z
LAST-MODIFIED:20260413T171509Z
UID:137673-0-1776765600@thehomechannel.co.za
SUMMARY:000039
DESCRIPTION:OVHD
URL:https://thehomechannel.co.za/tv-schedule/000039-2/
CATEGORIES:11:00:00
END:VEVENT
BEGIN:VEVENT
DTSTART;TZID=Africa/Johannesburg:20260425T230546
DTEND;TZID=Africa/Johannesburg:20260421T110000
DTSTAMP:20260425T230546
CREATED:20260413T142540Z
LAST-MODIFIED:20260413T171731Z
UID:137674-0-1776769200@thehomechannel.co.za
SUMMARY:000040
DESCRIPTION:“OVHD\, DSTV”
URL:https://thehomechannel.co.za/tv-schedule/000040-2/
CATEGORIES:11:30:00
END:VEVENT
BEGIN:VEVENT
DTSTART;TZID=Africa/Johannesburg:20260425T230546
DTEND;TZID=Africa/Johannesburg:20260421T073000
DTSTAMP:20260425T230546
CREATED:20260413T142540Z
LAST-MODIFIED:20260413T171509Z
UID:137670-0-1776756600@thehomechannel.co.za
SUMMARY:000036
DESCRIPTION:“OVHD\, DSTV”
URL:https://thehomechannel.co.za/tv-schedule/000036-2/
CATEGORIES:08:00:00
END:VEVENT
BEGIN:VEVENT
DTSTART;TZID=Africa/Johannesburg:20260425T230546
DTEND;TZID=Africa/Johannesburg:20260421T130000
DTSTAMP:20260425T230546
CREATED:20260413T142606Z
LAST-MODIFIED:20260413T171731Z
UID:137677-0-1776776400@thehomechannel.co.za
SUMMARY:000043
DESCRIPTION:“OVHD\, DSTV”
URL:https://thehomechannel.co.za/tv-schedule/000043-2/
CATEGORIES:14:00:00
END:VEVENT
BEGIN:VEVENT
DTSTART;TZID=Africa/Johannesburg:20260425T230546
DTEND;TZID=Africa/Johannesburg:20260421T140000
DTSTAMP:20260425T230546
CREATED:20260413T142606Z
LAST-MODIFIED:20260413T171731Z
UID:137678-0-1776780000@thehomechannel.co.za
SUMMARY:000044
DESCRIPTION:“OVHD\, DSTV”
URL:https://thehomechannel.co.za/tv-schedule/000044-2/
CATEGORIES:14:30:00
END:VEVENT
END:VCALENDAR