BEGIN:VCALENDAR
VERSION:2.0
PRODID:-//The Home Channel - ECPv6.15.11//NONSGML v1.0//EN
CALSCALE:GREGORIAN
METHOD:PUBLISH
X-WR-CALNAME:The Home Channel
X-ORIGINAL-URL:https://thehomechannel.co.za
X-WR-CALDESC:Events for The Home Channel
REFRESH-INTERVAL;VALUE=DURATION:PT1H
X-Robots-Tag:noindex
X-PUBLISHED-TTL:PT1H
BEGIN:VTIMEZONE
TZID:Africa/Johannesburg
BEGIN:STANDARD
TZOFFSETFROM:+0200
TZOFFSETTO:+0200
TZNAME:SAST
DTSTART:19690101T000000
END:STANDARD
END:VTIMEZONE
BEGIN:VEVENT
DTSTART;TZID=Africa/Johannesburg:20260425T180808
DTEND;TZID=Africa/Johannesburg:20260419T050000
DTSTAMP:20260425T180808
CREATED:20260409T141633Z
LAST-MODIFIED:20260409T141633Z
UID:137603-0-1776574800@thehomechannel.co.za
SUMMARY:000212
DESCRIPTION:“OVHD\, DSTV”
URL:https://thehomechannel.co.za/tv-schedule/000212-2/
CATEGORIES:05:30:00
END:VEVENT
BEGIN:VEVENT
DTSTART;TZID=Africa/Johannesburg:20260425T180808
DTEND;TZID=Africa/Johannesburg:20260420T070000
DTSTAMP:20260425T180808
CREATED:20260413T142209Z
LAST-MODIFIED:20260413T170130Z
UID:137630-0-1776668400@thehomechannel.co.za
SUMMARY:000001
DESCRIPTION:“OVHD\, DSTV”
URL:https://thehomechannel.co.za/tv-schedule/000001-2/
CATEGORIES:08:00:00
END:VEVENT
BEGIN:VEVENT
DTSTART;TZID=Africa/Johannesburg:20260425T180808
DTEND;TZID=Africa/Johannesburg:20260420T080000
DTSTAMP:20260425T180808
CREATED:20260413T142210Z
LAST-MODIFIED:20260413T170130Z
UID:137631-0-1776672000@thehomechannel.co.za
SUMMARY:000002
DESCRIPTION:“OVHD\, DSTV”
URL:https://thehomechannel.co.za/tv-schedule/000002-2/
CATEGORIES:09:00:00
END:VEVENT
BEGIN:VEVENT
DTSTART;TZID=Africa/Johannesburg:20260425T180808
DTEND;TZID=Africa/Johannesburg:20260420T090000
DTSTAMP:20260425T180808
CREATED:20260413T142210Z
LAST-MODIFIED:20260413T170130Z
UID:137632-0-1776675600@thehomechannel.co.za
SUMMARY:000003
DESCRIPTION:“OVHD\, DSTV”
URL:https://thehomechannel.co.za/tv-schedule/000003-2/
CATEGORIES:10:00:00
END:VEVENT
BEGIN:VEVENT
DTSTART;TZID=Africa/Johannesburg:20260425T180808
DTEND;TZID=Africa/Johannesburg:20260420T100000
DTSTAMP:20260425T180808
CREATED:20260413T142210Z
LAST-MODIFIED:20260413T170130Z
UID:137633-0-1776679200@thehomechannel.co.za
SUMMARY:000004
DESCRIPTION:“OVHD\, DSTV”
URL:https://thehomechannel.co.za/tv-schedule/000004-2/
CATEGORIES:10:30:00
END:VEVENT
BEGIN:VEVENT
DTSTART;TZID=Africa/Johannesburg:20260425T180808
DTEND;TZID=Africa/Johannesburg:20260420T103000
DTSTAMP:20260425T180808
CREATED:20260413T142210Z
LAST-MODIFIED:20260413T170309Z
UID:137634-0-1776681000@thehomechannel.co.za
SUMMARY:000005
DESCRIPTION:“OVHD\, DSTV”
URL:https://thehomechannel.co.za/tv-schedule/000005-2/
CATEGORIES:11:00:00
END:VEVENT
BEGIN:VEVENT
DTSTART;TZID=Africa/Johannesburg:20260425T180808
DTEND;TZID=Africa/Johannesburg:20260420T113000
DTSTAMP:20260425T180808
CREATED:20260413T142246Z
LAST-MODIFIED:20260413T170309Z
UID:137636-0-1776684600@thehomechannel.co.za
SUMMARY:000007
DESCRIPTION:“OVHD\, DSTV”
URL:https://thehomechannel.co.za/tv-schedule/000007-2/
CATEGORIES:12:00:00
END:VEVENT
BEGIN:VEVENT
DTSTART;TZID=Africa/Johannesburg:20260425T180808
DTEND;TZID=Africa/Johannesburg:20260420T120000
DTSTAMP:20260425T180808
CREATED:20260413T142246Z
LAST-MODIFIED:20260413T170309Z
UID:137637-0-1776686400@thehomechannel.co.za
SUMMARY:000008
DESCRIPTION:OVHD
URL:https://thehomechannel.co.za/tv-schedule/000008-2/
CATEGORIES:13:00:00
END:VEVENT
BEGIN:VEVENT
DTSTART;TZID=Africa/Johannesburg:20260425T180808
DTEND;TZID=Africa/Johannesburg:20260420T110000
DTSTAMP:20260425T180808
CREATED:20260413T142246Z
LAST-MODIFIED:20260413T170309Z
UID:137635-0-1776682800@thehomechannel.co.za
SUMMARY:000006
DESCRIPTION:“OVHD\, DSTV”
URL:https://thehomechannel.co.za/tv-schedule/000006-2/
CATEGORIES:11:30:00
END:VEVENT
BEGIN:VEVENT
DTSTART;TZID=Africa/Johannesburg:20260425T180808
DTEND;TZID=Africa/Johannesburg:20260420T130000
DTSTAMP:20260425T180808
CREATED:20260413T142247Z
LAST-MODIFIED:20260413T170309Z
UID:137638-0-1776690000@thehomechannel.co.za
SUMMARY:000009
DESCRIPTION:“OVHD\, DSTV”
URL:https://thehomechannel.co.za/tv-schedule/000009-2/
CATEGORIES:14:00:00
END:VEVENT
BEGIN:VEVENT
DTSTART;TZID=Africa/Johannesburg:20260425T180808
DTEND;TZID=Africa/Johannesburg:20260420T140000
DTSTAMP:20260425T180808
CREATED:20260413T142247Z
LAST-MODIFIED:20260413T170512Z
UID:137639-0-1776693600@thehomechannel.co.za
SUMMARY:000010
DESCRIPTION:“OVHD\, DSTV”
URL:https://thehomechannel.co.za/tv-schedule/000010-2/
CATEGORIES:14:30:00
END:VEVENT
BEGIN:VEVENT
DTSTART;TZID=Africa/Johannesburg:20260425T180808
DTEND;TZID=Africa/Johannesburg:20260420T160000
DTSTAMP:20260425T180808
CREATED:20260413T142319Z
LAST-MODIFIED:20260413T170512Z
UID:137642-0-1776700800@thehomechannel.co.za
SUMMARY:000013
DESCRIPTION:“OVHD\, DSTV”
URL:https://thehomechannel.co.za/tv-schedule/000013-2/
CATEGORIES:16:30:00
END:VEVENT
BEGIN:VEVENT
DTSTART;TZID=Africa/Johannesburg:20260425T180808
DTEND;TZID=Africa/Johannesburg:20260420T163000
DTSTAMP:20260425T180808
CREATED:20260413T142319Z
LAST-MODIFIED:20260413T170512Z
UID:137643-0-1776702600@thehomechannel.co.za
SUMMARY:000014
DESCRIPTION:“OVHD\, DSTV”
URL:https://thehomechannel.co.za/tv-schedule/000014-2/
CATEGORIES:17:00:00
END:VEVENT
BEGIN:VEVENT
DTSTART;TZID=Africa/Johannesburg:20260425T180808
DTEND;TZID=Africa/Johannesburg:20260420T170000
DTSTAMP:20260425T180808
CREATED:20260413T142319Z
LAST-MODIFIED:20260413T170734Z
UID:137644-0-1776704400@thehomechannel.co.za
SUMMARY:000015
DESCRIPTION:“OVHD\, DSTV”
URL:https://thehomechannel.co.za/tv-schedule/000015-2/
CATEGORIES:18:00:00
END:VEVENT
BEGIN:VEVENT
DTSTART;TZID=Africa/Johannesburg:20260425T180808
DTEND;TZID=Africa/Johannesburg:20260420T143000
DTSTAMP:20260425T180808
CREATED:20260413T142319Z
LAST-MODIFIED:20260413T142319Z
UID:137645-0-1776695400@thehomechannel.co.za
SUMMARY:000011
DESCRIPTION:“DSTV\, OVHD”
URL:https://thehomechannel.co.za/tv-schedule/000011-3/
CATEGORIES:15:00:00
END:VEVENT
BEGIN:VEVENT
DTSTART;TZID=Africa/Johannesburg:20260425T180808
DTEND;TZID=Africa/Johannesburg:20260420T143000
DTSTAMP:20260425T180808
CREATED:20260413T142319Z
LAST-MODIFIED:20260413T170512Z
UID:137640-0-1776695400@thehomechannel.co.za
SUMMARY:000011
DESCRIPTION:“OVHD\, DSTV”
URL:https://thehomechannel.co.za/tv-schedule/000011-2/
CATEGORIES:15:00:00
END:VEVENT
BEGIN:VEVENT
DTSTART;TZID=Africa/Johannesburg:20260425T180808
DTEND;TZID=Africa/Johannesburg:20260420T170000
DTSTAMP:20260425T180808
CREATED:20260413T142319Z
LAST-MODIFIED:20260413T142319Z
UID:137649-0-1776704400@thehomechannel.co.za
SUMMARY:000015
DESCRIPTION:“DSTV\, OVHD”
URL:https://thehomechannel.co.za/tv-schedule/000015-3/
CATEGORIES:18:00:00
END:VEVENT
BEGIN:VEVENT
DTSTART;TZID=Africa/Johannesburg:20260425T180808
DTEND;TZID=Africa/Johannesburg:20260420T150000
DTSTAMP:20260425T180808
CREATED:20260413T142319Z
LAST-MODIFIED:20260413T170512Z
UID:137641-0-1776697200@thehomechannel.co.za
SUMMARY:000012
DESCRIPTION:“OVHD\, DSTV”
URL:https://thehomechannel.co.za/tv-schedule/000012-2/
CATEGORIES:16:00:00
END:VEVENT
BEGIN:VEVENT
DTSTART;TZID=Africa/Johannesburg:20260425T180808
DTEND;TZID=Africa/Johannesburg:20260420T180000
DTSTAMP:20260425T180808
CREATED:20260413T142352Z
LAST-MODIFIED:20260413T170734Z
UID:137650-0-1776708000@thehomechannel.co.za
SUMMARY:000016
DESCRIPTION:“OVHD\, DSTV”
URL:https://thehomechannel.co.za/tv-schedule/000016-2/
CATEGORIES:18:30:00
END:VEVENT
BEGIN:VEVENT
DTSTART;TZID=Africa/Johannesburg:20260425T180808
DTEND;TZID=Africa/Johannesburg:20260420T183000
DTSTAMP:20260425T180808
CREATED:20260413T142352Z
LAST-MODIFIED:20260413T170734Z
UID:137651-0-1776709800@thehomechannel.co.za
SUMMARY:000017
DESCRIPTION:“OVHD\, DSTV”
URL:https://thehomechannel.co.za/tv-schedule/000017-2/
CATEGORIES:19:00:00
END:VEVENT
BEGIN:VEVENT
DTSTART;TZID=Africa/Johannesburg:20260425T180808
DTEND;TZID=Africa/Johannesburg:20260420T190000
DTSTAMP:20260425T180808
CREATED:20260413T142352Z
LAST-MODIFIED:20260413T170734Z
UID:137652-0-1776711600@thehomechannel.co.za
SUMMARY:000018
DESCRIPTION:“OVHD\, DSTV”
URL:https://thehomechannel.co.za/tv-schedule/000018-2/
CATEGORIES:19:30:00
END:VEVENT
BEGIN:VEVENT
DTSTART;TZID=Africa/Johannesburg:20260425T180808
DTEND;TZID=Africa/Johannesburg:20260420T193000
DTSTAMP:20260425T180808
CREATED:20260413T142352Z
LAST-MODIFIED:20260413T170734Z
UID:137653-0-1776713400@thehomechannel.co.za
SUMMARY:000019
DESCRIPTION:“OVHD\, DSTV”
URL:https://thehomechannel.co.za/tv-schedule/000019-2/
CATEGORIES:20:00:00
END:VEVENT
BEGIN:VEVENT
DTSTART;TZID=Africa/Johannesburg:20260425T180808
DTEND;TZID=Africa/Johannesburg:20260420T200000
DTSTAMP:20260425T180808
CREATED:20260413T142352Z
LAST-MODIFIED:20260413T170931Z
UID:137654-0-1776715200@thehomechannel.co.za
SUMMARY:000020
DESCRIPTION:“OVHD\, DSTV”
URL:https://thehomechannel.co.za/tv-schedule/000020-2/
CATEGORIES:21:00:00
END:VEVENT
BEGIN:VEVENT
DTSTART;TZID=Africa/Johannesburg:20260425T180808
DTEND;TZID=Africa/Johannesburg:20260420T210000
DTSTAMP:20260425T180808
CREATED:20260413T142417Z
LAST-MODIFIED:20260413T170931Z
UID:137655-0-1776718800@thehomechannel.co.za
SUMMARY:000021
DESCRIPTION:“OVHD\, DSTV”
URL:https://thehomechannel.co.za/tv-schedule/000021-2/
CATEGORIES:22:00:00
END:VEVENT
BEGIN:VEVENT
DTSTART;TZID=Africa/Johannesburg:20260425T180808
DTEND;TZID=Africa/Johannesburg:20260420T220000
DTSTAMP:20260425T180808
CREATED:20260413T142417Z
LAST-MODIFIED:20260413T170931Z
UID:137656-0-1776722400@thehomechannel.co.za
SUMMARY:000022
DESCRIPTION:“OVHD\, DSTV”
URL:https://thehomechannel.co.za/tv-schedule/000022-2/
CATEGORIES:22:30:00
END:VEVENT
BEGIN:VEVENT
DTSTART;TZID=Africa/Johannesburg:20260425T180808
DTEND;TZID=Africa/Johannesburg:20260420T223000
DTSTAMP:20260425T180808
CREATED:20260413T142417Z
LAST-MODIFIED:20260413T170931Z
UID:137657-0-1776724200@thehomechannel.co.za
SUMMARY:000023
DESCRIPTION:“OVHD\, DSTV”
URL:https://thehomechannel.co.za/tv-schedule/000023-2/
CATEGORIES:23:00:00
END:VEVENT
BEGIN:VEVENT
DTSTART;TZID=Africa/Johannesburg:20260425T180808
DTEND;TZID=Africa/Johannesburg:20260421T230000
DTSTAMP:20260425T180808
CREATED:20260413T142417Z
LAST-MODIFIED:20260413T170931Z
UID:137658-0-1776812400@thehomechannel.co.za
SUMMARY:000024
DESCRIPTION:“OVHD\, DSTV”
URL:https://thehomechannel.co.za/tv-schedule/000024-2/
CATEGORIES:00:00:00
END:VEVENT
BEGIN:VEVENT
DTSTART;TZID=Africa/Johannesburg:20260425T180808
DTEND;TZID=Africa/Johannesburg:20260421T000000
DTSTAMP:20260425T180808
CREATED:20260413T142417Z
LAST-MODIFIED:20260413T171131Z
UID:137659-0-1776729600@thehomechannel.co.za
SUMMARY:000025
DESCRIPTION:OVHD
URL:https://thehomechannel.co.za/tv-schedule/000025-2/
CATEGORIES:01:00:00
END:VEVENT
BEGIN:VEVENT
DTSTART;TZID=Africa/Johannesburg:20260425T180808
DTEND;TZID=Africa/Johannesburg:20260421T020000
DTSTAMP:20260425T180808
CREATED:20260413T142443Z
LAST-MODIFIED:20260413T171131Z
UID:137661-0-1776736800@thehomechannel.co.za
SUMMARY:000027
DESCRIPTION:“OVHD\, DSTV”
URL:https://thehomechannel.co.za/tv-schedule/000027-2/
CATEGORIES:02:30:00
END:VEVENT
BEGIN:VEVENT
DTSTART;TZID=Africa/Johannesburg:20260425T180808
DTEND;TZID=Africa/Johannesburg:20260421T023000
DTSTAMP:20260425T180808
CREATED:20260413T142443Z
LAST-MODIFIED:20260413T171131Z
UID:137662-0-1776738600@thehomechannel.co.za
SUMMARY:000028
DESCRIPTION:“OVHD\, DSTV”
URL:https://thehomechannel.co.za/tv-schedule/000028-2/
CATEGORIES:03:00:00
END:VEVENT
END:VCALENDAR