BEGIN:VCALENDAR
VERSION:2.0
PRODID:-//The Home Channel - ECPv6.15.11//NONSGML v1.0//EN
CALSCALE:GREGORIAN
METHOD:PUBLISH
X-WR-CALNAME:The Home Channel
X-ORIGINAL-URL:https://thehomechannel.co.za
X-WR-CALDESC:Events for The Home Channel
REFRESH-INTERVAL;VALUE=DURATION:PT1H
X-Robots-Tag:noindex
X-PUBLISHED-TTL:PT1H
BEGIN:VTIMEZONE
TZID:Africa/Johannesburg
BEGIN:STANDARD
TZOFFSETFROM:+0200
TZOFFSETTO:+0200
TZNAME:SAST
DTSTART:19690101T000000
END:STANDARD
END:VTIMEZONE
BEGIN:VEVENT
DTSTART;TZID=Africa/Johannesburg:20260421T223055
DTEND;TZID=Africa/Johannesburg:20260422T203000
DTSTAMP:20260421T223055
CREATED:20260413T143037Z
LAST-MODIFIED:20260413T143037Z
UID:137733-0-1776889800@thehomechannel.co.za
SUMMARY:000089
DESCRIPTION:“DSTV\, OVHD”
URL:https://thehomechannel.co.za/tv-schedule/000089-3/
CATEGORIES:21:00:00
END:VEVENT
BEGIN:VEVENT
DTSTART;TZID=Africa/Johannesburg:20260421T223055
DTEND;TZID=Africa/Johannesburg:20260422T210000
DTSTAMP:20260421T223055
CREATED:20260413T143037Z
LAST-MODIFIED:20260413T143037Z
UID:137734-0-1776891600@thehomechannel.co.za
SUMMARY:000090
DESCRIPTION:“DSTV\, OVHD”
URL:https://thehomechannel.co.za/tv-schedule/000090-3/
CATEGORIES:22:00:00
END:VEVENT
BEGIN:VEVENT
DTSTART;TZID=Africa/Johannesburg:20260421T223055
DTEND;TZID=Africa/Johannesburg:20260422T220000
DTSTAMP:20260421T223055
CREATED:20260413T143103Z
LAST-MODIFIED:20260413T143103Z
UID:137735-0-1776895200@thehomechannel.co.za
SUMMARY:000091
DESCRIPTION:“DSTV\, OVHD”
URL:https://thehomechannel.co.za/tv-schedule/000091-3/
CATEGORIES:22:30:00
END:VEVENT
BEGIN:VEVENT
DTSTART;TZID=Africa/Johannesburg:20260421T223055
DTEND;TZID=Africa/Johannesburg:20260422T223000
DTSTAMP:20260421T223055
CREATED:20260413T143104Z
LAST-MODIFIED:20260413T143104Z
UID:137736-0-1776897000@thehomechannel.co.za
SUMMARY:000092
DESCRIPTION:“DSTV\, OVHD”
URL:https://thehomechannel.co.za/tv-schedule/000092-3/
CATEGORIES:23:00:00
END:VEVENT
BEGIN:VEVENT
DTSTART;TZID=Africa/Johannesburg:20260421T223055
DTEND;TZID=Africa/Johannesburg:20260422T230000
DTSTAMP:20260421T223055
CREATED:20260413T143104Z
LAST-MODIFIED:20260413T143104Z
UID:137737-0-1776898800@thehomechannel.co.za
SUMMARY:000093
DESCRIPTION:“DSTV\, OVHD”
URL:https://thehomechannel.co.za/tv-schedule/000093-3/
CATEGORIES:23:30:00
END:VEVENT
BEGIN:VEVENT
DTSTART;TZID=Africa/Johannesburg:20260421T223055
DTEND;TZID=Africa/Johannesburg:20260423T233000
DTSTAMP:20260421T223055
CREATED:20260413T143104Z
LAST-MODIFIED:20260413T143104Z
UID:137738-0-1776987000@thehomechannel.co.za
SUMMARY:000094
DESCRIPTION:“DSTV\, OVHD”
URL:https://thehomechannel.co.za/tv-schedule/000094-3/
CATEGORIES:00:00:00
END:VEVENT
BEGIN:VEVENT
DTSTART;TZID=Africa/Johannesburg:20260421T223055
DTEND;TZID=Africa/Johannesburg:20260423T000000
DTSTAMP:20260421T223055
CREATED:20260413T143104Z
LAST-MODIFIED:20260413T143104Z
UID:137739-0-1776902400@thehomechannel.co.za
SUMMARY:000095
DESCRIPTION:“DSTV\, OVHD”
URL:https://thehomechannel.co.za/tv-schedule/000095-3/
CATEGORIES:01:00:00
END:VEVENT
BEGIN:VEVENT
DTSTART;TZID=Africa/Johannesburg:20260421T223055
DTEND;TZID=Africa/Johannesburg:20260423T010000
DTSTAMP:20260421T223055
CREATED:20260413T143134Z
LAST-MODIFIED:20260413T143134Z
UID:137740-0-1776906000@thehomechannel.co.za
SUMMARY:000096
DESCRIPTION:“DSTV\, OVHD”
URL:https://thehomechannel.co.za/tv-schedule/000096-3/
CATEGORIES:02:00:00
END:VEVENT
BEGIN:VEVENT
DTSTART;TZID=Africa/Johannesburg:20260421T223055
DTEND;TZID=Africa/Johannesburg:20260423T020000
DTSTAMP:20260421T223055
CREATED:20260413T143134Z
LAST-MODIFIED:20260413T143134Z
UID:137741-0-1776909600@thehomechannel.co.za
SUMMARY:000097
DESCRIPTION:DSTV
URL:https://thehomechannel.co.za/tv-schedule/000097-3/
CATEGORIES:03:00:00
END:VEVENT
BEGIN:VEVENT
DTSTART;TZID=Africa/Johannesburg:20260421T223055
DTEND;TZID=Africa/Johannesburg:20260423T030000
DTSTAMP:20260421T223055
CREATED:20260413T143134Z
LAST-MODIFIED:20260413T143134Z
UID:137742-0-1776913200@thehomechannel.co.za
SUMMARY:000098
DESCRIPTION:“DSTV\, OVHD”
URL:https://thehomechannel.co.za/tv-schedule/000098-3/
CATEGORIES:03:30:00
END:VEVENT
BEGIN:VEVENT
DTSTART;TZID=Africa/Johannesburg:20260421T223055
DTEND;TZID=Africa/Johannesburg:20260423T033000
DTSTAMP:20260421T223055
CREATED:20260413T143134Z
LAST-MODIFIED:20260413T143134Z
UID:137743-0-1776915000@thehomechannel.co.za
SUMMARY:000099
DESCRIPTION:“DSTV\, OVHD”
URL:https://thehomechannel.co.za/tv-schedule/000099-3/
CATEGORIES:04:00:00
END:VEVENT
BEGIN:VEVENT
DTSTART;TZID=Africa/Johannesburg:20260421T223055
DTEND;TZID=Africa/Johannesburg:20260423T040000
DTSTAMP:20260421T223055
CREATED:20260413T143134Z
LAST-MODIFIED:20260413T143134Z
UID:137744-0-1776916800@thehomechannel.co.za
SUMMARY:000100
DESCRIPTION:“DSTV\, OVHD”
URL:https://thehomechannel.co.za/tv-schedule/000100-3/
CATEGORIES:05:00:00
END:VEVENT
BEGIN:VEVENT
DTSTART;TZID=Africa/Johannesburg:20260421T223055
DTEND;TZID=Africa/Johannesburg:20260423T060000
DTSTAMP:20260421T223055
CREATED:20260413T143203Z
LAST-MODIFIED:20260413T143203Z
UID:137746-0-1776924000@thehomechannel.co.za
SUMMARY:000102
DESCRIPTION:“DSTV\, OVHD”
URL:https://thehomechannel.co.za/tv-schedule/000102-3/
CATEGORIES:07:00:00
END:VEVENT
BEGIN:VEVENT
DTSTART;TZID=Africa/Johannesburg:20260421T223055
DTEND;TZID=Africa/Johannesburg:20260423T070000
DTSTAMP:20260421T223055
CREATED:20260413T143203Z
LAST-MODIFIED:20260413T143203Z
UID:137747-0-1776927600@thehomechannel.co.za
SUMMARY:000103
DESCRIPTION:“DSTV\, OVHD”
URL:https://thehomechannel.co.za/tv-schedule/000103-3/
CATEGORIES:08:00:00
END:VEVENT
BEGIN:VEVENT
DTSTART;TZID=Africa/Johannesburg:20260421T223055
DTEND;TZID=Africa/Johannesburg:20260423T080000
DTSTAMP:20260421T223055
CREATED:20260413T143203Z
LAST-MODIFIED:20260413T143203Z
UID:137748-0-1776931200@thehomechannel.co.za
SUMMARY:000104
DESCRIPTION:“DSTV\, OVHD”
URL:https://thehomechannel.co.za/tv-schedule/000104-3/
CATEGORIES:09:00:00
END:VEVENT
BEGIN:VEVENT
DTSTART;TZID=Africa/Johannesburg:20260421T223055
DTEND;TZID=Africa/Johannesburg:20260423T090000
DTSTAMP:20260421T223055
CREATED:20260413T143203Z
LAST-MODIFIED:20260413T143203Z
UID:137749-0-1776934800@thehomechannel.co.za
SUMMARY:000105
DESCRIPTION:“DSTV\, OVHD”
URL:https://thehomechannel.co.za/tv-schedule/000105-3/
CATEGORIES:10:00:00
END:VEVENT
BEGIN:VEVENT
DTSTART;TZID=Africa/Johannesburg:20260421T223055
DTEND;TZID=Africa/Johannesburg:20260423T050000
DTSTAMP:20260421T223055
CREATED:20260413T143203Z
LAST-MODIFIED:20260413T143203Z
UID:137745-0-1776920400@thehomechannel.co.za
SUMMARY:000101
DESCRIPTION:“DSTV\, OVHD”
URL:https://thehomechannel.co.za/tv-schedule/000101-3/
CATEGORIES:06:00:00
END:VEVENT
BEGIN:VEVENT
DTSTART;TZID=Africa/Johannesburg:20260421T223055
DTEND;TZID=Africa/Johannesburg:20260423T103000
DTSTAMP:20260421T223055
CREATED:20260413T143239Z
LAST-MODIFIED:20260413T143239Z
UID:137751-0-1776940200@thehomechannel.co.za
SUMMARY:000107
DESCRIPTION:“DSTV\, OVHD”
URL:https://thehomechannel.co.za/tv-schedule/000107-3/
CATEGORIES:11:00:00
END:VEVENT
BEGIN:VEVENT
DTSTART;TZID=Africa/Johannesburg:20260421T223055
DTEND;TZID=Africa/Johannesburg:20260423T110000
DTSTAMP:20260421T223055
CREATED:20260413T143239Z
LAST-MODIFIED:20260413T143239Z
UID:137752-0-1776942000@thehomechannel.co.za
SUMMARY:000108
DESCRIPTION:“DSTV\, OVHD”
URL:https://thehomechannel.co.za/tv-schedule/000108-3/
CATEGORIES:11:30:00
END:VEVENT
BEGIN:VEVENT
DTSTART;TZID=Africa/Johannesburg:20260421T223055
DTEND;TZID=Africa/Johannesburg:20260423T113000
DTSTAMP:20260421T223055
CREATED:20260413T143239Z
LAST-MODIFIED:20260413T143239Z
UID:137753-0-1776943800@thehomechannel.co.za
SUMMARY:000109
DESCRIPTION:“DSTV\, OVHD”
URL:https://thehomechannel.co.za/tv-schedule/000109-3/
CATEGORIES:12:00:00
END:VEVENT
BEGIN:VEVENT
DTSTART;TZID=Africa/Johannesburg:20260421T223055
DTEND;TZID=Africa/Johannesburg:20260423T120000
DTSTAMP:20260421T223055
CREATED:20260413T143239Z
LAST-MODIFIED:20260413T143239Z
UID:137754-0-1776945600@thehomechannel.co.za
SUMMARY:000110
DESCRIPTION:“DSTV\, OVHD”
URL:https://thehomechannel.co.za/tv-schedule/000110-3/
CATEGORIES:13:00:00
END:VEVENT
BEGIN:VEVENT
DTSTART;TZID=Africa/Johannesburg:20260421T223055
DTEND;TZID=Africa/Johannesburg:20260423T100000
DTSTAMP:20260421T223055
CREATED:20260413T143239Z
LAST-MODIFIED:20260413T143239Z
UID:137750-0-1776938400@thehomechannel.co.za
SUMMARY:000106
DESCRIPTION:“DSTV\, OVHD”
URL:https://thehomechannel.co.za/tv-schedule/000106-3/
CATEGORIES:10:30:00
END:VEVENT
BEGIN:VEVENT
DTSTART;TZID=Africa/Johannesburg:20260421T223055
DTEND;TZID=Africa/Johannesburg:20260423T133000
DTSTAMP:20260421T223055
CREATED:20260413T143315Z
LAST-MODIFIED:20260413T143315Z
UID:137756-0-1776951000@thehomechannel.co.za
SUMMARY:000112
DESCRIPTION:“DSTV\, OVHD”
URL:https://thehomechannel.co.za/tv-schedule/000112-3/
CATEGORIES:14:00:00
END:VEVENT
BEGIN:VEVENT
DTSTART;TZID=Africa/Johannesburg:20260421T223055
DTEND;TZID=Africa/Johannesburg:20260423T140000
DTSTAMP:20260421T223055
CREATED:20260413T143315Z
LAST-MODIFIED:20260413T143315Z
UID:137757-0-1776952800@thehomechannel.co.za
SUMMARY:000113
DESCRIPTION:“DSTV\, OVHD”
URL:https://thehomechannel.co.za/tv-schedule/000113-3/
CATEGORIES:14:30:00
END:VEVENT
BEGIN:VEVENT
DTSTART;TZID=Africa/Johannesburg:20260421T223055
DTEND;TZID=Africa/Johannesburg:20260423T143000
DTSTAMP:20260421T223055
CREATED:20260413T143315Z
LAST-MODIFIED:20260413T143315Z
UID:137758-0-1776954600@thehomechannel.co.za
SUMMARY:000114
DESCRIPTION:“DSTV\, OVHD”
URL:https://thehomechannel.co.za/tv-schedule/000114-3/
CATEGORIES:15:00:00
END:VEVENT
BEGIN:VEVENT
DTSTART;TZID=Africa/Johannesburg:20260421T223055
DTEND;TZID=Africa/Johannesburg:20260423T150000
DTSTAMP:20260421T223055
CREATED:20260413T143315Z
LAST-MODIFIED:20260413T143315Z
UID:137759-0-1776956400@thehomechannel.co.za
SUMMARY:000115
DESCRIPTION:“DSTV\, OVHD”
URL:https://thehomechannel.co.za/tv-schedule/000115-3/
CATEGORIES:15:30:00
END:VEVENT
BEGIN:VEVENT
DTSTART;TZID=Africa/Johannesburg:20260421T223055
DTEND;TZID=Africa/Johannesburg:20260423T130000
DTSTAMP:20260421T223055
CREATED:20260413T143315Z
LAST-MODIFIED:20260413T143315Z
UID:137755-0-1776949200@thehomechannel.co.za
SUMMARY:000111
DESCRIPTION:“DSTV\, OVHD”
URL:https://thehomechannel.co.za/tv-schedule/000111-3/
CATEGORIES:13:30:00
END:VEVENT
BEGIN:VEVENT
DTSTART;TZID=Africa/Johannesburg:20260421T223055
DTEND;TZID=Africa/Johannesburg:20260423T170000
DTSTAMP:20260421T223055
CREATED:20260413T143348Z
LAST-MODIFIED:20260413T143348Z
UID:137762-0-1776963600@thehomechannel.co.za
SUMMARY:000118
DESCRIPTION:“DSTV\, OVHD”
URL:https://thehomechannel.co.za/tv-schedule/000118-3/
CATEGORIES:18:00:00
END:VEVENT
BEGIN:VEVENT
DTSTART;TZID=Africa/Johannesburg:20260421T223055
DTEND;TZID=Africa/Johannesburg:20260423T180000
DTSTAMP:20260421T223055
CREATED:20260413T143348Z
LAST-MODIFIED:20260413T143348Z
UID:137763-0-1776967200@thehomechannel.co.za
SUMMARY:000119
DESCRIPTION:“DSTV\, OVHD”
URL:https://thehomechannel.co.za/tv-schedule/000119-3/
CATEGORIES:18:30:00
END:VEVENT
BEGIN:VEVENT
DTSTART;TZID=Africa/Johannesburg:20260421T223055
DTEND;TZID=Africa/Johannesburg:20260423T183000
DTSTAMP:20260421T223055
CREATED:20260413T143348Z
LAST-MODIFIED:20260413T143348Z
UID:137764-0-1776969000@thehomechannel.co.za
SUMMARY:000120
DESCRIPTION:“DSTV\, OVHD”
URL:https://thehomechannel.co.za/tv-schedule/000120-3/
CATEGORIES:19:00:00
END:VEVENT
END:VCALENDAR