BEGIN:VCALENDAR
VERSION:2.0
PRODID:-//The Home Channel - ECPv6.15.11//NONSGML v1.0//EN
CALSCALE:GREGORIAN
METHOD:PUBLISH
X-ORIGINAL-URL:https://thehomechannel.co.za
X-WR-CALDESC:Events for The Home Channel
REFRESH-INTERVAL;VALUE=DURATION:PT1H
X-Robots-Tag:noindex
X-PUBLISHED-TTL:PT1H
BEGIN:VTIMEZONE
TZID:Africa/Johannesburg
BEGIN:STANDARD
TZOFFSETFROM:+0200
TZOFFSETTO:+0200
TZNAME:SAST
DTSTART:19690101T000000
END:STANDARD
END:VTIMEZONE
BEGIN:VEVENT
DTSTART;TZID=Africa/Johannesburg:20260422T190026
DTEND;TZID=Africa/Johannesburg:20260426T090000
DTSTAMP:20260422T190026
CREATED:20260413T151130Z
LAST-MODIFIED:20260413T151130Z
UID:137855-0-1777194000@thehomechannel.co.za
SUMMARY:000211
DESCRIPTION:“DSTV\, OVHD”
URL:https://thehomechannel.co.za/tv-schedule/000211-3/
CATEGORIES:09:30:00
END:VEVENT
BEGIN:VEVENT
DTSTART;TZID=Africa/Johannesburg:20260422T190026
DTEND;TZID=Africa/Johannesburg:20260426T093000
DTSTAMP:20260422T190026
CREATED:20260413T151130Z
LAST-MODIFIED:20260413T151130Z
UID:137856-0-1777195800@thehomechannel.co.za
SUMMARY:000212
DESCRIPTION:“DSTV\, OVHD”
URL:https://thehomechannel.co.za/tv-schedule/000212-3/
CATEGORIES:10:30:00
END:VEVENT
BEGIN:VEVENT
DTSTART;TZID=Africa/Johannesburg:20260422T190026
DTEND;TZID=Africa/Johannesburg:20260426T103000
DTSTAMP:20260422T190026
CREATED:20260413T151130Z
LAST-MODIFIED:20260413T151130Z
UID:137857-0-1777199400@thehomechannel.co.za
SUMMARY:000213
DESCRIPTION:“DSTV\, OVHD”
URL:https://thehomechannel.co.za/tv-schedule/000213-2/
CATEGORIES:11:00:00
END:VEVENT
BEGIN:VEVENT
DTSTART;TZID=Africa/Johannesburg:20260422T190026
DTEND;TZID=Africa/Johannesburg:20260426T110000
DTSTAMP:20260422T190026
CREATED:20260413T151130Z
LAST-MODIFIED:20260413T151130Z
UID:137858-0-1777201200@thehomechannel.co.za
SUMMARY:000214
DESCRIPTION:“DSTV\, OVHD”
URL:https://thehomechannel.co.za/tv-schedule/000214-2/
CATEGORIES:11:30:00
END:VEVENT
BEGIN:VEVENT
DTSTART;TZID=Africa/Johannesburg:20260422T190026
DTEND;TZID=Africa/Johannesburg:20260426T123000
DTSTAMP:20260422T190026
CREATED:20260413T151310Z
LAST-MODIFIED:20260413T151310Z
UID:137860-0-1777206600@thehomechannel.co.za
SUMMARY:000216
DESCRIPTION:“DSTV\, OVHD”
URL:https://thehomechannel.co.za/tv-schedule/000216-2/
CATEGORIES:13:00:00
END:VEVENT
BEGIN:VEVENT
DTSTART;TZID=Africa/Johannesburg:20260422T190026
DTEND;TZID=Africa/Johannesburg:20260426T143000
DTSTAMP:20260422T190026
CREATED:20260413T151311Z
LAST-MODIFIED:20260413T151311Z
UID:137864-0-1777213800@thehomechannel.co.za
SUMMARY:000220
DESCRIPTION:“DSTV\, OVHD”
URL:https://thehomechannel.co.za/tv-schedule/000220-2/
CATEGORIES:15:00:00
END:VEVENT
BEGIN:VEVENT
DTSTART;TZID=Africa/Johannesburg:20260422T190026
DTEND;TZID=Africa/Johannesburg:20260426T130000
DTSTAMP:20260422T190026
CREATED:20260413T151311Z
LAST-MODIFIED:20260413T151311Z
UID:137861-0-1777208400@thehomechannel.co.za
SUMMARY:000217
DESCRIPTION:“DSTV\, OVHD”
URL:https://thehomechannel.co.za/tv-schedule/000217-2/
CATEGORIES:13:30:00
END:VEVENT
BEGIN:VEVENT
DTSTART;TZID=Africa/Johannesburg:20260422T190026
DTEND;TZID=Africa/Johannesburg:20260426T133000
DTSTAMP:20260422T190026
CREATED:20260413T151311Z
LAST-MODIFIED:20260413T151311Z
UID:137862-0-1777210200@thehomechannel.co.za
SUMMARY:000218
DESCRIPTION:“DSTV\, OVHD”
URL:https://thehomechannel.co.za/tv-schedule/000218-2/
CATEGORIES:14:00:00
END:VEVENT
BEGIN:VEVENT
DTSTART;TZID=Africa/Johannesburg:20260422T190026
DTEND;TZID=Africa/Johannesburg:20260426T140000
DTSTAMP:20260422T190026
CREATED:20260413T151311Z
LAST-MODIFIED:20260413T151311Z
UID:137863-0-1777212000@thehomechannel.co.za
SUMMARY:000219
DESCRIPTION:“DSTV\, OVHD”
URL:https://thehomechannel.co.za/tv-schedule/000219-2/
CATEGORIES:14:30:00
END:VEVENT
BEGIN:VEVENT
DTSTART;TZID=Africa/Johannesburg:20260422T190026
DTEND;TZID=Africa/Johannesburg:20260426T150000
DTSTAMP:20260422T190026
CREATED:20260413T151529Z
LAST-MODIFIED:20260413T151529Z
UID:137865-0-1777215600@thehomechannel.co.za
SUMMARY:000221
DESCRIPTION:“DSTV\, OVHD”
URL:https://thehomechannel.co.za/tv-schedule/000221-2/
CATEGORIES:16:00:00
END:VEVENT
BEGIN:VEVENT
DTSTART;TZID=Africa/Johannesburg:20260422T190026
DTEND;TZID=Africa/Johannesburg:20260426T160000
DTSTAMP:20260422T190026
CREATED:20260413T151529Z
LAST-MODIFIED:20260413T151529Z
UID:137866-0-1777219200@thehomechannel.co.za
SUMMARY:000222
DESCRIPTION:“DSTV\, OVHD”
URL:https://thehomechannel.co.za/tv-schedule/000222-2/
CATEGORIES:16:30:00
END:VEVENT
BEGIN:VEVENT
DTSTART;TZID=Africa/Johannesburg:20260422T190026
DTEND;TZID=Africa/Johannesburg:20260426T163000
DTSTAMP:20260422T190026
CREATED:20260413T151529Z
LAST-MODIFIED:20260413T151529Z
UID:137867-0-1777221000@thehomechannel.co.za
SUMMARY:000223
DESCRIPTION:DSTV
URL:https://thehomechannel.co.za/tv-schedule/000223-2/
CATEGORIES:17:30:00
END:VEVENT
BEGIN:VEVENT
DTSTART;TZID=Africa/Johannesburg:20260422T190026
DTEND;TZID=Africa/Johannesburg:20260426T173000
DTSTAMP:20260422T190026
CREATED:20260413T151529Z
LAST-MODIFIED:20260413T151529Z
UID:137868-0-1777224600@thehomechannel.co.za
SUMMARY:000224
DESCRIPTION:“DSTV\, OVHD”
URL:https://thehomechannel.co.za/tv-schedule/000224-2/
CATEGORIES:18:00:00
END:VEVENT
BEGIN:VEVENT
DTSTART;TZID=Africa/Johannesburg:20260422T190026
DTEND;TZID=Africa/Johannesburg:20260426T180000
DTSTAMP:20260422T190026
CREATED:20260413T151529Z
LAST-MODIFIED:20260413T151529Z
UID:137869-0-1777226400@thehomechannel.co.za
SUMMARY:000225
DESCRIPTION:“DSTV\, OVHD”
URL:https://thehomechannel.co.za/tv-schedule/000225-2/
CATEGORIES:19:00:00
END:VEVENT
BEGIN:VEVENT
DTSTART;TZID=Africa/Johannesburg:20260422T190026
DTEND;TZID=Africa/Johannesburg:20260426T190000
DTSTAMP:20260422T190026
CREATED:20260413T151730Z
LAST-MODIFIED:20260413T151730Z
UID:137870-0-1777230000@thehomechannel.co.za
SUMMARY:000226
DESCRIPTION:“DSTV\, OVHD”
URL:https://thehomechannel.co.za/tv-schedule/000226-2/
CATEGORIES:19:30:00
END:VEVENT
BEGIN:VEVENT
DTSTART;TZID=Africa/Johannesburg:20260422T190026
DTEND;TZID=Africa/Johannesburg:20260426T193000
DTSTAMP:20260422T190026
CREATED:20260413T151731Z
LAST-MODIFIED:20260413T151731Z
UID:137871-0-1777231800@thehomechannel.co.za
SUMMARY:000227
DESCRIPTION:“DSTV\, OVHD”
URL:https://thehomechannel.co.za/tv-schedule/000227-2/
CATEGORIES:20:00:00
END:VEVENT
BEGIN:VEVENT
DTSTART;TZID=Africa/Johannesburg:20260422T190026
DTEND;TZID=Africa/Johannesburg:20260426T200000
DTSTAMP:20260422T190026
CREATED:20260413T151731Z
LAST-MODIFIED:20260413T151731Z
UID:137872-0-1777233600@thehomechannel.co.za
SUMMARY:000228
DESCRIPTION:“DSTV\, OVHD”
URL:https://thehomechannel.co.za/tv-schedule/000228-2/
CATEGORIES:21:00:00
END:VEVENT
BEGIN:VEVENT
DTSTART;TZID=Africa/Johannesburg:20260422T190026
DTEND;TZID=Africa/Johannesburg:20260426T210000
DTSTAMP:20260422T190026
CREATED:20260413T151731Z
LAST-MODIFIED:20260413T151731Z
UID:137873-0-1777237200@thehomechannel.co.za
SUMMARY:000229
DESCRIPTION:“DSTV\, OVHD”
URL:https://thehomechannel.co.za/tv-schedule/000229-2/
CATEGORIES:21:30:00
END:VEVENT
BEGIN:VEVENT
DTSTART;TZID=Africa/Johannesburg:20260422T190026
DTEND;TZID=Africa/Johannesburg:20260426T213000
DTSTAMP:20260422T190026
CREATED:20260413T151731Z
LAST-MODIFIED:20260413T151731Z
UID:137874-0-1777239000@thehomechannel.co.za
SUMMARY:000230
DESCRIPTION:“DSTV\, OVHD”
URL:https://thehomechannel.co.za/tv-schedule/000230-2/
CATEGORIES:22:00:00
END:VEVENT
BEGIN:VEVENT
DTSTART;TZID=Africa/Johannesburg:20260422T190026
DTEND;TZID=Africa/Johannesburg:20260426T220000
DTSTAMP:20260422T190026
CREATED:20260413T151909Z
LAST-MODIFIED:20260413T151909Z
UID:137875-0-1777240800@thehomechannel.co.za
SUMMARY:000231
DESCRIPTION:“DSTV\, OVHD”
URL:https://thehomechannel.co.za/tv-schedule/000231-2/
CATEGORIES:23:00:00
END:VEVENT
BEGIN:VEVENT
DTSTART;TZID=Africa/Johannesburg:20260422T190026
DTEND;TZID=Africa/Johannesburg:20260426T230000
DTSTAMP:20260422T190026
CREATED:20260413T151910Z
LAST-MODIFIED:20260413T151910Z
UID:137876-0-1777244400@thehomechannel.co.za
SUMMARY:000232
DESCRIPTION:“DSTV\, OVHD”
URL:https://thehomechannel.co.za/tv-schedule/000232-2/
CATEGORIES:23:30:00
END:VEVENT
BEGIN:VEVENT
DTSTART;TZID=Africa/Johannesburg:20260422T190026
DTEND;TZID=Africa/Johannesburg:20260427T233000
DTSTAMP:20260422T190026
CREATED:20260413T151910Z
LAST-MODIFIED:20260413T151910Z
UID:137877-0-1777332600@thehomechannel.co.za
SUMMARY:000233
DESCRIPTION:DSTV
URL:https://thehomechannel.co.za/tv-schedule/000233-2/
CATEGORIES:00:30:00
END:VEVENT
BEGIN:VEVENT
DTSTART;TZID=Africa/Johannesburg:20260422T190026
DTEND;TZID=Africa/Johannesburg:20260427T003000
DTSTAMP:20260422T190026
CREATED:20260413T151910Z
LAST-MODIFIED:20260413T151910Z
UID:137878-0-1777249800@thehomechannel.co.za
SUMMARY:000234
DESCRIPTION:“DSTV\, OVHD”
URL:https://thehomechannel.co.za/tv-schedule/000234-2/
CATEGORIES:01:00:00
END:VEVENT
BEGIN:VEVENT
DTSTART;TZID=Africa/Johannesburg:20260422T190026
DTEND;TZID=Africa/Johannesburg:20260427T010000
DTSTAMP:20260422T190026
CREATED:20260413T151910Z
LAST-MODIFIED:20260413T151910Z
UID:137879-0-1777251600@thehomechannel.co.za
SUMMARY:000235
DESCRIPTION:“DSTV\, OVHD”
URL:https://thehomechannel.co.za/tv-schedule/000235-2/
CATEGORIES:01:30:00
END:VEVENT
BEGIN:VEVENT
DTSTART;TZID=Africa/Johannesburg:20260422T190026
DTEND;TZID=Africa/Johannesburg:20260427T013000
DTSTAMP:20260422T190026
CREATED:20260413T152130Z
LAST-MODIFIED:20260413T152130Z
UID:137880-0-1777253400@thehomechannel.co.za
SUMMARY:000236
DESCRIPTION:“DSTV\, OVHD”
URL:https://thehomechannel.co.za/tv-schedule/000236-2/
CATEGORIES:02:00:00
END:VEVENT
BEGIN:VEVENT
DTSTART;TZID=Africa/Johannesburg:20260422T190026
DTEND;TZID=Africa/Johannesburg:20260427T020000
DTSTAMP:20260422T190026
CREATED:20260413T152130Z
LAST-MODIFIED:20260413T152130Z
UID:137881-0-1777255200@thehomechannel.co.za
SUMMARY:000237
DESCRIPTION:“DSTV\, OVHD”
URL:https://thehomechannel.co.za/tv-schedule/000237-2/
CATEGORIES:02:30:00
END:VEVENT
BEGIN:VEVENT
DTSTART;TZID=Africa/Johannesburg:20260422T190026
DTEND;TZID=Africa/Johannesburg:20260427T023000
DTSTAMP:20260422T190026
CREATED:20260413T152130Z
LAST-MODIFIED:20260413T152130Z
UID:137882-0-1777257000@thehomechannel.co.za
SUMMARY:000238
DESCRIPTION:“DSTV\, OVHD”
URL:https://thehomechannel.co.za/tv-schedule/000238-2/
CATEGORIES:03:30:00
END:VEVENT
BEGIN:VEVENT
DTSTART;TZID=Africa/Johannesburg:20260422T190026
DTEND;TZID=Africa/Johannesburg:20260427T033000
DTSTAMP:20260422T190026
CREATED:20260413T152130Z
LAST-MODIFIED:20260413T152130Z
UID:137883-0-1777260600@thehomechannel.co.za
SUMMARY:000239
DESCRIPTION:“DSTV\, OVHD”
URL:https://thehomechannel.co.za/tv-schedule/000239-2/
CATEGORIES:04:00:00
END:VEVENT
BEGIN:VEVENT
DTSTART;TZID=Africa/Johannesburg:20260422T190026
DTEND;TZID=Africa/Johannesburg:20260427T040000
DTSTAMP:20260422T190026
CREATED:20260413T152130Z
LAST-MODIFIED:20260413T152130Z
UID:137884-0-1777262400@thehomechannel.co.za
SUMMARY:000240
DESCRIPTION:“DSTV\, OVHD”
URL:https://thehomechannel.co.za/tv-schedule/000240-2/
CATEGORIES:04:30:00
END:VEVENT
BEGIN:VEVENT
DTSTART;TZID=Africa/Johannesburg:20260422T190026
DTEND;TZID=Africa/Johannesburg:20260427T050000
DTSTAMP:20260422T190026
CREATED:20260413T152330Z
LAST-MODIFIED:20260413T152330Z
UID:137886-0-1777266000@thehomechannel.co.za
SUMMARY:000242
DESCRIPTION:“DSTV\, OVHD”
URL:https://thehomechannel.co.za/tv-schedule/000242-2/
CATEGORIES:06:00:00
END:VEVENT
END:VCALENDAR