BEGIN:VCALENDAR
VERSION:2.0
PRODID:-//The Home Channel - ECPv6.15.11//NONSGML v1.0//EN
CALSCALE:GREGORIAN
METHOD:PUBLISH
X-WR-CALNAME:The Home Channel
X-ORIGINAL-URL:https://thehomechannel.co.za
X-WR-CALDESC:Events for The Home Channel
REFRESH-INTERVAL;VALUE=DURATION:PT1H
X-Robots-Tag:noindex
X-PUBLISHED-TTL:PT1H
BEGIN:VTIMEZONE
TZID:Africa/Johannesburg
BEGIN:STANDARD
TZOFFSETFROM:+0200
TZOFFSETTO:+0200
TZNAME:SAST
DTSTART:20240101T000000
END:STANDARD
END:VTIMEZONE
BEGIN:VEVENT
DTSTART;TZID=Africa/Johannesburg:20251008T063000
DTEND;TZID=Africa/Johannesburg:20251008T070000
DTSTAMP:20260423T031936
CREATED:20250828T174108Z
LAST-MODIFIED:20250828T174108Z
UID:114989-1759905000-1759906800@thehomechannel.co.za
SUMMARY:All About Property
DESCRIPTION:Getting a divorce? What happens to the property; clearing your name from the ‘blacklist’ before a home loan application; and property investing with little or no money down.
URL:https://thehomechannel.co.za/tv-schedule/all-about-property-410/
CATEGORIES:OVHD
ATTACH;FMTTYPE=image/jpeg:https://thehomechannel.co.za/wp-content/uploads/2025/05/AAP-With-Logo-V2-scaled.jpg
END:VEVENT
BEGIN:VEVENT
DTSTART;TZID=Africa/Johannesburg:20251008T060000
DTEND;TZID=Africa/Johannesburg:20251008T070000
DTSTAMP:20260423T031936
CREATED:20250828T154750Z
LAST-MODIFIED:20250828T154750Z
UID:113677-1759903200-1759906800@thehomechannel.co.za
SUMMARY:Homemark
DESCRIPTION:Infomercial
URL:https://thehomechannel.co.za/tv-schedule/homemark-1315/
CATEGORIES:DSTV
END:VEVENT
BEGIN:VEVENT
DTSTART;TZID=Africa/Johannesburg:20251008T060000
DTEND;TZID=Africa/Johannesburg:20251008T063000
DTSTAMP:20260423T031936
CREATED:20250828T174108Z
LAST-MODIFIED:20250828T174108Z
UID:114988-1759903200-1759905000@thehomechannel.co.za
SUMMARY:Ten Minute Kitchen
DESCRIPTION:We start with an all-time favourite and a go to recipe when we often struggle to decide what to cook. One of the things often found in the pantry is pasta and the episode starts with Scott Pickett’s Rigatoni Sausage Ragu.
URL:https://thehomechannel.co.za/tv-schedule/ten-minute-kitchen-143/
CATEGORIES:DSTV,OVHD
ATTACH;FMTTYPE=image/jpeg:https://thehomechannel.co.za/wp-content/uploads/2024/10/framegrab-scott.jpg
END:VEVENT
BEGIN:VEVENT
DTSTART;TZID=Africa/Johannesburg:20251008T050000
DTEND;TZID=Africa/Johannesburg:20251008T060000
DTSTAMP:20260423T031936
CREATED:20250828T174108Z
LAST-MODIFIED:20250828T174108Z
UID:114987-1759899600-1759903200@thehomechannel.co.za
SUMMARY:Grand Designs New Zealand
DESCRIPTION:Civil engineer Charles Webster\, driven by a love for challenging designs\, is building a crescent-shaped home on his Coromandel site\, inspired by desert dunes.
URL:https://thehomechannel.co.za/tv-schedule/grand-designs-new-zealand-444/
CATEGORIES:DSTV,OVHD
ATTACH;FMTTYPE=image/jpeg:https://thehomechannel.co.za/wp-content/uploads/2025/08/152A7005-scaled.jpg
END:VEVENT
BEGIN:VEVENT
DTSTART;TZID=Africa/Johannesburg:20251008T050000
DTEND;TZID=Africa/Johannesburg:20251008T060000
DTSTAMP:20260423T031936
CREATED:20250828T154750Z
LAST-MODIFIED:20250828T154750Z
UID:113676-1759899600-1759903200@thehomechannel.co.za
SUMMARY:Homemark
DESCRIPTION:Infomercial
URL:https://thehomechannel.co.za/tv-schedule/homemark-1314/
CATEGORIES:DSTV
END:VEVENT
BEGIN:VEVENT
DTSTART;TZID=Africa/Johannesburg:20251008T040000
DTEND;TZID=Africa/Johannesburg:20251008T050000
DTSTAMP:20260423T031936
CREATED:20250828T154750Z
LAST-MODIFIED:20250828T174040Z
UID:113675-1759896000-1759899600@thehomechannel.co.za
SUMMARY:Scott's Vacation House Rules
DESCRIPTION:In every episode Scott McGillivray helps make homeowner’s dreams come true by unlocking the hidden potential in their dated\, uninspired vacation property.
URL:https://thehomechannel.co.za/tv-schedule/scotts-vacation-house-rules-291/
CATEGORIES:DSTV,OVHD
END:VEVENT
BEGIN:VEVENT
DTSTART;TZID=Africa/Johannesburg:20251008T033000
DTEND;TZID=Africa/Johannesburg:20251008T040000
DTSTAMP:20260423T031936
CREATED:20250828T154749Z
LAST-MODIFIED:20250828T174040Z
UID:113674-1759894200-1759896000@thehomechannel.co.za
SUMMARY:Freshly Picked With Simon Toohey
DESCRIPTION:Zacchary Bird is in the kitchen reinventing a classic with his Tomato Lox & Schmear Bagels and Simon does something different too with his Asian Style Guac.
URL:https://thehomechannel.co.za/tv-schedule/freshly-picked-with-simon-toohey-340/
CATEGORIES:DSTV,OVHD
ATTACH;FMTTYPE=image/jpeg:https://thehomechannel.co.za/wp-content/uploads/2024/06/FPST_Simon_Toohey_2A2A8565-scaled-e1717403506786.jpg
END:VEVENT
BEGIN:VEVENT
DTSTART;TZID=Africa/Johannesburg:20251008T030000
DTEND;TZID=Africa/Johannesburg:20251008T033000
DTSTAMP:20260423T031936
CREATED:20250828T154727Z
LAST-MODIFIED:20250828T174040Z
UID:113673-1759892400-1759894200@thehomechannel.co.za
SUMMARY:Ten Minute Kitchen
DESCRIPTION:We start with an all-time favourite and a go to recipe when we often struggle to decide what to cook. One of the things often found in the pantry is pasta and the episode starts with Scott Pickett’s Rigatoni Sausage Ragu.
URL:https://thehomechannel.co.za/tv-schedule/ten-minute-kitchen-134/
CATEGORIES:DSTV,OVHD
ATTACH;FMTTYPE=image/jpeg:https://thehomechannel.co.za/wp-content/uploads/2024/10/framegrab-scott.jpg
END:VEVENT
BEGIN:VEVENT
DTSTART;TZID=Africa/Johannesburg:20251008T023000
DTEND;TZID=Africa/Johannesburg:20251008T030000
DTSTAMP:20260423T031936
CREATED:20250828T174040Z
LAST-MODIFIED:20250828T174040Z
UID:114983-1759890600-1759892400@thehomechannel.co.za
SUMMARY:Finest Homes
DESCRIPTION:We visit a home designed by kimh.nieu\, where art plays the lead role. We chat to an art curator about the journey of collecting art and look at the principles of an eclectic mood board.
URL:https://thehomechannel.co.za/tv-schedule/finest-homes-639/
CATEGORIES:OVHD
ATTACH;FMTTYPE=image/jpeg:https://thehomechannel.co.za/wp-content/uploads/2025/04/FH_S7_Palesa-6-scaled.jpg
END:VEVENT
BEGIN:VEVENT
DTSTART;TZID=Africa/Johannesburg:20251008T023000
DTEND;TZID=Africa/Johannesburg:20251008T030000
DTSTAMP:20260423T031936
CREATED:20250828T154727Z
LAST-MODIFIED:20250828T154727Z
UID:113672-1759890600-1759892400@thehomechannel.co.za
SUMMARY:Find me a Beach House
DESCRIPTION:Brigitta and Olivier love Sydney Harbour and its gorgeous beaches. They seek for their dream beach home in Mosman. A home to settle down in for at least the next 10 years to provide stability for their young family.
URL:https://thehomechannel.co.za/tv-schedule/find-me-a-beach-house-20/
CATEGORIES:DSTV
ATTACH;FMTTYPE=image/jpeg:https://thehomechannel.co.za/wp-content/uploads/2025/09/EDITED-10-190612_FMABH_Deborah_Hutton_Publicity_0152-scaled.jpg
END:VEVENT
BEGIN:VEVENT
DTSTART;TZID=Africa/Johannesburg:20251008T020000
DTEND;TZID=Africa/Johannesburg:20251008T023000
DTSTAMP:20260423T031936
CREATED:20250828T174040Z
LAST-MODIFIED:20250828T174040Z
UID:114982-1759888800-1759890600@thehomechannel.co.za
SUMMARY:Tia Mowry's Weekend Refresh
DESCRIPTION:Tia Mowry helps new parents Akash & Vrunda turn their bar space into the perfect playroom for their toddler.
URL:https://thehomechannel.co.za/tv-schedule/tia-mowrys-weekend-refresh-15/
CATEGORIES:OVHD
END:VEVENT
BEGIN:VEVENT
DTSTART;TZID=Africa/Johannesburg:20251008T020000
DTEND;TZID=Africa/Johannesburg:20251008T023000
DTSTAMP:20260423T031936
CREATED:20250828T154727Z
LAST-MODIFIED:20250828T154727Z
UID:113671-1759888800-1759890600@thehomechannel.co.za
SUMMARY:Australia's Best House
DESCRIPTION:Host Megan Gales and the judges are looking for homes with character that can be in the running to be titled Australia’s Best House. We meet Anita who walks us through a home that takes ‘Australian Hamptons Style’ to a whole new level.
URL:https://thehomechannel.co.za/tv-schedule/australias-best-house-13/
CATEGORIES:DSTV
END:VEVENT
BEGIN:VEVENT
DTSTART;TZID=Africa/Johannesburg:20251008T010000
DTEND;TZID=Africa/Johannesburg:20251008T020000
DTSTAMP:20260423T031936
CREATED:20250828T154726Z
LAST-MODIFIED:20250828T174001Z
UID:113670-1759885200-1759888800@thehomechannel.co.za
SUMMARY:Grand Designs New Zealand
DESCRIPTION:Civil engineer Charles Webster\, driven by a love for challenging designs\, is building a crescent-shaped home on his Coromandel site\, inspired by desert dunes.
URL:https://thehomechannel.co.za/tv-schedule/grand-designs-new-zealand-426/
CATEGORIES:DSTV,OVHD
ATTACH;FMTTYPE=image/jpeg:https://thehomechannel.co.za/wp-content/uploads/2025/08/152A7005-scaled.jpg
END:VEVENT
BEGIN:VEVENT
DTSTART;TZID=Africa/Johannesburg:20251008T000000
DTEND;TZID=Africa/Johannesburg:20251008T010000
DTSTAMP:20260423T031936
CREATED:20250828T173959Z
LAST-MODIFIED:20250828T174001Z
UID:114977-1759881600-1759885200@thehomechannel.co.za
SUMMARY:Rochelle Humes: Interior Designer in the Making
DESCRIPTION:Rochelle redesigns a newly bought house belonging to NHS workers Ali and Shareen. Expecting their first baby and keen for a ‘wow’ factor
URL:https://thehomechannel.co.za/tv-schedule/rochelle-humes-interior-designer-in-the-making-153/
CATEGORIES:DSTV,OVHD
ATTACH;FMTTYPE=image/jpeg:https://thehomechannel.co.za/wp-content/uploads/2024/05/rochelle-humes.jpg
END:VEVENT
BEGIN:VEVENT
DTSTART;TZID=Africa/Johannesburg:20251008T000000
DTEND;TZID=Africa/Johannesburg:20251008T010000
DTSTAMP:20260423T031936
CREATED:20250828T154726Z
LAST-MODIFIED:20250828T154726Z
UID:113669-1759881600-1759885200@thehomechannel.co.za
SUMMARY:Homemark
DESCRIPTION:Infomercial
URL:https://thehomechannel.co.za/tv-schedule/homemark-1313/
CATEGORIES:DSTV
END:VEVENT
BEGIN:VEVENT
DTSTART;TZID=Africa/Johannesburg:20251007T230000
DTEND;TZID=Africa/Johannesburg:20251008T000000
DTSTAMP:20260423T031936
CREATED:20250828T173959Z
LAST-MODIFIED:20250828T174001Z
UID:114976-1759878000-1759881600@thehomechannel.co.za
SUMMARY:Clean It\, Fix it
DESCRIPTION:The Clean It Fix It team is in Chelmsford to help a busy family of four.
URL:https://thehomechannel.co.za/tv-schedule/clean-it-fix-it-49/
CATEGORIES:OVHD
END:VEVENT
BEGIN:VEVENT
DTSTART;TZID=Africa/Johannesburg:20251007T230000
DTEND;TZID=Africa/Johannesburg:20251008T000000
DTSTAMP:20260423T031936
CREATED:20250828T154706Z
LAST-MODIFIED:20250828T154706Z
UID:113668-1759878000-1759881600@thehomechannel.co.za
SUMMARY:Your Home\, Made Perfect UK
DESCRIPTION:Two ingenious designs come to life using virtual reality\, helping a couple from Grantham realise their dream home.
URL:https://thehomechannel.co.za/tv-schedule/your-home-made-perfect-uk-115/
CATEGORIES:DSTV
END:VEVENT
BEGIN:VEVENT
DTSTART;TZID=Africa/Johannesburg:20251007T223000
DTEND;TZID=Africa/Johannesburg:20251007T230000
DTSTAMP:20260423T031936
CREATED:20250828T173958Z
LAST-MODIFIED:20250828T174001Z
UID:114975-1759876200-1759878000@thehomechannel.co.za
SUMMARY:Finest Homes
DESCRIPTION:We visit a home designed by kimh.nieu\, where art plays the lead role. We chat to an art curator about the journey of collecting art and look at the principles of an eclectic mood board.
URL:https://thehomechannel.co.za/tv-schedule/finest-homes-638/
CATEGORIES:OVHD
ATTACH;FMTTYPE=image/jpeg:https://thehomechannel.co.za/wp-content/uploads/2025/04/FH_S7_Palesa-6-scaled.jpg
END:VEVENT
BEGIN:VEVENT
DTSTART;TZID=Africa/Johannesburg:20251007T223000
DTEND;TZID=Africa/Johannesburg:20251007T230000
DTSTAMP:20260423T031936
CREATED:20250828T154706Z
LAST-MODIFIED:20250828T154706Z
UID:113667-1759876200-1759878000@thehomechannel.co.za
SUMMARY:Find me a Beach House
DESCRIPTION:Brigitta and Olivier love Sydney Harbour and its gorgeous beaches. They seek for their dream beach home in Mosman. A home to settle down in for at least the next 10 years to provide stability for their young family.
URL:https://thehomechannel.co.za/tv-schedule/find-me-a-beach-house-19/
CATEGORIES:DSTV
ATTACH;FMTTYPE=image/jpeg:https://thehomechannel.co.za/wp-content/uploads/2025/09/EDITED-10-190612_FMABH_Deborah_Hutton_Publicity_0152-scaled.jpg
END:VEVENT
BEGIN:VEVENT
DTSTART;TZID=Africa/Johannesburg:20251007T220000
DTEND;TZID=Africa/Johannesburg:20251007T223000
DTSTAMP:20260423T031936
CREATED:20250828T154705Z
LAST-MODIFIED:20250828T174001Z
UID:113666-1759874400-1759876200@thehomechannel.co.za
SUMMARY:Open Homes
DESCRIPTION:James starts in a zero net eco home. A kitchen tip and recipe you can use at home. Dave shows us the biggest landscape to date and Mike gets a tour of Stephen Moore’s home.
URL:https://thehomechannel.co.za/tv-schedule/open-homes-410/
CATEGORIES:DSTV,OVHD
ATTACH;FMTTYPE=image/jpeg:https://thehomechannel.co.za/wp-content/uploads/2025/07/Copy-of-RSR_MC_HeroShot_RAW-1-scaled.jpg
END:VEVENT
BEGIN:VEVENT
DTSTART;TZID=Africa/Johannesburg:20251007T213000
DTEND;TZID=Africa/Johannesburg:20251007T220000
DTSTAMP:20260423T031936
CREATED:20250828T173922Z
LAST-MODIFIED:20250828T173922Z
UID:114973-1759872600-1759874400@thehomechannel.co.za
SUMMARY:All About Property
DESCRIPTION:Getting a divorce? What happens to the property; clearing your name from the ‘blacklist’ before a home loan application; and property investing with little or no money down.
URL:https://thehomechannel.co.za/tv-schedule/all-about-property-409/
CATEGORIES:OVHD
ATTACH;FMTTYPE=image/jpeg:https://thehomechannel.co.za/wp-content/uploads/2025/05/AAP-With-Logo-V2-scaled.jpg
END:VEVENT
BEGIN:VEVENT
DTSTART;TZID=Africa/Johannesburg:20251007T213000
DTEND;TZID=Africa/Johannesburg:20251007T220000
DTSTAMP:20260423T031936
CREATED:20250828T154705Z
LAST-MODIFIED:20250828T154705Z
UID:113665-1759872600-1759874400@thehomechannel.co.za
SUMMARY:Dream Homes Revealed
DESCRIPTION:This week we will be checking out a home that mixes an industrial past with an urban present. It could be the size of a block\, a souring ceiling or something incredibly grand.
URL:https://thehomechannel.co.za/tv-schedule/dream-homes-revealed-79/
CATEGORIES:DSTV
ATTACH;FMTTYPE=image/png:https://thehomechannel.co.za/wp-content/uploads/2023/05/image-1000x592-14.png
END:VEVENT
BEGIN:VEVENT
DTSTART;TZID=Africa/Johannesburg:20251007T210000
DTEND;TZID=Africa/Johannesburg:20251007T213000
DTSTAMP:20260423T031936
CREATED:20250828T154705Z
LAST-MODIFIED:20250828T173921Z
UID:113664-1759870800-1759872600@thehomechannel.co.za
SUMMARY:The Gardener and Friends
DESCRIPTION:Join Tanya Visser and her gardening friends as they showcase stunning gardens by top designers\, offer easy DIY projects\, and keep viewers updated on the latest gardening tools.
URL:https://thehomechannel.co.za/tv-schedule/the-gardener-and-friends-196/
CATEGORIES:DSTV,OVHD
END:VEVENT
BEGIN:VEVENT
DTSTART;TZID=Africa/Johannesburg:20251007T203000
DTEND;TZID=Africa/Johannesburg:20251007T210000
DTSTAMP:20260423T031936
CREATED:20250828T154645Z
LAST-MODIFIED:20250828T173921Z
UID:113663-1759869000-1759870800@thehomechannel.co.za
SUMMARY:Carlo's Reno Rescue
DESCRIPTION:Carlos\, Jarrod and Jewel are renovating an outdoor area at a cattery to help abandoned cats and support local hero Charmaine Wolmarans.
URL:https://thehomechannel.co.za/tv-schedule/carlos-reno-rescue-4/
CATEGORIES:DSTV,OVHD
END:VEVENT
BEGIN:VEVENT
DTSTART;TZID=Africa/Johannesburg:20251007T200000
DTEND;TZID=Africa/Johannesburg:20251007T203000
DTSTAMP:20260423T031936
CREATED:20250828T154644Z
LAST-MODIFIED:20250828T173921Z
UID:113662-1759867200-1759869000@thehomechannel.co.za
SUMMARY:Real Health
DESCRIPTION:We delve deeper into the causes and risk factors of Sexual Dysfunction in women as well as some of the steps to take when seeking help.
URL:https://thehomechannel.co.za/tv-schedule/real-health-1032/
CATEGORIES:DSTV,OVHD
ATTACH;FMTTYPE=image/jpeg:https://thehomechannel.co.za/wp-content/uploads/2025/03/Real-Health-4-EDIT.jpg
END:VEVENT
BEGIN:VEVENT
DTSTART;TZID=Africa/Johannesburg:20251007T193000
DTEND;TZID=Africa/Johannesburg:20251007T200000
DTSTAMP:20260423T031936
CREATED:20250828T173921Z
LAST-MODIFIED:20250828T173921Z
UID:114969-1759865400-1759867200@thehomechannel.co.za
SUMMARY:Tia Mowry's Weekend Refresh
DESCRIPTION:Tia Mowry helps new parents Akash & Vrunda turn their bar space into the perfect playroom for their toddler.
URL:https://thehomechannel.co.za/tv-schedule/tia-mowrys-weekend-refresh-14/
CATEGORIES:OVHD
END:VEVENT
BEGIN:VEVENT
DTSTART;TZID=Africa/Johannesburg:20251007T193000
DTEND;TZID=Africa/Johannesburg:20251007T200000
DTSTAMP:20260423T031936
CREATED:20250828T154644Z
LAST-MODIFIED:20250828T154644Z
UID:113661-1759865400-1759867200@thehomechannel.co.za
SUMMARY:Australia's Best House
DESCRIPTION:Host Megan Gales and the judges are looking for homes with character that can be in the running to be titled Australia’s Best House. We meet Anita who walks us through a home that takes ‘Australian Hamptons Style’ to a whole new level.
URL:https://thehomechannel.co.za/tv-schedule/australias-best-house-12/
CATEGORIES:DSTV
END:VEVENT
BEGIN:VEVENT
DTSTART;TZID=Africa/Johannesburg:20251007T190000
DTEND;TZID=Africa/Johannesburg:20251007T193000
DTSTAMP:20260423T031936
CREATED:20250828T154644Z
LAST-MODIFIED:20250828T173845Z
UID:113660-1759863600-1759865400@thehomechannel.co.za
SUMMARY:Design For You
DESCRIPTION:Vinette Nicholls transforms a house into a home with functionality\, practicality\, and personality. Kehumile Mate explores how architecture and interior design create masterpiece homes
URL:https://thehomechannel.co.za/tv-schedule/design-for-you-465/
CATEGORIES:DSTV,OVHD
ATTACH;FMTTYPE=image/jpeg:https://thehomechannel.co.za/wp-content/uploads/2025/04/MIC_8151-edit-1-scaled.jpg
END:VEVENT
BEGIN:VEVENT
DTSTART;TZID=Africa/Johannesburg:20251007T183000
DTEND;TZID=Africa/Johannesburg:20251007T190000
DTSTAMP:20260423T031936
CREATED:20250828T173843Z
LAST-MODIFIED:20250828T173845Z
UID:114966-1759861800-1759863600@thehomechannel.co.za
SUMMARY:All About Property
DESCRIPTION:Getting a divorce? What happens to the property; clearing your name from the ‘blacklist’ before a home loan application; and property investing with little or no money down.
URL:https://thehomechannel.co.za/tv-schedule/all-about-property-408/
CATEGORIES:OVHD
ATTACH;FMTTYPE=image/jpeg:https://thehomechannel.co.za/wp-content/uploads/2025/05/AAP-With-Logo-V2-scaled.jpg
END:VEVENT
BEGIN:VEVENT
DTSTART;TZID=Africa/Johannesburg:20251007T183000
DTEND;TZID=Africa/Johannesburg:20251007T190000
DTSTAMP:20260423T031936
CREATED:20250828T154644Z
LAST-MODIFIED:20250828T154644Z
UID:113659-1759861800-1759863600@thehomechannel.co.za
SUMMARY:Dream Homes Revealed
DESCRIPTION:This week we will be checking out a home that mixes an industrial past with an urban present. It could be the size of a block\, a souring ceiling or something incredibly grand.
URL:https://thehomechannel.co.za/tv-schedule/dream-homes-revealed-78/
CATEGORIES:DSTV
ATTACH;FMTTYPE=image/png:https://thehomechannel.co.za/wp-content/uploads/2023/05/image-1000x592-14.png
END:VEVENT
END:VCALENDAR