BEGIN:VCALENDAR
VERSION:2.0
PRODID:-//The Home Channel - ECPv6.15.11//NONSGML v1.0//EN
CALSCALE:GREGORIAN
METHOD:PUBLISH
X-ORIGINAL-URL:https://thehomechannel.co.za
X-WR-CALDESC:Events for The Home Channel
REFRESH-INTERVAL;VALUE=DURATION:PT1H
X-Robots-Tag:noindex
X-PUBLISHED-TTL:PT1H
BEGIN:VTIMEZONE
TZID:Africa/Johannesburg
BEGIN:STANDARD
TZOFFSETFROM:+0200
TZOFFSETTO:+0200
TZNAME:SAST
DTSTART:19690101T000000
END:STANDARD
END:VTIMEZONE
BEGIN:VEVENT
DTSTART;TZID=Africa/Johannesburg:20260421T110545
DTEND;TZID=Africa/Johannesburg:20260424T123000
DTSTAMP:20260421T110545
CREATED:20260413T144309Z
LAST-MODIFIED:20260413T144309Z
UID:137789-0-1777033800@thehomechannel.co.za
SUMMARY:000145
DESCRIPTION:“DSTV\, OVHD”
URL:https://thehomechannel.co.za/tv-schedule/000145-3/
CATEGORIES:13:00:00
END:VEVENT
BEGIN:VEVENT
DTSTART;TZID=Africa/Johannesburg:20260421T110545
DTEND;TZID=Africa/Johannesburg:20260424T140000
DTSTAMP:20260421T110545
CREATED:20260413T144516Z
LAST-MODIFIED:20260413T144516Z
UID:137791-0-1777039200@thehomechannel.co.za
SUMMARY:000147
DESCRIPTION:“DSTV\, OVHD”
URL:https://thehomechannel.co.za/tv-schedule/000147-3/
CATEGORIES:14:30:00
END:VEVENT
BEGIN:VEVENT
DTSTART;TZID=Africa/Johannesburg:20260421T110545
DTEND;TZID=Africa/Johannesburg:20260424T143000
DTSTAMP:20260421T110545
CREATED:20260413T144516Z
LAST-MODIFIED:20260413T144516Z
UID:137792-0-1777041000@thehomechannel.co.za
SUMMARY:000148
DESCRIPTION:“DSTV\, OVHD”
URL:https://thehomechannel.co.za/tv-schedule/000148-3/
CATEGORIES:15:00:00
END:VEVENT
BEGIN:VEVENT
DTSTART;TZID=Africa/Johannesburg:20260421T110545
DTEND;TZID=Africa/Johannesburg:20260424T150000
DTSTAMP:20260421T110545
CREATED:20260413T144516Z
LAST-MODIFIED:20260413T144516Z
UID:137793-0-1777042800@thehomechannel.co.za
SUMMARY:000149
DESCRIPTION:“DSTV\, OVHD”
URL:https://thehomechannel.co.za/tv-schedule/000149-3/
CATEGORIES:15:30:00
END:VEVENT
BEGIN:VEVENT
DTSTART;TZID=Africa/Johannesburg:20260421T110545
DTEND;TZID=Africa/Johannesburg:20260424T153000
DTSTAMP:20260421T110545
CREATED:20260413T144516Z
LAST-MODIFIED:20260413T144516Z
UID:137794-0-1777044600@thehomechannel.co.za
SUMMARY:000150
DESCRIPTION:“DSTV\, OVHD”
URL:https://thehomechannel.co.za/tv-schedule/000150-3/
CATEGORIES:16:00:00
END:VEVENT
BEGIN:VEVENT
DTSTART;TZID=Africa/Johannesburg:20260421T110545
DTEND;TZID=Africa/Johannesburg:20260424T130000
DTSTAMP:20260421T110545
CREATED:20260413T144516Z
LAST-MODIFIED:20260413T144516Z
UID:137790-0-1777035600@thehomechannel.co.za
SUMMARY:000146
DESCRIPTION:“DSTV\, OVHD”
URL:https://thehomechannel.co.za/tv-schedule/000146-3/
CATEGORIES:14:00:00
END:VEVENT
BEGIN:VEVENT
DTSTART;TZID=Africa/Johannesburg:20260421T110545
DTEND;TZID=Africa/Johannesburg:20260424T163000
DTSTAMP:20260421T110545
CREATED:20260413T144731Z
LAST-MODIFIED:20260413T144731Z
UID:137796-0-1777048200@thehomechannel.co.za
SUMMARY:000152
DESCRIPTION:“DSTV\, OVHD”
URL:https://thehomechannel.co.za/tv-schedule/000152-3/
CATEGORIES:17:00:00
END:VEVENT
BEGIN:VEVENT
DTSTART;TZID=Africa/Johannesburg:20260421T110545
DTEND;TZID=Africa/Johannesburg:20260424T170000
DTSTAMP:20260421T110545
CREATED:20260413T144731Z
LAST-MODIFIED:20260413T144731Z
UID:137797-0-1777050000@thehomechannel.co.za
SUMMARY:000153
DESCRIPTION:“DSTV\, OVHD”
URL:https://thehomechannel.co.za/tv-schedule/000153-3/
CATEGORIES:17:30:00
END:VEVENT
BEGIN:VEVENT
DTSTART;TZID=Africa/Johannesburg:20260421T110545
DTEND;TZID=Africa/Johannesburg:20260424T173000
DTSTAMP:20260421T110545
CREATED:20260413T144731Z
LAST-MODIFIED:20260413T144731Z
UID:137798-0-1777051800@thehomechannel.co.za
SUMMARY:000154
DESCRIPTION:“DSTV\, OVHD”
URL:https://thehomechannel.co.za/tv-schedule/000154-3/
CATEGORIES:18:00:00
END:VEVENT
BEGIN:VEVENT
DTSTART;TZID=Africa/Johannesburg:20260421T110545
DTEND;TZID=Africa/Johannesburg:20260424T180000
DTSTAMP:20260421T110545
CREATED:20260413T144731Z
LAST-MODIFIED:20260413T144731Z
UID:137799-0-1777053600@thehomechannel.co.za
SUMMARY:000155
DESCRIPTION:“DSTV\, OVHD”
URL:https://thehomechannel.co.za/tv-schedule/000155-3/
CATEGORIES:19:00:00
END:VEVENT
BEGIN:VEVENT
DTSTART;TZID=Africa/Johannesburg:20260421T110545
DTEND;TZID=Africa/Johannesburg:20260424T160000
DTSTAMP:20260421T110545
CREATED:20260413T144731Z
LAST-MODIFIED:20260413T144731Z
UID:137795-0-1777046400@thehomechannel.co.za
SUMMARY:000151
DESCRIPTION:“DSTV\, OVHD”
URL:https://thehomechannel.co.za/tv-schedule/000151-3/
CATEGORIES:16:30:00
END:VEVENT
BEGIN:VEVENT
DTSTART;TZID=Africa/Johannesburg:20260421T110545
DTEND;TZID=Africa/Johannesburg:20260424T200000
DTSTAMP:20260421T110545
CREATED:20260413T144919Z
LAST-MODIFIED:20260413T144919Z
UID:137801-0-1777060800@thehomechannel.co.za
SUMMARY:000157
DESCRIPTION:“DSTV\, OVHD”
URL:https://thehomechannel.co.za/tv-schedule/000157-3/
CATEGORIES:21:00:00
END:VEVENT
BEGIN:VEVENT
DTSTART;TZID=Africa/Johannesburg:20260421T110545
DTEND;TZID=Africa/Johannesburg:20260424T210000
DTSTAMP:20260421T110545
CREATED:20260413T144919Z
LAST-MODIFIED:20260413T144919Z
UID:137802-0-1777064400@thehomechannel.co.za
SUMMARY:000158
DESCRIPTION:“DSTV\, OVHD”
URL:https://thehomechannel.co.za/tv-schedule/000158-3/
CATEGORIES:22:00:00
END:VEVENT
BEGIN:VEVENT
DTSTART;TZID=Africa/Johannesburg:20260421T110545
DTEND;TZID=Africa/Johannesburg:20260424T220000
DTSTAMP:20260421T110545
CREATED:20260413T144919Z
LAST-MODIFIED:20260413T144919Z
UID:137803-0-1777068000@thehomechannel.co.za
SUMMARY:000159
DESCRIPTION:“DSTV\, OVHD”
URL:https://thehomechannel.co.za/tv-schedule/000159-3/
CATEGORIES:22:30:00
END:VEVENT
BEGIN:VEVENT
DTSTART;TZID=Africa/Johannesburg:20260421T110545
DTEND;TZID=Africa/Johannesburg:20260424T223000
DTSTAMP:20260421T110545
CREATED:20260413T144919Z
LAST-MODIFIED:20260413T144919Z
UID:137804-0-1777069800@thehomechannel.co.za
SUMMARY:000160
DESCRIPTION:“DSTV\, OVHD”
URL:https://thehomechannel.co.za/tv-schedule/000160-3/
CATEGORIES:23:00:00
END:VEVENT
BEGIN:VEVENT
DTSTART;TZID=Africa/Johannesburg:20260421T110545
DTEND;TZID=Africa/Johannesburg:20260424T190000
DTSTAMP:20260421T110545
CREATED:20260413T144919Z
LAST-MODIFIED:20260413T144919Z
UID:137800-0-1777057200@thehomechannel.co.za
SUMMARY:000156
DESCRIPTION:DSTV
URL:https://thehomechannel.co.za/tv-schedule/000156-3/
CATEGORIES:20:00:00
END:VEVENT
BEGIN:VEVENT
DTSTART;TZID=Africa/Johannesburg:20260421T110545
DTEND;TZID=Africa/Johannesburg:20260425T000000
DTSTAMP:20260421T110545
CREATED:20260413T145132Z
LAST-MODIFIED:20260413T145132Z
UID:137807-0-1777075200@thehomechannel.co.za
SUMMARY:000163
DESCRIPTION:“DSTV\, OVHD”
URL:https://thehomechannel.co.za/tv-schedule/000163-3/
CATEGORIES:01:00:00
END:VEVENT
BEGIN:VEVENT
DTSTART;TZID=Africa/Johannesburg:20260421T110545
DTEND;TZID=Africa/Johannesburg:20260425T010000
DTSTAMP:20260421T110545
CREATED:20260413T145132Z
LAST-MODIFIED:20260413T145132Z
UID:137808-0-1777078800@thehomechannel.co.za
SUMMARY:000164
DESCRIPTION:“DSTV\, OVHD”
URL:https://thehomechannel.co.za/tv-schedule/000164-3/
CATEGORIES:02:00:00
END:VEVENT
BEGIN:VEVENT
DTSTART;TZID=Africa/Johannesburg:20260421T110545
DTEND;TZID=Africa/Johannesburg:20260425T020000
DTSTAMP:20260421T110545
CREATED:20260413T145132Z
LAST-MODIFIED:20260413T145132Z
UID:137809-0-1777082400@thehomechannel.co.za
SUMMARY:000165
DESCRIPTION:“DSTV\, OVHD”
URL:https://thehomechannel.co.za/tv-schedule/000165-3/
CATEGORIES:02:30:00
END:VEVENT
BEGIN:VEVENT
DTSTART;TZID=Africa/Johannesburg:20260421T110545
DTEND;TZID=Africa/Johannesburg:20260424T230000
DTSTAMP:20260421T110545
CREATED:20260413T145132Z
LAST-MODIFIED:20260413T145132Z
UID:137805-0-1777071600@thehomechannel.co.za
SUMMARY:000161
DESCRIPTION:“DSTV\, OVHD”
URL:https://thehomechannel.co.za/tv-schedule/000161-3/
CATEGORIES:23:30:00
END:VEVENT
BEGIN:VEVENT
DTSTART;TZID=Africa/Johannesburg:20260421T110545
DTEND;TZID=Africa/Johannesburg:20260425T233000
DTSTAMP:20260421T110545
CREATED:20260413T145132Z
LAST-MODIFIED:20260413T145132Z
UID:137806-0-1777159800@thehomechannel.co.za
SUMMARY:000162
DESCRIPTION:“DSTV\, OVHD”
URL:https://thehomechannel.co.za/tv-schedule/000162-3/
CATEGORIES:00:00:00
END:VEVENT
BEGIN:VEVENT
DTSTART;TZID=Africa/Johannesburg:20260421T110545
DTEND;TZID=Africa/Johannesburg:20260425T033000
DTSTAMP:20260421T110545
CREATED:20260413T145309Z
LAST-MODIFIED:20260413T145309Z
UID:137812-0-1777087800@thehomechannel.co.za
SUMMARY:000168
DESCRIPTION:“DSTV\, OVHD”
URL:https://thehomechannel.co.za/tv-schedule/000168-3/
CATEGORIES:04:00:00
END:VEVENT
BEGIN:VEVENT
DTSTART;TZID=Africa/Johannesburg:20260421T110545
DTEND;TZID=Africa/Johannesburg:20260425T040000
DTSTAMP:20260421T110545
CREATED:20260413T145309Z
LAST-MODIFIED:20260413T145309Z
UID:137813-0-1777089600@thehomechannel.co.za
SUMMARY:000169
DESCRIPTION:“DSTV\, OVHD”
URL:https://thehomechannel.co.za/tv-schedule/000169-3/
CATEGORIES:05:00:00
END:VEVENT
BEGIN:VEVENT
DTSTART;TZID=Africa/Johannesburg:20260421T110545
DTEND;TZID=Africa/Johannesburg:20260425T050000
DTSTAMP:20260421T110545
CREATED:20260413T145309Z
LAST-MODIFIED:20260413T145309Z
UID:137814-0-1777093200@thehomechannel.co.za
SUMMARY:000170
DESCRIPTION:“DSTV\, OVHD”
URL:https://thehomechannel.co.za/tv-schedule/000170-3/
CATEGORIES:06:00:00
END:VEVENT
BEGIN:VEVENT
DTSTART;TZID=Africa/Johannesburg:20260421T110545
DTEND;TZID=Africa/Johannesburg:20260425T023000
DTSTAMP:20260421T110545
CREATED:20260413T145309Z
LAST-MODIFIED:20260413T145309Z
UID:137810-0-1777084200@thehomechannel.co.za
SUMMARY:000166
DESCRIPTION:“DSTV\, OVHD”
URL:https://thehomechannel.co.za/tv-schedule/000166-3/
CATEGORIES:03:00:00
END:VEVENT
BEGIN:VEVENT
DTSTART;TZID=Africa/Johannesburg:20260421T110545
DTEND;TZID=Africa/Johannesburg:20260425T030000
DTSTAMP:20260421T110545
CREATED:20260413T145309Z
LAST-MODIFIED:20260413T145309Z
UID:137811-0-1777086000@thehomechannel.co.za
SUMMARY:000167
DESCRIPTION:“DSTV\, OVHD”
URL:https://thehomechannel.co.za/tv-schedule/000167-3/
CATEGORIES:03:30:00
END:VEVENT
BEGIN:VEVENT
DTSTART;TZID=Africa/Johannesburg:20260421T110545
DTEND;TZID=Africa/Johannesburg:20260425T073000
DTSTAMP:20260421T110545
CREATED:20260413T145534Z
LAST-MODIFIED:20260413T145534Z
UID:137817-0-1777102200@thehomechannel.co.za
SUMMARY:000173
DESCRIPTION:“DSTV\, OVHD”
URL:https://thehomechannel.co.za/tv-schedule/000173-3/
CATEGORIES:08:00:00
END:VEVENT
BEGIN:VEVENT
DTSTART;TZID=Africa/Johannesburg:20260421T110545
DTEND;TZID=Africa/Johannesburg:20260425T080000
DTSTAMP:20260421T110545
CREATED:20260413T145534Z
LAST-MODIFIED:20260413T145534Z
UID:137818-0-1777104000@thehomechannel.co.za
SUMMARY:000174
DESCRIPTION:“DSTV\, OVHD”
URL:https://thehomechannel.co.za/tv-schedule/000174-3/
CATEGORIES:08:30:00
END:VEVENT
BEGIN:VEVENT
DTSTART;TZID=Africa/Johannesburg:20260421T110545
DTEND;TZID=Africa/Johannesburg:20260425T083000
DTSTAMP:20260421T110545
CREATED:20260413T145534Z
LAST-MODIFIED:20260413T145534Z
UID:137819-0-1777105800@thehomechannel.co.za
SUMMARY:000175
DESCRIPTION:“DSTV\, OVHD”
URL:https://thehomechannel.co.za/tv-schedule/000175-3/
CATEGORIES:09:30:00
END:VEVENT
BEGIN:VEVENT
DTSTART;TZID=Africa/Johannesburg:20260421T110545
DTEND;TZID=Africa/Johannesburg:20260425T060000
DTSTAMP:20260421T110545
CREATED:20260413T145534Z
LAST-MODIFIED:20260413T145534Z
UID:137815-0-1777096800@thehomechannel.co.za
SUMMARY:000171
DESCRIPTION:“DSTV\, OVHD”
URL:https://thehomechannel.co.za/tv-schedule/000171-3/
CATEGORIES:07:00:00
END:VEVENT
END:VCALENDAR