BEGIN:VCALENDAR
VERSION:2.0
PRODID:-//The Home Channel - ECPv6.15.11//NONSGML v1.0//EN
CALSCALE:GREGORIAN
METHOD:PUBLISH
X-WR-CALNAME:The Home Channel
X-ORIGINAL-URL:https://thehomechannel.co.za
X-WR-CALDESC:Events for The Home Channel
REFRESH-INTERVAL;VALUE=DURATION:PT1H
X-Robots-Tag:noindex
X-PUBLISHED-TTL:PT1H
BEGIN:VTIMEZONE
TZID:Africa/Johannesburg
BEGIN:STANDARD
TZOFFSETFROM:+0200
TZOFFSETTO:+0200
TZNAME:SAST
DTSTART:19690101T000000
END:STANDARD
END:VTIMEZONE
BEGIN:VEVENT
DTSTART;TZID=Africa/Johannesburg:20260422T023918
DTEND;TZID=Africa/Johannesburg:20260422T040000
DTSTAMP:20260422T023918
CREATED:20260413T142843Z
LAST-MODIFIED:20260413T172732Z
UID:137706-0-1776830400@thehomechannel.co.za
SUMMARY:000067
DESCRIPTION:OVHD
URL:https://thehomechannel.co.za/tv-schedule/000067-2/
CATEGORIES:05:00:00
END:VEVENT
BEGIN:VEVENT
DTSTART;TZID=Africa/Johannesburg:20260422T023918
DTEND;TZID=Africa/Johannesburg:20260422T050000
DTSTAMP:20260422T023918
CREATED:20260413T142843Z
LAST-MODIFIED:20260413T172732Z
UID:137707-0-1776834000@thehomechannel.co.za
SUMMARY:000068
DESCRIPTION:“OVHD\, DSTV”
URL:https://thehomechannel.co.za/tv-schedule/000068-2/
CATEGORIES:06:00:00
END:VEVENT
BEGIN:VEVENT
DTSTART;TZID=Africa/Johannesburg:20260422T023918
DTEND;TZID=Africa/Johannesburg:20260422T103000
DTSTAMP:20260422T023918
CREATED:20260413T142914Z
LAST-MODIFIED:20260413T142914Z
UID:137719-0-1776853800@thehomechannel.co.za
SUMMARY:000075
DESCRIPTION:“DSTV\, OVHD”
URL:https://thehomechannel.co.za/tv-schedule/000075-3/
CATEGORIES:11:00:00
END:VEVENT
BEGIN:VEVENT
DTSTART;TZID=Africa/Johannesburg:20260422T023918
DTEND;TZID=Africa/Johannesburg:20260422T080000
DTSTAMP:20260422T023918
CREATED:20260413T142914Z
LAST-MODIFIED:20260413T142914Z
UID:137715-0-1776844800@thehomechannel.co.za
SUMMARY:000071
DESCRIPTION:“DSTV\, OVHD”
URL:https://thehomechannel.co.za/tv-schedule/000071-3/
CATEGORIES:09:00:00
END:VEVENT
BEGIN:VEVENT
DTSTART;TZID=Africa/Johannesburg:20260422T023918
DTEND;TZID=Africa/Johannesburg:20260422T090000
DTSTAMP:20260422T023918
CREATED:20260413T142914Z
LAST-MODIFIED:20260413T142914Z
UID:137716-0-1776848400@thehomechannel.co.za
SUMMARY:000072
DESCRIPTION:“DSTV\, OVHD”
URL:https://thehomechannel.co.za/tv-schedule/000072-3/
CATEGORIES:09:30:00
END:VEVENT
BEGIN:VEVENT
DTSTART;TZID=Africa/Johannesburg:20260422T023918
DTEND;TZID=Africa/Johannesburg:20260422T093000
DTSTAMP:20260422T023918
CREATED:20260413T142914Z
LAST-MODIFIED:20260413T142914Z
UID:137717-0-1776850200@thehomechannel.co.za
SUMMARY:000073
DESCRIPTION:“DSTV\, OVHD”
URL:https://thehomechannel.co.za/tv-schedule/000073-3/
CATEGORIES:10:00:00
END:VEVENT
BEGIN:VEVENT
DTSTART;TZID=Africa/Johannesburg:20260422T023918
DTEND;TZID=Africa/Johannesburg:20260422T100000
DTSTAMP:20260422T023918
CREATED:20260413T142914Z
LAST-MODIFIED:20260413T142914Z
UID:137718-0-1776852000@thehomechannel.co.za
SUMMARY:000074
DESCRIPTION:“DSTV\, OVHD”
URL:https://thehomechannel.co.za/tv-schedule/000074-3/
CATEGORIES:10:30:00
END:VEVENT
BEGIN:VEVENT
DTSTART;TZID=Africa/Johannesburg:20260422T023918
DTEND;TZID=Africa/Johannesburg:20260422T140000
DTSTAMP:20260422T023918
CREATED:20260413T142945Z
LAST-MODIFIED:20260413T142945Z
UID:137724-0-1776866400@thehomechannel.co.za
SUMMARY:000080
DESCRIPTION:“DSTV\, OVHD”
URL:https://thehomechannel.co.za/tv-schedule/000080-3/
CATEGORIES:15:00:00
END:VEVENT
BEGIN:VEVENT
DTSTART;TZID=Africa/Johannesburg:20260422T023918
DTEND;TZID=Africa/Johannesburg:20260422T110000
DTSTAMP:20260422T023918
CREATED:20260413T142945Z
LAST-MODIFIED:20260413T142945Z
UID:137720-0-1776855600@thehomechannel.co.za
SUMMARY:000076
DESCRIPTION:“DSTV\, OVHD”
URL:https://thehomechannel.co.za/tv-schedule/000076-3/
CATEGORIES:11:30:00
END:VEVENT
BEGIN:VEVENT
DTSTART;TZID=Africa/Johannesburg:20260422T023918
DTEND;TZID=Africa/Johannesburg:20260422T113000
DTSTAMP:20260422T023918
CREATED:20260413T142945Z
LAST-MODIFIED:20260413T142945Z
UID:137721-0-1776857400@thehomechannel.co.za
SUMMARY:000077
DESCRIPTION:“DSTV\, OVHD”
URL:https://thehomechannel.co.za/tv-schedule/000077-3/
CATEGORIES:12:00:00
END:VEVENT
BEGIN:VEVENT
DTSTART;TZID=Africa/Johannesburg:20260422T023918
DTEND;TZID=Africa/Johannesburg:20260422T120000
DTSTAMP:20260422T023918
CREATED:20260413T142945Z
LAST-MODIFIED:20260413T142945Z
UID:137722-0-1776859200@thehomechannel.co.za
SUMMARY:000078
DESCRIPTION:“DSTV\, OVHD”
URL:https://thehomechannel.co.za/tv-schedule/000078-3/
CATEGORIES:13:00:00
END:VEVENT
BEGIN:VEVENT
DTSTART;TZID=Africa/Johannesburg:20260422T023918
DTEND;TZID=Africa/Johannesburg:20260422T130000
DTSTAMP:20260422T023918
CREATED:20260413T142945Z
LAST-MODIFIED:20260413T142945Z
UID:137723-0-1776862800@thehomechannel.co.za
SUMMARY:000079
DESCRIPTION:“DSTV\, OVHD”
URL:https://thehomechannel.co.za/tv-schedule/000079-3/
CATEGORIES:14:00:00
END:VEVENT
BEGIN:VEVENT
DTSTART;TZID=Africa/Johannesburg:20260422T023918
DTEND;TZID=Africa/Johannesburg:20260422T150000
DTSTAMP:20260422T023918
CREATED:20260413T143010Z
LAST-MODIFIED:20260413T143010Z
UID:137725-0-1776870000@thehomechannel.co.za
SUMMARY:000081
DESCRIPTION:“DSTV\, OVHD”
URL:https://thehomechannel.co.za/tv-schedule/000081-3/
CATEGORIES:15:30:00
END:VEVENT
BEGIN:VEVENT
DTSTART;TZID=Africa/Johannesburg:20260422T023918
DTEND;TZID=Africa/Johannesburg:20260422T153000
DTSTAMP:20260422T023918
CREATED:20260413T143010Z
LAST-MODIFIED:20260413T143010Z
UID:137726-0-1776871800@thehomechannel.co.za
SUMMARY:000082
DESCRIPTION:“DSTV\, OVHD”
URL:https://thehomechannel.co.za/tv-schedule/000082-3/
CATEGORIES:16:00:00
END:VEVENT
BEGIN:VEVENT
DTSTART;TZID=Africa/Johannesburg:20260422T023918
DTEND;TZID=Africa/Johannesburg:20260422T160000
DTSTAMP:20260422T023918
CREATED:20260413T143010Z
LAST-MODIFIED:20260413T143010Z
UID:137727-0-1776873600@thehomechannel.co.za
SUMMARY:000083
DESCRIPTION:“DSTV\, OVHD”
URL:https://thehomechannel.co.za/tv-schedule/000083-3/
CATEGORIES:17:00:00
END:VEVENT
BEGIN:VEVENT
DTSTART;TZID=Africa/Johannesburg:20260422T023918
DTEND;TZID=Africa/Johannesburg:20260422T170000
DTSTAMP:20260422T023918
CREATED:20260413T143010Z
LAST-MODIFIED:20260413T143010Z
UID:137728-0-1776877200@thehomechannel.co.za
SUMMARY:000084
DESCRIPTION:“DSTV\, OVHD”
URL:https://thehomechannel.co.za/tv-schedule/000084-3/
CATEGORIES:18:00:00
END:VEVENT
BEGIN:VEVENT
DTSTART;TZID=Africa/Johannesburg:20260422T023918
DTEND;TZID=Africa/Johannesburg:20260422T180000
DTSTAMP:20260422T023918
CREATED:20260413T143011Z
LAST-MODIFIED:20260413T143011Z
UID:137729-0-1776880800@thehomechannel.co.za
SUMMARY:000085
DESCRIPTION:“DSTV\, OVHD”
URL:https://thehomechannel.co.za/tv-schedule/000085-3/
CATEGORIES:18:30:00
END:VEVENT
BEGIN:VEVENT
DTSTART;TZID=Africa/Johannesburg:20260422T023918
DTEND;TZID=Africa/Johannesburg:20260422T183000
DTSTAMP:20260422T023918
CREATED:20260413T143037Z
LAST-MODIFIED:20260413T143037Z
UID:137730-0-1776882600@thehomechannel.co.za
SUMMARY:000086
DESCRIPTION:“DSTV\, OVHD”
URL:https://thehomechannel.co.za/tv-schedule/000086-3/
CATEGORIES:19:00:00
END:VEVENT
BEGIN:VEVENT
DTSTART;TZID=Africa/Johannesburg:20260422T023918
DTEND;TZID=Africa/Johannesburg:20260422T190000
DTSTAMP:20260422T023918
CREATED:20260413T143037Z
LAST-MODIFIED:20260413T143037Z
UID:137731-0-1776884400@thehomechannel.co.za
SUMMARY:000087
DESCRIPTION:“DSTV\, OVHD”
URL:https://thehomechannel.co.za/tv-schedule/000087-3/
CATEGORIES:20:00:00
END:VEVENT
BEGIN:VEVENT
DTSTART;TZID=Africa/Johannesburg:20260422T023918
DTEND;TZID=Africa/Johannesburg:20260422T200000
DTSTAMP:20260422T023918
CREATED:20260413T143037Z
LAST-MODIFIED:20260413T143037Z
UID:137732-0-1776888000@thehomechannel.co.za
SUMMARY:000088
DESCRIPTION:“DSTV\, OVHD”
URL:https://thehomechannel.co.za/tv-schedule/000088-3/
CATEGORIES:20:30:00
END:VEVENT
BEGIN:VEVENT
DTSTART;TZID=Africa/Johannesburg:20260422T023918
DTEND;TZID=Africa/Johannesburg:20260422T203000
DTSTAMP:20260422T023918
CREATED:20260413T143037Z
LAST-MODIFIED:20260413T143037Z
UID:137733-0-1776889800@thehomechannel.co.za
SUMMARY:000089
DESCRIPTION:“DSTV\, OVHD”
URL:https://thehomechannel.co.za/tv-schedule/000089-3/
CATEGORIES:21:00:00
END:VEVENT
BEGIN:VEVENT
DTSTART;TZID=Africa/Johannesburg:20260422T023918
DTEND;TZID=Africa/Johannesburg:20260422T210000
DTSTAMP:20260422T023918
CREATED:20260413T143037Z
LAST-MODIFIED:20260413T143037Z
UID:137734-0-1776891600@thehomechannel.co.za
SUMMARY:000090
DESCRIPTION:“DSTV\, OVHD”
URL:https://thehomechannel.co.za/tv-schedule/000090-3/
CATEGORIES:22:00:00
END:VEVENT
BEGIN:VEVENT
DTSTART;TZID=Africa/Johannesburg:20260422T023918
DTEND;TZID=Africa/Johannesburg:20260422T220000
DTSTAMP:20260422T023918
CREATED:20260413T143103Z
LAST-MODIFIED:20260413T143103Z
UID:137735-0-1776895200@thehomechannel.co.za
SUMMARY:000091
DESCRIPTION:“DSTV\, OVHD”
URL:https://thehomechannel.co.za/tv-schedule/000091-3/
CATEGORIES:22:30:00
END:VEVENT
BEGIN:VEVENT
DTSTART;TZID=Africa/Johannesburg:20260422T023918
DTEND;TZID=Africa/Johannesburg:20260422T223000
DTSTAMP:20260422T023918
CREATED:20260413T143104Z
LAST-MODIFIED:20260413T143104Z
UID:137736-0-1776897000@thehomechannel.co.za
SUMMARY:000092
DESCRIPTION:“DSTV\, OVHD”
URL:https://thehomechannel.co.za/tv-schedule/000092-3/
CATEGORIES:23:00:00
END:VEVENT
BEGIN:VEVENT
DTSTART;TZID=Africa/Johannesburg:20260422T023918
DTEND;TZID=Africa/Johannesburg:20260422T230000
DTSTAMP:20260422T023918
CREATED:20260413T143104Z
LAST-MODIFIED:20260413T143104Z
UID:137737-0-1776898800@thehomechannel.co.za
SUMMARY:000093
DESCRIPTION:“DSTV\, OVHD”
URL:https://thehomechannel.co.za/tv-schedule/000093-3/
CATEGORIES:23:30:00
END:VEVENT
BEGIN:VEVENT
DTSTART;TZID=Africa/Johannesburg:20260422T023918
DTEND;TZID=Africa/Johannesburg:20260423T233000
DTSTAMP:20260422T023918
CREATED:20260413T143104Z
LAST-MODIFIED:20260413T143104Z
UID:137738-0-1776987000@thehomechannel.co.za
SUMMARY:000094
DESCRIPTION:“DSTV\, OVHD”
URL:https://thehomechannel.co.za/tv-schedule/000094-3/
CATEGORIES:00:00:00
END:VEVENT
BEGIN:VEVENT
DTSTART;TZID=Africa/Johannesburg:20260422T023918
DTEND;TZID=Africa/Johannesburg:20260423T000000
DTSTAMP:20260422T023918
CREATED:20260413T143104Z
LAST-MODIFIED:20260413T143104Z
UID:137739-0-1776902400@thehomechannel.co.za
SUMMARY:000095
DESCRIPTION:“DSTV\, OVHD”
URL:https://thehomechannel.co.za/tv-schedule/000095-3/
CATEGORIES:01:00:00
END:VEVENT
BEGIN:VEVENT
DTSTART;TZID=Africa/Johannesburg:20260422T023918
DTEND;TZID=Africa/Johannesburg:20260423T010000
DTSTAMP:20260422T023918
CREATED:20260413T143134Z
LAST-MODIFIED:20260413T143134Z
UID:137740-0-1776906000@thehomechannel.co.za
SUMMARY:000096
DESCRIPTION:“DSTV\, OVHD”
URL:https://thehomechannel.co.za/tv-schedule/000096-3/
CATEGORIES:02:00:00
END:VEVENT
BEGIN:VEVENT
DTSTART;TZID=Africa/Johannesburg:20260422T023918
DTEND;TZID=Africa/Johannesburg:20260423T020000
DTSTAMP:20260422T023918
CREATED:20260413T143134Z
LAST-MODIFIED:20260413T143134Z
UID:137741-0-1776909600@thehomechannel.co.za
SUMMARY:000097
DESCRIPTION:DSTV
URL:https://thehomechannel.co.za/tv-schedule/000097-3/
CATEGORIES:03:00:00
END:VEVENT
BEGIN:VEVENT
DTSTART;TZID=Africa/Johannesburg:20260422T023918
DTEND;TZID=Africa/Johannesburg:20260423T030000
DTSTAMP:20260422T023918
CREATED:20260413T143134Z
LAST-MODIFIED:20260413T143134Z
UID:137742-0-1776913200@thehomechannel.co.za
SUMMARY:000098
DESCRIPTION:“DSTV\, OVHD”
URL:https://thehomechannel.co.za/tv-schedule/000098-3/
CATEGORIES:03:30:00
END:VEVENT
END:VCALENDAR