BEGIN:VCALENDAR
VERSION:2.0
PRODID:-//The Home Channel - ECPv6.15.11//NONSGML v1.0//EN
CALSCALE:GREGORIAN
METHOD:PUBLISH
X-ORIGINAL-URL:https://thehomechannel.co.za
X-WR-CALDESC:Events for The Home Channel
REFRESH-INTERVAL;VALUE=DURATION:PT1H
X-Robots-Tag:noindex
X-PUBLISHED-TTL:PT1H
BEGIN:VTIMEZONE
TZID:Africa/Johannesburg
BEGIN:STANDARD
TZOFFSETFROM:+0200
TZOFFSETTO:+0200
TZNAME:SAST
DTSTART:19690101T000000
END:STANDARD
END:VTIMEZONE
BEGIN:VEVENT
DTSTART;TZID=Africa/Johannesburg:20260420T195011
DTEND;TZID=Africa/Johannesburg:20260423T100000
DTSTAMP:20260420T195011
CREATED:20260413T143239Z
LAST-MODIFIED:20260413T143239Z
UID:137750-0-1776938400@thehomechannel.co.za
SUMMARY:000106
DESCRIPTION:“DSTV\, OVHD”
URL:https://thehomechannel.co.za/tv-schedule/000106-3/
CATEGORIES:10:30:00
END:VEVENT
BEGIN:VEVENT
DTSTART;TZID=Africa/Johannesburg:20260420T195011
DTEND;TZID=Africa/Johannesburg:20260423T103000
DTSTAMP:20260420T195011
CREATED:20260413T143239Z
LAST-MODIFIED:20260413T143239Z
UID:137751-0-1776940200@thehomechannel.co.za
SUMMARY:000107
DESCRIPTION:“DSTV\, OVHD”
URL:https://thehomechannel.co.za/tv-schedule/000107-3/
CATEGORIES:11:00:00
END:VEVENT
BEGIN:VEVENT
DTSTART;TZID=Africa/Johannesburg:20260420T195011
DTEND;TZID=Africa/Johannesburg:20260423T110000
DTSTAMP:20260420T195011
CREATED:20260413T143239Z
LAST-MODIFIED:20260413T143239Z
UID:137752-0-1776942000@thehomechannel.co.za
SUMMARY:000108
DESCRIPTION:“DSTV\, OVHD”
URL:https://thehomechannel.co.za/tv-schedule/000108-3/
CATEGORIES:11:30:00
END:VEVENT
BEGIN:VEVENT
DTSTART;TZID=Africa/Johannesburg:20260420T195011
DTEND;TZID=Africa/Johannesburg:20260423T143000
DTSTAMP:20260420T195011
CREATED:20260413T143315Z
LAST-MODIFIED:20260413T143315Z
UID:137758-0-1776954600@thehomechannel.co.za
SUMMARY:000114
DESCRIPTION:“DSTV\, OVHD”
URL:https://thehomechannel.co.za/tv-schedule/000114-3/
CATEGORIES:15:00:00
END:VEVENT
BEGIN:VEVENT
DTSTART;TZID=Africa/Johannesburg:20260420T195011
DTEND;TZID=Africa/Johannesburg:20260423T150000
DTSTAMP:20260420T195011
CREATED:20260413T143315Z
LAST-MODIFIED:20260413T143315Z
UID:137759-0-1776956400@thehomechannel.co.za
SUMMARY:000115
DESCRIPTION:“DSTV\, OVHD”
URL:https://thehomechannel.co.za/tv-schedule/000115-3/
CATEGORIES:15:30:00
END:VEVENT
BEGIN:VEVENT
DTSTART;TZID=Africa/Johannesburg:20260420T195011
DTEND;TZID=Africa/Johannesburg:20260423T130000
DTSTAMP:20260420T195011
CREATED:20260413T143315Z
LAST-MODIFIED:20260413T143315Z
UID:137755-0-1776949200@thehomechannel.co.za
SUMMARY:000111
DESCRIPTION:“DSTV\, OVHD”
URL:https://thehomechannel.co.za/tv-schedule/000111-3/
CATEGORIES:13:30:00
END:VEVENT
BEGIN:VEVENT
DTSTART;TZID=Africa/Johannesburg:20260420T195011
DTEND;TZID=Africa/Johannesburg:20260423T133000
DTSTAMP:20260420T195011
CREATED:20260413T143315Z
LAST-MODIFIED:20260413T143315Z
UID:137756-0-1776951000@thehomechannel.co.za
SUMMARY:000112
DESCRIPTION:“DSTV\, OVHD”
URL:https://thehomechannel.co.za/tv-schedule/000112-3/
CATEGORIES:14:00:00
END:VEVENT
BEGIN:VEVENT
DTSTART;TZID=Africa/Johannesburg:20260420T195011
DTEND;TZID=Africa/Johannesburg:20260423T140000
DTSTAMP:20260420T195011
CREATED:20260413T143315Z
LAST-MODIFIED:20260413T143315Z
UID:137757-0-1776952800@thehomechannel.co.za
SUMMARY:000113
DESCRIPTION:“DSTV\, OVHD”
URL:https://thehomechannel.co.za/tv-schedule/000113-3/
CATEGORIES:14:30:00
END:VEVENT
BEGIN:VEVENT
DTSTART;TZID=Africa/Johannesburg:20260420T195011
DTEND;TZID=Africa/Johannesburg:20260423T180000
DTSTAMP:20260420T195011
CREATED:20260413T143348Z
LAST-MODIFIED:20260413T143348Z
UID:137763-0-1776967200@thehomechannel.co.za
SUMMARY:000119
DESCRIPTION:“DSTV\, OVHD”
URL:https://thehomechannel.co.za/tv-schedule/000119-3/
CATEGORIES:18:30:00
END:VEVENT
BEGIN:VEVENT
DTSTART;TZID=Africa/Johannesburg:20260420T195011
DTEND;TZID=Africa/Johannesburg:20260423T183000
DTSTAMP:20260420T195011
CREATED:20260413T143348Z
LAST-MODIFIED:20260413T143348Z
UID:137764-0-1776969000@thehomechannel.co.za
SUMMARY:000120
DESCRIPTION:“DSTV\, OVHD”
URL:https://thehomechannel.co.za/tv-schedule/000120-3/
CATEGORIES:19:00:00
END:VEVENT
BEGIN:VEVENT
DTSTART;TZID=Africa/Johannesburg:20260420T195011
DTEND;TZID=Africa/Johannesburg:20260423T153000
DTSTAMP:20260420T195011
CREATED:20260413T143348Z
LAST-MODIFIED:20260413T143348Z
UID:137760-0-1776958200@thehomechannel.co.za
SUMMARY:000116
DESCRIPTION:“DSTV\, OVHD”
URL:https://thehomechannel.co.za/tv-schedule/000116-3/
CATEGORIES:16:00:00
END:VEVENT
BEGIN:VEVENT
DTSTART;TZID=Africa/Johannesburg:20260420T195011
DTEND;TZID=Africa/Johannesburg:20260423T160000
DTSTAMP:20260420T195011
CREATED:20260413T143348Z
LAST-MODIFIED:20260413T143348Z
UID:137761-0-1776960000@thehomechannel.co.za
SUMMARY:000117
DESCRIPTION:“DSTV\, OVHD”
URL:https://thehomechannel.co.za/tv-schedule/000117-3/
CATEGORIES:17:00:00
END:VEVENT
BEGIN:VEVENT
DTSTART;TZID=Africa/Johannesburg:20260420T195011
DTEND;TZID=Africa/Johannesburg:20260423T170000
DTSTAMP:20260420T195011
CREATED:20260413T143348Z
LAST-MODIFIED:20260413T143348Z
UID:137762-0-1776963600@thehomechannel.co.za
SUMMARY:000118
DESCRIPTION:“DSTV\, OVHD”
URL:https://thehomechannel.co.za/tv-schedule/000118-3/
CATEGORIES:18:00:00
END:VEVENT
BEGIN:VEVENT
DTSTART;TZID=Africa/Johannesburg:20260420T195011
DTEND;TZID=Africa/Johannesburg:20260423T220000
DTSTAMP:20260420T195011
CREATED:20260413T143532Z
LAST-MODIFIED:20260413T143532Z
UID:137769-0-1776981600@thehomechannel.co.za
SUMMARY:000125
DESCRIPTION:“DSTV\, OVHD”
URL:https://thehomechannel.co.za/tv-schedule/000125-3/
CATEGORIES:23:00:00
END:VEVENT
BEGIN:VEVENT
DTSTART;TZID=Africa/Johannesburg:20260420T195011
DTEND;TZID=Africa/Johannesburg:20260423T190000
DTSTAMP:20260420T195011
CREATED:20260413T143532Z
LAST-MODIFIED:20260413T143532Z
UID:137765-0-1776970800@thehomechannel.co.za
SUMMARY:000121
DESCRIPTION:“DSTV\, OVHD”
URL:https://thehomechannel.co.za/tv-schedule/000121-3/
CATEGORIES:19:30:00
END:VEVENT
BEGIN:VEVENT
DTSTART;TZID=Africa/Johannesburg:20260420T195011
DTEND;TZID=Africa/Johannesburg:20260423T193000
DTSTAMP:20260420T195011
CREATED:20260413T143532Z
LAST-MODIFIED:20260413T143532Z
UID:137766-0-1776972600@thehomechannel.co.za
SUMMARY:000122
DESCRIPTION:“DSTV\, OVHD”
URL:https://thehomechannel.co.za/tv-schedule/000122-3/
CATEGORIES:20:00:00
END:VEVENT
BEGIN:VEVENT
DTSTART;TZID=Africa/Johannesburg:20260420T195011
DTEND;TZID=Africa/Johannesburg:20260423T200000
DTSTAMP:20260420T195011
CREATED:20260413T143532Z
LAST-MODIFIED:20260413T143532Z
UID:137767-0-1776974400@thehomechannel.co.za
SUMMARY:000123
DESCRIPTION:DSTV
URL:https://thehomechannel.co.za/tv-schedule/000123-3/
CATEGORIES:21:00:00
END:VEVENT
BEGIN:VEVENT
DTSTART;TZID=Africa/Johannesburg:20260420T195011
DTEND;TZID=Africa/Johannesburg:20260423T210000
DTSTAMP:20260420T195011
CREATED:20260413T143532Z
LAST-MODIFIED:20260413T143532Z
UID:137768-0-1776978000@thehomechannel.co.za
SUMMARY:000124
DESCRIPTION:“DSTV\, OVHD”
URL:https://thehomechannel.co.za/tv-schedule/000124-3/
CATEGORIES:22:00:00
END:VEVENT
BEGIN:VEVENT
DTSTART;TZID=Africa/Johannesburg:20260420T195011
DTEND;TZID=Africa/Johannesburg:20260423T230000
DTSTAMP:20260420T195011
CREATED:20260413T143709Z
LAST-MODIFIED:20260413T143709Z
UID:137770-0-1776985200@thehomechannel.co.za
SUMMARY:000126
DESCRIPTION:“DSTV\, OVHD”
URL:https://thehomechannel.co.za/tv-schedule/000126-3/
CATEGORIES:23:30:00
END:VEVENT
BEGIN:VEVENT
DTSTART;TZID=Africa/Johannesburg:20260420T195011
DTEND;TZID=Africa/Johannesburg:20260424T013000
DTSTAMP:20260420T195011
CREATED:20260413T143710Z
LAST-MODIFIED:20260413T143710Z
UID:137774-0-1776994200@thehomechannel.co.za
SUMMARY:000130
DESCRIPTION:“DSTV\, OVHD”
URL:https://thehomechannel.co.za/tv-schedule/000130-3/
CATEGORIES:02:00:00
END:VEVENT
BEGIN:VEVENT
DTSTART;TZID=Africa/Johannesburg:20260420T195011
DTEND;TZID=Africa/Johannesburg:20260424T233000
DTSTAMP:20260420T195011
CREATED:20260413T143710Z
LAST-MODIFIED:20260413T143710Z
UID:137771-0-1777073400@thehomechannel.co.za
SUMMARY:000127
DESCRIPTION:“DSTV\, OVHD”
URL:https://thehomechannel.co.za/tv-schedule/000127-3/
CATEGORIES:00:00:00
END:VEVENT
BEGIN:VEVENT
DTSTART;TZID=Africa/Johannesburg:20260420T195011
DTEND;TZID=Africa/Johannesburg:20260424T000000
DTSTAMP:20260420T195011
CREATED:20260413T143710Z
LAST-MODIFIED:20260413T143710Z
UID:137772-0-1776988800@thehomechannel.co.za
SUMMARY:000128
DESCRIPTION:“DSTV\, OVHD”
URL:https://thehomechannel.co.za/tv-schedule/000128-3/
CATEGORIES:01:00:00
END:VEVENT
BEGIN:VEVENT
DTSTART;TZID=Africa/Johannesburg:20260420T195011
DTEND;TZID=Africa/Johannesburg:20260424T010000
DTSTAMP:20260420T195011
CREATED:20260413T143710Z
LAST-MODIFIED:20260413T143710Z
UID:137773-0-1776992400@thehomechannel.co.za
SUMMARY:000129
DESCRIPTION:“DSTV\, OVHD”
URL:https://thehomechannel.co.za/tv-schedule/000129-3/
CATEGORIES:01:30:00
END:VEVENT
BEGIN:VEVENT
DTSTART;TZID=Africa/Johannesburg:20260420T195011
DTEND;TZID=Africa/Johannesburg:20260424T040000
DTSTAMP:20260420T195011
CREATED:20260413T143931Z
LAST-MODIFIED:20260413T143931Z
UID:137779-0-1777003200@thehomechannel.co.za
SUMMARY:000135
DESCRIPTION:“DSTV\, OVHD”
URL:https://thehomechannel.co.za/tv-schedule/000135-3/
CATEGORIES:05:00:00
END:VEVENT
BEGIN:VEVENT
DTSTART;TZID=Africa/Johannesburg:20260420T195011
DTEND;TZID=Africa/Johannesburg:20260424T020000
DTSTAMP:20260420T195011
CREATED:20260413T143931Z
LAST-MODIFIED:20260413T143931Z
UID:137775-0-1776996000@thehomechannel.co.za
SUMMARY:000131
DESCRIPTION:“DSTV\, OVHD”
URL:https://thehomechannel.co.za/tv-schedule/000131-3/
CATEGORIES:02:30:00
END:VEVENT
BEGIN:VEVENT
DTSTART;TZID=Africa/Johannesburg:20260420T195011
DTEND;TZID=Africa/Johannesburg:20260424T023000
DTSTAMP:20260420T195011
CREATED:20260413T143931Z
LAST-MODIFIED:20260413T143931Z
UID:137776-0-1776997800@thehomechannel.co.za
SUMMARY:000132
DESCRIPTION:“DSTV\, OVHD”
URL:https://thehomechannel.co.za/tv-schedule/000132-3/
CATEGORIES:03:00:00
END:VEVENT
BEGIN:VEVENT
DTSTART;TZID=Africa/Johannesburg:20260420T195011
DTEND;TZID=Africa/Johannesburg:20260424T030000
DTSTAMP:20260420T195011
CREATED:20260413T143931Z
LAST-MODIFIED:20260413T143931Z
UID:137777-0-1776999600@thehomechannel.co.za
SUMMARY:000133
DESCRIPTION:“DSTV\, OVHD”
URL:https://thehomechannel.co.za/tv-schedule/000133-3/
CATEGORIES:03:30:00
END:VEVENT
BEGIN:VEVENT
DTSTART;TZID=Africa/Johannesburg:20260420T195011
DTEND;TZID=Africa/Johannesburg:20260424T033000
DTSTAMP:20260420T195011
CREATED:20260413T143931Z
LAST-MODIFIED:20260413T143931Z
UID:137778-0-1777001400@thehomechannel.co.za
SUMMARY:000134
DESCRIPTION:“DSTV\, OVHD”
URL:https://thehomechannel.co.za/tv-schedule/000134-3/
CATEGORIES:04:00:00
END:VEVENT
BEGIN:VEVENT
DTSTART;TZID=Africa/Johannesburg:20260420T195011
DTEND;TZID=Africa/Johannesburg:20260424T050000
DTSTAMP:20260420T195011
CREATED:20260413T144132Z
LAST-MODIFIED:20260413T144132Z
UID:137780-0-1777006800@thehomechannel.co.za
SUMMARY:000136
DESCRIPTION:“DSTV\, OVHD”
URL:https://thehomechannel.co.za/tv-schedule/000136-3/
CATEGORIES:06:00:00
END:VEVENT
BEGIN:VEVENT
DTSTART;TZID=Africa/Johannesburg:20260420T195011
DTEND;TZID=Africa/Johannesburg:20260424T060000
DTSTAMP:20260420T195011
CREATED:20260413T144132Z
LAST-MODIFIED:20260413T144132Z
UID:137781-0-1777010400@thehomechannel.co.za
SUMMARY:000137
DESCRIPTION:“DSTV\, OVHD”
URL:https://thehomechannel.co.za/tv-schedule/000137-3/
CATEGORIES:07:00:00
END:VEVENT
END:VCALENDAR