BEGIN:VCALENDAR
VERSION:2.0
PRODID:-//The Home Channel - ECPv6.15.11//NONSGML v1.0//EN
CALSCALE:GREGORIAN
METHOD:PUBLISH
X-ORIGINAL-URL:https://thehomechannel.co.za
X-WR-CALDESC:Events for The Home Channel
REFRESH-INTERVAL;VALUE=DURATION:PT1H
X-Robots-Tag:noindex
X-PUBLISHED-TTL:PT1H
BEGIN:VTIMEZONE
TZID:Africa/Johannesburg
BEGIN:STANDARD
TZOFFSETFROM:+0200
TZOFFSETTO:+0200
TZNAME:SAST
DTSTART:19690101T000000
END:STANDARD
END:VTIMEZONE
BEGIN:VEVENT
DTSTART;TZID=Africa/Johannesburg:20260420T001218
DTEND;TZID=Africa/Johannesburg:20260421T183000
DTSTAMP:20260420T001218
CREATED:20260413T142705Z
LAST-MODIFIED:20260413T172120Z
UID:137685-0-1776796200@thehomechannel.co.za
SUMMARY:000051
DESCRIPTION:“OVHD\, DSTV”
URL:https://thehomechannel.co.za/tv-schedule/000051-2/
CATEGORIES:19:00:00
END:VEVENT
BEGIN:VEVENT
DTSTART;TZID=Africa/Johannesburg:20260420T001218
DTEND;TZID=Africa/Johannesburg:20260421T200000
DTSTAMP:20260420T001218
CREATED:20260413T142706Z
LAST-MODIFIED:20260413T172120Z
UID:137688-0-1776801600@thehomechannel.co.za
SUMMARY:000054
DESCRIPTION:“OVHD\, DSTV”
URL:https://thehomechannel.co.za/tv-schedule/000054-2/
CATEGORIES:20:30:00
END:VEVENT
BEGIN:VEVENT
DTSTART;TZID=Africa/Johannesburg:20260420T001218
DTEND;TZID=Africa/Johannesburg:20260421T203000
DTSTAMP:20260420T001218
CREATED:20260413T142706Z
LAST-MODIFIED:20260413T172342Z
UID:137689-0-1776803400@thehomechannel.co.za
SUMMARY:000055
DESCRIPTION:“OVHD\, DSTV”
URL:https://thehomechannel.co.za/tv-schedule/000055-2/
CATEGORIES:21:00:00
END:VEVENT
BEGIN:VEVENT
DTSTART;TZID=Africa/Johannesburg:20260420T001218
DTEND;TZID=Africa/Johannesburg:20260421T213000
DTSTAMP:20260420T001218
CREATED:20260413T142742Z
LAST-MODIFIED:20260413T172342Z
UID:137696-0-1776807000@thehomechannel.co.za
SUMMARY:000057
DESCRIPTION:“OVHD\, DSTV”
URL:https://thehomechannel.co.za/tv-schedule/000057-2/
CATEGORIES:22:00:00
END:VEVENT
BEGIN:VEVENT
DTSTART;TZID=Africa/Johannesburg:20260420T001218
DTEND;TZID=Africa/Johannesburg:20260421T220000
DTSTAMP:20260420T001218
CREATED:20260413T142742Z
LAST-MODIFIED:20260413T172342Z
UID:137697-0-1776808800@thehomechannel.co.za
SUMMARY:000058
DESCRIPTION:“OVHD\, DSTV”
URL:https://thehomechannel.co.za/tv-schedule/000058-2/
CATEGORIES:22:30:00
END:VEVENT
BEGIN:VEVENT
DTSTART;TZID=Africa/Johannesburg:20260420T001218
DTEND;TZID=Africa/Johannesburg:20260421T223000
DTSTAMP:20260420T001218
CREATED:20260413T142742Z
LAST-MODIFIED:20260413T172342Z
UID:137698-0-1776810600@thehomechannel.co.za
SUMMARY:000059
DESCRIPTION:“OVHD\, DSTV”
URL:https://thehomechannel.co.za/tv-schedule/000059-2/
CATEGORIES:23:00:00
END:VEVENT
BEGIN:VEVENT
DTSTART;TZID=Africa/Johannesburg:20260420T001218
DTEND;TZID=Africa/Johannesburg:20260422T230000
DTSTAMP:20260420T001218
CREATED:20260413T142742Z
LAST-MODIFIED:20260413T172520Z
UID:137699-0-1776898800@thehomechannel.co.za
SUMMARY:000060
DESCRIPTION:“OVHD\, DSTV”
URL:https://thehomechannel.co.za/tv-schedule/000060-2/
CATEGORIES:00:00:00
END:VEVENT
BEGIN:VEVENT
DTSTART;TZID=Africa/Johannesburg:20260420T001218
DTEND;TZID=Africa/Johannesburg:20260421T210000
DTSTAMP:20260420T001218
CREATED:20260413T142742Z
LAST-MODIFIED:20260413T172342Z
UID:137695-0-1776805200@thehomechannel.co.za
SUMMARY:000056
DESCRIPTION:“OVHD\, DSTV”
URL:https://thehomechannel.co.za/tv-schedule/000056-2/
CATEGORIES:21:30:00
END:VEVENT
BEGIN:VEVENT
DTSTART;TZID=Africa/Johannesburg:20260420T001218
DTEND;TZID=Africa/Johannesburg:20260422T000000
DTSTAMP:20260420T001218
CREATED:20260413T142811Z
LAST-MODIFIED:20260413T172520Z
UID:137700-0-1776816000@thehomechannel.co.za
SUMMARY:000061
DESCRIPTION:“OVHD\, DSTV”
URL:https://thehomechannel.co.za/tv-schedule/000061-2/
CATEGORIES:01:00:00
END:VEVENT
BEGIN:VEVENT
DTSTART;TZID=Africa/Johannesburg:20260420T001218
DTEND;TZID=Africa/Johannesburg:20260422T020000
DTSTAMP:20260420T001218
CREATED:20260413T142812Z
LAST-MODIFIED:20260413T172520Z
UID:137702-0-1776823200@thehomechannel.co.za
SUMMARY:000063
DESCRIPTION:“OVHD\, DSTV”
URL:https://thehomechannel.co.za/tv-schedule/000063-2/
CATEGORIES:02:30:00
END:VEVENT
BEGIN:VEVENT
DTSTART;TZID=Africa/Johannesburg:20260420T001218
DTEND;TZID=Africa/Johannesburg:20260422T023000
DTSTAMP:20260420T001218
CREATED:20260413T142812Z
LAST-MODIFIED:20260413T172520Z
UID:137703-0-1776825000@thehomechannel.co.za
SUMMARY:000064
DESCRIPTION:“OVHD\, DSTV”
URL:https://thehomechannel.co.za/tv-schedule/000064-2/
CATEGORIES:03:00:00
END:VEVENT
BEGIN:VEVENT
DTSTART;TZID=Africa/Johannesburg:20260420T001218
DTEND;TZID=Africa/Johannesburg:20260422T030000
DTSTAMP:20260420T001218
CREATED:20260413T142812Z
LAST-MODIFIED:20260413T172732Z
UID:137704-0-1776826800@thehomechannel.co.za
SUMMARY:000065
DESCRIPTION:“OVHD\, DSTV”
URL:https://thehomechannel.co.za/tv-schedule/000065-2/
CATEGORIES:03:30:00
END:VEVENT
BEGIN:VEVENT
DTSTART;TZID=Africa/Johannesburg:20260420T001218
DTEND;TZID=Africa/Johannesburg:20260422T010000
DTSTAMP:20260420T001218
CREATED:20260413T142812Z
LAST-MODIFIED:20260413T172520Z
UID:137701-0-1776819600@thehomechannel.co.za
SUMMARY:000062
DESCRIPTION:“OVHD\, DSTV”
URL:https://thehomechannel.co.za/tv-schedule/000062-2/
CATEGORIES:02:00:00
END:VEVENT
BEGIN:VEVENT
DTSTART;TZID=Africa/Johannesburg:20260420T001218
DTEND;TZID=Africa/Johannesburg:20260422T050000
DTSTAMP:20260420T001218
CREATED:20260413T142843Z
LAST-MODIFIED:20260413T172732Z
UID:137707-0-1776834000@thehomechannel.co.za
SUMMARY:000068
DESCRIPTION:“OVHD\, DSTV”
URL:https://thehomechannel.co.za/tv-schedule/000068-2/
CATEGORIES:06:00:00
END:VEVENT
BEGIN:VEVENT
DTSTART;TZID=Africa/Johannesburg:20260420T001218
DTEND;TZID=Africa/Johannesburg:20260422T060000
DTSTAMP:20260420T001218
CREATED:20260413T142843Z
LAST-MODIFIED:20260413T172732Z
UID:137708-0-1776837600@thehomechannel.co.za
SUMMARY:000069
DESCRIPTION:“OVHD\, DSTV”
URL:https://thehomechannel.co.za/tv-schedule/000069-2/
CATEGORIES:06:30:00
END:VEVENT
BEGIN:VEVENT
DTSTART;TZID=Africa/Johannesburg:20260420T001218
DTEND;TZID=Africa/Johannesburg:20260422T070000
DTSTAMP:20260420T001218
CREATED:20260413T142843Z
LAST-MODIFIED:20260413T142849Z
UID:137709-0-1776841200@thehomechannel.co.za
SUMMARY:000070
DESCRIPTION:“DSTV\, OVHD”
URL:https://thehomechannel.co.za/tv-schedule/000070-3/
CATEGORIES:08:00:00
END:VEVENT
BEGIN:VEVENT
DTSTART;TZID=Africa/Johannesburg:20260420T001218
DTEND;TZID=Africa/Johannesburg:20260422T033000
DTSTAMP:20260420T001218
CREATED:20260413T142843Z
LAST-MODIFIED:20260413T172732Z
UID:137705-0-1776828600@thehomechannel.co.za
SUMMARY:000066
DESCRIPTION:“OVHD\, DSTV”
URL:https://thehomechannel.co.za/tv-schedule/000066-2/
CATEGORIES:04:00:00
END:VEVENT
BEGIN:VEVENT
DTSTART;TZID=Africa/Johannesburg:20260420T001218
DTEND;TZID=Africa/Johannesburg:20260422T040000
DTSTAMP:20260420T001218
CREATED:20260413T142843Z
LAST-MODIFIED:20260413T172732Z
UID:137706-0-1776830400@thehomechannel.co.za
SUMMARY:000067
DESCRIPTION:OVHD
URL:https://thehomechannel.co.za/tv-schedule/000067-2/
CATEGORIES:05:00:00
END:VEVENT
BEGIN:VEVENT
DTSTART;TZID=Africa/Johannesburg:20260420T001218
DTEND;TZID=Africa/Johannesburg:20260422T093000
DTSTAMP:20260420T001218
CREATED:20260413T142914Z
LAST-MODIFIED:20260413T142914Z
UID:137717-0-1776850200@thehomechannel.co.za
SUMMARY:000073
DESCRIPTION:“DSTV\, OVHD”
URL:https://thehomechannel.co.za/tv-schedule/000073-3/
CATEGORIES:10:00:00
END:VEVENT
BEGIN:VEVENT
DTSTART;TZID=Africa/Johannesburg:20260420T001218
DTEND;TZID=Africa/Johannesburg:20260422T100000
DTSTAMP:20260420T001218
CREATED:20260413T142914Z
LAST-MODIFIED:20260413T142914Z
UID:137718-0-1776852000@thehomechannel.co.za
SUMMARY:000074
DESCRIPTION:“DSTV\, OVHD”
URL:https://thehomechannel.co.za/tv-schedule/000074-3/
CATEGORIES:10:30:00
END:VEVENT
BEGIN:VEVENT
DTSTART;TZID=Africa/Johannesburg:20260420T001218
DTEND;TZID=Africa/Johannesburg:20260422T103000
DTSTAMP:20260420T001218
CREATED:20260413T142914Z
LAST-MODIFIED:20260413T142914Z
UID:137719-0-1776853800@thehomechannel.co.za
SUMMARY:000075
DESCRIPTION:“DSTV\, OVHD”
URL:https://thehomechannel.co.za/tv-schedule/000075-3/
CATEGORIES:11:00:00
END:VEVENT
BEGIN:VEVENT
DTSTART;TZID=Africa/Johannesburg:20260420T001218
DTEND;TZID=Africa/Johannesburg:20260422T080000
DTSTAMP:20260420T001218
CREATED:20260413T142914Z
LAST-MODIFIED:20260413T142914Z
UID:137715-0-1776844800@thehomechannel.co.za
SUMMARY:000071
DESCRIPTION:“DSTV\, OVHD”
URL:https://thehomechannel.co.za/tv-schedule/000071-3/
CATEGORIES:09:00:00
END:VEVENT
BEGIN:VEVENT
DTSTART;TZID=Africa/Johannesburg:20260420T001218
DTEND;TZID=Africa/Johannesburg:20260422T090000
DTSTAMP:20260420T001218
CREATED:20260413T142914Z
LAST-MODIFIED:20260413T142914Z
UID:137716-0-1776848400@thehomechannel.co.za
SUMMARY:000072
DESCRIPTION:“DSTV\, OVHD”
URL:https://thehomechannel.co.za/tv-schedule/000072-3/
CATEGORIES:09:30:00
END:VEVENT
BEGIN:VEVENT
DTSTART;TZID=Africa/Johannesburg:20260420T001218
DTEND;TZID=Africa/Johannesburg:20260422T130000
DTSTAMP:20260420T001218
CREATED:20260413T142945Z
LAST-MODIFIED:20260413T142945Z
UID:137723-0-1776862800@thehomechannel.co.za
SUMMARY:000079
DESCRIPTION:“DSTV\, OVHD”
URL:https://thehomechannel.co.za/tv-schedule/000079-3/
CATEGORIES:14:00:00
END:VEVENT
BEGIN:VEVENT
DTSTART;TZID=Africa/Johannesburg:20260420T001218
DTEND;TZID=Africa/Johannesburg:20260422T140000
DTSTAMP:20260420T001218
CREATED:20260413T142945Z
LAST-MODIFIED:20260413T142945Z
UID:137724-0-1776866400@thehomechannel.co.za
SUMMARY:000080
DESCRIPTION:“DSTV\, OVHD”
URL:https://thehomechannel.co.za/tv-schedule/000080-3/
CATEGORIES:15:00:00
END:VEVENT
BEGIN:VEVENT
DTSTART;TZID=Africa/Johannesburg:20260420T001218
DTEND;TZID=Africa/Johannesburg:20260422T110000
DTSTAMP:20260420T001218
CREATED:20260413T142945Z
LAST-MODIFIED:20260413T142945Z
UID:137720-0-1776855600@thehomechannel.co.za
SUMMARY:000076
DESCRIPTION:“DSTV\, OVHD”
URL:https://thehomechannel.co.za/tv-schedule/000076-3/
CATEGORIES:11:30:00
END:VEVENT
BEGIN:VEVENT
DTSTART;TZID=Africa/Johannesburg:20260420T001218
DTEND;TZID=Africa/Johannesburg:20260422T113000
DTSTAMP:20260420T001218
CREATED:20260413T142945Z
LAST-MODIFIED:20260413T142945Z
UID:137721-0-1776857400@thehomechannel.co.za
SUMMARY:000077
DESCRIPTION:“DSTV\, OVHD”
URL:https://thehomechannel.co.za/tv-schedule/000077-3/
CATEGORIES:12:00:00
END:VEVENT
BEGIN:VEVENT
DTSTART;TZID=Africa/Johannesburg:20260420T001218
DTEND;TZID=Africa/Johannesburg:20260422T120000
DTSTAMP:20260420T001218
CREATED:20260413T142945Z
LAST-MODIFIED:20260413T142945Z
UID:137722-0-1776859200@thehomechannel.co.za
SUMMARY:000078
DESCRIPTION:“DSTV\, OVHD”
URL:https://thehomechannel.co.za/tv-schedule/000078-3/
CATEGORIES:13:00:00
END:VEVENT
BEGIN:VEVENT
DTSTART;TZID=Africa/Johannesburg:20260420T001218
DTEND;TZID=Africa/Johannesburg:20260422T170000
DTSTAMP:20260420T001218
CREATED:20260413T143010Z
LAST-MODIFIED:20260413T143010Z
UID:137728-0-1776877200@thehomechannel.co.za
SUMMARY:000084
DESCRIPTION:“DSTV\, OVHD”
URL:https://thehomechannel.co.za/tv-schedule/000084-3/
CATEGORIES:18:00:00
END:VEVENT
BEGIN:VEVENT
DTSTART;TZID=Africa/Johannesburg:20260420T001218
DTEND;TZID=Africa/Johannesburg:20260422T150000
DTSTAMP:20260420T001218
CREATED:20260413T143010Z
LAST-MODIFIED:20260413T143010Z
UID:137725-0-1776870000@thehomechannel.co.za
SUMMARY:000081
DESCRIPTION:“DSTV\, OVHD”
URL:https://thehomechannel.co.za/tv-schedule/000081-3/
CATEGORIES:15:30:00
END:VEVENT
END:VCALENDAR