BEGIN:VCALENDAR
VERSION:2.0
PRODID:-//The Home Channel - ECPv6.15.11//NONSGML v1.0//EN
CALSCALE:GREGORIAN
METHOD:PUBLISH
X-WR-CALNAME:The Home Channel
X-ORIGINAL-URL:https://thehomechannel.co.za
X-WR-CALDESC:Events for The Home Channel
REFRESH-INTERVAL;VALUE=DURATION:PT1H
X-Robots-Tag:noindex
X-PUBLISHED-TTL:PT1H
BEGIN:VTIMEZONE
TZID:Africa/Johannesburg
BEGIN:STANDARD
TZOFFSETFROM:+0200
TZOFFSETTO:+0200
TZNAME:SAST
DTSTART:19690101T000000
END:STANDARD
END:VTIMEZONE
BEGIN:VEVENT
DTSTART;TZID=Africa/Johannesburg:20260425T193301
DTEND;TZID=Africa/Johannesburg:20260504T013000
DTSTAMP:20260425T193301
CREATED:20260413T201730Z
LAST-MODIFIED:20260413T201730Z
UID:138624-0-1777858200@thehomechannel.co.za
SUMMARY:000494
DESCRIPTION:“OVHD\, DSTV”
URL:https://thehomechannel.co.za/tv-schedule/000494/
CATEGORIES:02:00:00
END:VEVENT
BEGIN:VEVENT
DTSTART;TZID=Africa/Johannesburg:20260425T193301
DTEND;TZID=Africa/Johannesburg:20260503T230000
DTSTAMP:20260425T193301
CREATED:20260413T201730Z
LAST-MODIFIED:20260413T201730Z
UID:138620-0-1777849200@thehomechannel.co.za
SUMMARY:000490
DESCRIPTION:“OVHD\, DSTV”
URL:https://thehomechannel.co.za/tv-schedule/000490/
CATEGORIES:23:30:00
END:VEVENT
BEGIN:VEVENT
DTSTART;TZID=Africa/Johannesburg:20260425T193301
DTEND;TZID=Africa/Johannesburg:20260504T233000
DTSTAMP:20260425T193301
CREATED:20260413T201730Z
LAST-MODIFIED:20260413T201730Z
UID:138621-0-1777937400@thehomechannel.co.za
SUMMARY:000491
DESCRIPTION:OVHD
URL:https://thehomechannel.co.za/tv-schedule/000491/
CATEGORIES:00:30:00
END:VEVENT
BEGIN:VEVENT
DTSTART;TZID=Africa/Johannesburg:20260425T193301
DTEND;TZID=Africa/Johannesburg:20260504T003000
DTSTAMP:20260425T193301
CREATED:20260413T201730Z
LAST-MODIFIED:20260413T201730Z
UID:138622-0-1777854600@thehomechannel.co.za
SUMMARY:000492
DESCRIPTION:“OVHD\, DSTV”
URL:https://thehomechannel.co.za/tv-schedule/000492/
CATEGORIES:01:00:00
END:VEVENT
END:VCALENDAR