BEGIN:VCALENDAR
VERSION:2.0
PRODID:-//The Home Channel - ECPv6.15.11//NONSGML v1.0//EN
CALSCALE:GREGORIAN
METHOD:PUBLISH
X-WR-CALNAME:The Home Channel
X-ORIGINAL-URL:https://thehomechannel.co.za
X-WR-CALDESC:Events for The Home Channel
REFRESH-INTERVAL;VALUE=DURATION:PT1H
X-Robots-Tag:noindex
X-PUBLISHED-TTL:PT1H
BEGIN:VTIMEZONE
TZID:Africa/Johannesburg
BEGIN:STANDARD
TZOFFSETFROM:+0200
TZOFFSETTO:+0200
TZNAME:SAST
DTSTART:19690101T000000
END:STANDARD
END:VTIMEZONE
BEGIN:VEVENT
DTSTART;TZID=Africa/Johannesburg:20260425T040745
DTEND;TZID=Africa/Johannesburg:20260501T230000
DTSTAMP:20260425T040745
CREATED:20260413T194730Z
LAST-MODIFIED:20260413T194730Z
UID:138547-0-1777676400@thehomechannel.co.za
SUMMARY:000417
DESCRIPTION:“OVHD\, DSTV”
URL:https://thehomechannel.co.za/tv-schedule/000417-2/
CATEGORIES:23:30:00
END:VEVENT
BEGIN:VEVENT
DTSTART;TZID=Africa/Johannesburg:20260425T040745
DTEND;TZID=Africa/Johannesburg:20260502T233000
DTSTAMP:20260425T040745
CREATED:20260413T194730Z
LAST-MODIFIED:20260413T194730Z
UID:138548-0-1777764600@thehomechannel.co.za
SUMMARY:000418
DESCRIPTION:“OVHD\, DSTV”
URL:https://thehomechannel.co.za/tv-schedule/000418-2/
CATEGORIES:00:00:00
END:VEVENT
BEGIN:VEVENT
DTSTART;TZID=Africa/Johannesburg:20260425T040745
DTEND;TZID=Africa/Johannesburg:20260502T000000
DTSTAMP:20260425T040745
CREATED:20260413T194730Z
LAST-MODIFIED:20260413T194730Z
UID:138549-0-1777680000@thehomechannel.co.za
SUMMARY:000419
DESCRIPTION:“OVHD\, DSTV”
URL:https://thehomechannel.co.za/tv-schedule/000419-2/
CATEGORIES:01:00:00
END:VEVENT
BEGIN:VEVENT
DTSTART;TZID=Africa/Johannesburg:20260425T040745
DTEND;TZID=Africa/Johannesburg:20260501T220000
DTSTAMP:20260425T040745
CREATED:20260413T194730Z
LAST-MODIFIED:20260413T194730Z
UID:138545-0-1777672800@thehomechannel.co.za
SUMMARY:000415
DESCRIPTION:“OVHD\, DSTV”
URL:https://thehomechannel.co.za/tv-schedule/000415-2/
CATEGORIES:22:30:00
END:VEVENT
BEGIN:VEVENT
DTSTART;TZID=Africa/Johannesburg:20260425T040745
DTEND;TZID=Africa/Johannesburg:20260502T020000
DTSTAMP:20260425T040745
CREATED:20260413T195020Z
LAST-MODIFIED:20260413T195020Z
UID:138551-0-1777687200@thehomechannel.co.za
SUMMARY:000421
DESCRIPTION:“OVHD\, DSTV”
URL:https://thehomechannel.co.za/tv-schedule/000421-2/
CATEGORIES:02:30:00
END:VEVENT
BEGIN:VEVENT
DTSTART;TZID=Africa/Johannesburg:20260425T040745
DTEND;TZID=Africa/Johannesburg:20260502T023000
DTSTAMP:20260425T040745
CREATED:20260413T195020Z
LAST-MODIFIED:20260413T195020Z
UID:138552-0-1777689000@thehomechannel.co.za
SUMMARY:000422
DESCRIPTION:“OVHD\, DSTV”
URL:https://thehomechannel.co.za/tv-schedule/000422-2/
CATEGORIES:03:00:00
END:VEVENT
BEGIN:VEVENT
DTSTART;TZID=Africa/Johannesburg:20260425T040745
DTEND;TZID=Africa/Johannesburg:20260502T030000
DTSTAMP:20260425T040745
CREATED:20260413T195020Z
LAST-MODIFIED:20260413T195020Z
UID:138553-0-1777690800@thehomechannel.co.za
SUMMARY:000423
DESCRIPTION:“OVHD\, DSTV”
URL:https://thehomechannel.co.za/tv-schedule/000423-2/
CATEGORIES:03:30:00
END:VEVENT
BEGIN:VEVENT
DTSTART;TZID=Africa/Johannesburg:20260425T040745
DTEND;TZID=Africa/Johannesburg:20260502T033000
DTSTAMP:20260425T040745
CREATED:20260413T195020Z
LAST-MODIFIED:20260413T195020Z
UID:138554-0-1777692600@thehomechannel.co.za
SUMMARY:000424
DESCRIPTION:“OVHD\, DSTV”
URL:https://thehomechannel.co.za/tv-schedule/000424-2/
CATEGORIES:04:00:00
END:VEVENT
BEGIN:VEVENT
DTSTART;TZID=Africa/Johannesburg:20260425T040745
DTEND;TZID=Africa/Johannesburg:20260502T010000
DTSTAMP:20260425T040745
CREATED:20260413T195020Z
LAST-MODIFIED:20260413T195020Z
UID:138550-0-1777683600@thehomechannel.co.za
SUMMARY:000420
DESCRIPTION:“OVHD\, DSTV”
URL:https://thehomechannel.co.za/tv-schedule/000420-2/
CATEGORIES:02:00:00
END:VEVENT
BEGIN:VEVENT
DTSTART;TZID=Africa/Johannesburg:20260425T040745
DTEND;TZID=Africa/Johannesburg:20260502T053000
DTSTAMP:20260425T040745
CREATED:20260413T195132Z
LAST-MODIFIED:20260413T195132Z
UID:138557-0-1777699800@thehomechannel.co.za
SUMMARY:000427
DESCRIPTION:“OVHD\, DSTV”
URL:https://thehomechannel.co.za/tv-schedule/000427-2/
CATEGORIES:06:00:00
END:VEVENT
BEGIN:VEVENT
DTSTART;TZID=Africa/Johannesburg:20260425T040745
DTEND;TZID=Africa/Johannesburg:20260502T060000
DTSTAMP:20260425T040745
CREATED:20260413T195132Z
LAST-MODIFIED:20260413T195132Z
UID:138558-0-1777701600@thehomechannel.co.za
SUMMARY:000428
DESCRIPTION:“OVHD\, DSTV”
URL:https://thehomechannel.co.za/tv-schedule/000428-2/
CATEGORIES:07:00:00
END:VEVENT
BEGIN:VEVENT
DTSTART;TZID=Africa/Johannesburg:20260425T040745
DTEND;TZID=Africa/Johannesburg:20260502T070000
DTSTAMP:20260425T040745
CREATED:20260413T195132Z
LAST-MODIFIED:20260413T195132Z
UID:138559-0-1777705200@thehomechannel.co.za
SUMMARY:000429
DESCRIPTION:“OVHD\, DSTV”
URL:https://thehomechannel.co.za/tv-schedule/000429-2/
CATEGORIES:07:30:00
END:VEVENT
BEGIN:VEVENT
DTSTART;TZID=Africa/Johannesburg:20260425T040745
DTEND;TZID=Africa/Johannesburg:20260502T040000
DTSTAMP:20260425T040745
CREATED:20260413T195132Z
LAST-MODIFIED:20260413T195132Z
UID:138555-0-1777694400@thehomechannel.co.za
SUMMARY:000425
DESCRIPTION:“OVHD\, DSTV”
URL:https://thehomechannel.co.za/tv-schedule/000425-2/
CATEGORIES:05:00:00
END:VEVENT
BEGIN:VEVENT
DTSTART;TZID=Africa/Johannesburg:20260425T040745
DTEND;TZID=Africa/Johannesburg:20260502T050000
DTSTAMP:20260425T040745
CREATED:20260413T195132Z
LAST-MODIFIED:20260413T195132Z
UID:138556-0-1777698000@thehomechannel.co.za
SUMMARY:000426
DESCRIPTION:“OVHD\, DSTV”
URL:https://thehomechannel.co.za/tv-schedule/000426-2/
CATEGORIES:05:30:00
END:VEVENT
BEGIN:VEVENT
DTSTART;TZID=Africa/Johannesburg:20260425T040745
DTEND;TZID=Africa/Johannesburg:20260502T083000
DTSTAMP:20260425T040745
CREATED:20260413T195339Z
LAST-MODIFIED:20260413T195339Z
UID:138562-0-1777710600@thehomechannel.co.za
SUMMARY:000432
DESCRIPTION:“OVHD\, DSTV”
URL:https://thehomechannel.co.za/tv-schedule/000432-2/
CATEGORIES:09:30:00
END:VEVENT
BEGIN:VEVENT
DTSTART;TZID=Africa/Johannesburg:20260425T040745
DTEND;TZID=Africa/Johannesburg:20260502T093000
DTSTAMP:20260425T040745
CREATED:20260413T195339Z
LAST-MODIFIED:20260413T195339Z
UID:138563-0-1777714200@thehomechannel.co.za
SUMMARY:000433
DESCRIPTION:“OVHD\, DSTV”
URL:https://thehomechannel.co.za/tv-schedule/000433-2/
CATEGORIES:10:00:00
END:VEVENT
BEGIN:VEVENT
DTSTART;TZID=Africa/Johannesburg:20260425T040745
DTEND;TZID=Africa/Johannesburg:20260502T100000
DTSTAMP:20260425T040745
CREATED:20260413T195339Z
LAST-MODIFIED:20260413T195339Z
UID:138564-0-1777716000@thehomechannel.co.za
SUMMARY:000434
DESCRIPTION:“OVHD\, DSTV”
URL:https://thehomechannel.co.za/tv-schedule/000434-2/
CATEGORIES:10:30:00
END:VEVENT
BEGIN:VEVENT
DTSTART;TZID=Africa/Johannesburg:20260425T040745
DTEND;TZID=Africa/Johannesburg:20260502T073000
DTSTAMP:20260425T040745
CREATED:20260413T195339Z
LAST-MODIFIED:20260413T195339Z
UID:138560-0-1777707000@thehomechannel.co.za
SUMMARY:000430
DESCRIPTION:“OVHD\, DSTV”
URL:https://thehomechannel.co.za/tv-schedule/000430-2/
CATEGORIES:08:00:00
END:VEVENT
BEGIN:VEVENT
DTSTART;TZID=Africa/Johannesburg:20260425T040745
DTEND;TZID=Africa/Johannesburg:20260502T080000
DTSTAMP:20260425T040745
CREATED:20260413T195339Z
LAST-MODIFIED:20260413T195339Z
UID:138561-0-1777708800@thehomechannel.co.za
SUMMARY:000431
DESCRIPTION:“OVHD\, DSTV”
URL:https://thehomechannel.co.za/tv-schedule/000431-2/
CATEGORIES:08:30:00
END:VEVENT
BEGIN:VEVENT
DTSTART;TZID=Africa/Johannesburg:20260425T040745
DTEND;TZID=Africa/Johannesburg:20260502T120000
DTSTAMP:20260425T040745
CREATED:20260413T195533Z
LAST-MODIFIED:20260413T195533Z
UID:138567-0-1777723200@thehomechannel.co.za
SUMMARY:000437
DESCRIPTION:“OVHD\, DSTV”
URL:https://thehomechannel.co.za/tv-schedule/000437-2/
CATEGORIES:12:30:00
END:VEVENT
BEGIN:VEVENT
DTSTART;TZID=Africa/Johannesburg:20260425T040745
DTEND;TZID=Africa/Johannesburg:20260502T123000
DTSTAMP:20260425T040745
CREATED:20260413T195533Z
LAST-MODIFIED:20260413T195533Z
UID:138568-0-1777725000@thehomechannel.co.za
SUMMARY:000438
DESCRIPTION:OVHD
URL:https://thehomechannel.co.za/tv-schedule/000438-2/
CATEGORIES:13:30:00
END:VEVENT
BEGIN:VEVENT
DTSTART;TZID=Africa/Johannesburg:20260425T040745
DTEND;TZID=Africa/Johannesburg:20260502T133000
DTSTAMP:20260425T040745
CREATED:20260413T195533Z
LAST-MODIFIED:20260413T195533Z
UID:138569-0-1777728600@thehomechannel.co.za
SUMMARY:000439
DESCRIPTION:“OVHD\, DSTV”
URL:https://thehomechannel.co.za/tv-schedule/000439-2/
CATEGORIES:14:00:00
END:VEVENT
BEGIN:VEVENT
DTSTART;TZID=Africa/Johannesburg:20260425T040745
DTEND;TZID=Africa/Johannesburg:20260502T103000
DTSTAMP:20260425T040745
CREATED:20260413T195533Z
LAST-MODIFIED:20260413T195533Z
UID:138565-0-1777717800@thehomechannel.co.za
SUMMARY:000435
DESCRIPTION:“OVHD\, DSTV”
URL:https://thehomechannel.co.za/tv-schedule/000435-2/
CATEGORIES:11:00:00
END:VEVENT
BEGIN:VEVENT
DTSTART;TZID=Africa/Johannesburg:20260425T040745
DTEND;TZID=Africa/Johannesburg:20260502T110000
DTSTAMP:20260425T040745
CREATED:20260413T195533Z
LAST-MODIFIED:20260413T195533Z
UID:138566-0-1777719600@thehomechannel.co.za
SUMMARY:000436
DESCRIPTION:“OVHD\, DSTV”
URL:https://thehomechannel.co.za/tv-schedule/000436-2/
CATEGORIES:12:00:00
END:VEVENT
BEGIN:VEVENT
DTSTART;TZID=Africa/Johannesburg:20260425T040745
DTEND;TZID=Africa/Johannesburg:20260502T160000
DTSTAMP:20260425T040745
CREATED:20260413T195716Z
LAST-MODIFIED:20260413T195716Z
UID:138573-0-1777737600@thehomechannel.co.za
SUMMARY:000443
DESCRIPTION:“OVHD\, DSTV”
URL:https://thehomechannel.co.za/tv-schedule/000443-2/
CATEGORIES:17:00:00
END:VEVENT
BEGIN:VEVENT
DTSTART;TZID=Africa/Johannesburg:20260425T040745
DTEND;TZID=Africa/Johannesburg:20260502T170000
DTSTAMP:20260425T040745
CREATED:20260413T195716Z
LAST-MODIFIED:20260413T195716Z
UID:138574-0-1777741200@thehomechannel.co.za
SUMMARY:000444
DESCRIPTION:“OVHD\, DSTV”
URL:https://thehomechannel.co.za/tv-schedule/000444-2/
CATEGORIES:17:30:00
END:VEVENT
BEGIN:VEVENT
DTSTART;TZID=Africa/Johannesburg:20260425T040745
DTEND;TZID=Africa/Johannesburg:20260502T140000
DTSTAMP:20260425T040745
CREATED:20260413T195716Z
LAST-MODIFIED:20260413T195716Z
UID:138570-0-1777730400@thehomechannel.co.za
SUMMARY:000440
DESCRIPTION:“OVHD\, DSTV”
URL:https://thehomechannel.co.za/tv-schedule/000440-2/
CATEGORIES:15:00:00
END:VEVENT
BEGIN:VEVENT
DTSTART;TZID=Africa/Johannesburg:20260425T040745
DTEND;TZID=Africa/Johannesburg:20260502T150000
DTSTAMP:20260425T040745
CREATED:20260413T195716Z
LAST-MODIFIED:20260413T195716Z
UID:138571-0-1777734000@thehomechannel.co.za
SUMMARY:000441
DESCRIPTION:“OVHD\, DSTV”
URL:https://thehomechannel.co.za/tv-schedule/000441-2/
CATEGORIES:15:30:00
END:VEVENT
BEGIN:VEVENT
DTSTART;TZID=Africa/Johannesburg:20260425T040745
DTEND;TZID=Africa/Johannesburg:20260502T153000
DTSTAMP:20260425T040745
CREATED:20260413T195716Z
LAST-MODIFIED:20260413T195716Z
UID:138572-0-1777735800@thehomechannel.co.za
SUMMARY:000442
DESCRIPTION:“OVHD\, DSTV”
URL:https://thehomechannel.co.za/tv-schedule/000442-2/
CATEGORIES:16:00:00
END:VEVENT
BEGIN:VEVENT
DTSTART;TZID=Africa/Johannesburg:20260425T040745
DTEND;TZID=Africa/Johannesburg:20260502T193000
DTSTAMP:20260425T040745
CREATED:20260413T195932Z
LAST-MODIFIED:20260413T195932Z
UID:138578-0-1777750200@thehomechannel.co.za
SUMMARY:000448
DESCRIPTION:“OVHD\, DSTV”
URL:https://thehomechannel.co.za/tv-schedule/000448-2/
CATEGORIES:20:00:00
END:VEVENT
END:VCALENDAR