BEGIN:VCALENDAR
VERSION:2.0
PRODID:-//The Home Channel - ECPv6.15.11//NONSGML v1.0//EN
CALSCALE:GREGORIAN
METHOD:PUBLISH
X-WR-CALNAME:The Home Channel
X-ORIGINAL-URL:https://thehomechannel.co.za
X-WR-CALDESC:Events for The Home Channel
REFRESH-INTERVAL;VALUE=DURATION:PT1H
X-Robots-Tag:noindex
X-PUBLISHED-TTL:PT1H
BEGIN:VTIMEZONE
TZID:Africa/Johannesburg
BEGIN:STANDARD
TZOFFSETFROM:+0200
TZOFFSETTO:+0200
TZNAME:SAST
DTSTART:19690101T000000
END:STANDARD
END:VTIMEZONE
BEGIN:VEVENT
DTSTART;TZID=Africa/Johannesburg:20260424T231308
DTEND;TZID=Africa/Johannesburg:20260501T040000
DTSTAMP:20260424T231308
CREATED:20260413T193530Z
LAST-MODIFIED:20260413T193530Z
UID:138519-0-1777608000@thehomechannel.co.za
SUMMARY:000389
DESCRIPTION:“OVHD\, DSTV”
URL:https://thehomechannel.co.za/tv-schedule/000389-2/
CATEGORIES:05:00:00
END:VEVENT
BEGIN:VEVENT
DTSTART;TZID=Africa/Johannesburg:20260424T231308
DTEND;TZID=Africa/Johannesburg:20260501T020000
DTSTAMP:20260424T231308
CREATED:20260413T193530Z
LAST-MODIFIED:20260413T193530Z
UID:138515-0-1777600800@thehomechannel.co.za
SUMMARY:000385
DESCRIPTION:“OVHD\, DSTV”
URL:https://thehomechannel.co.za/tv-schedule/000385-2/
CATEGORIES:02:30:00
END:VEVENT
BEGIN:VEVENT
DTSTART;TZID=Africa/Johannesburg:20260424T231308
DTEND;TZID=Africa/Johannesburg:20260501T023000
DTSTAMP:20260424T231308
CREATED:20260413T193530Z
LAST-MODIFIED:20260413T193530Z
UID:138516-0-1777602600@thehomechannel.co.za
SUMMARY:000386
DESCRIPTION:“OVHD\, DSTV”
URL:https://thehomechannel.co.za/tv-schedule/000386-2/
CATEGORIES:03:00:00
END:VEVENT
BEGIN:VEVENT
DTSTART;TZID=Africa/Johannesburg:20260424T231308
DTEND;TZID=Africa/Johannesburg:20260501T030000
DTSTAMP:20260424T231308
CREATED:20260413T193530Z
LAST-MODIFIED:20260413T193530Z
UID:138517-0-1777604400@thehomechannel.co.za
SUMMARY:000387
DESCRIPTION:“OVHD\, DSTV”
URL:https://thehomechannel.co.za/tv-schedule/000387-2/
CATEGORIES:03:30:00
END:VEVENT
BEGIN:VEVENT
DTSTART;TZID=Africa/Johannesburg:20260424T231308
DTEND;TZID=Africa/Johannesburg:20260501T033000
DTSTAMP:20260424T231308
CREATED:20260413T193530Z
LAST-MODIFIED:20260413T193530Z
UID:138518-0-1777606200@thehomechannel.co.za
SUMMARY:000388
DESCRIPTION:“OVHD\, DSTV”
URL:https://thehomechannel.co.za/tv-schedule/000388-2/
CATEGORIES:04:00:00
END:VEVENT
BEGIN:VEVENT
DTSTART;TZID=Africa/Johannesburg:20260424T231308
DTEND;TZID=Africa/Johannesburg:20260501T050000
DTSTAMP:20260424T231308
CREATED:20260413T193731Z
LAST-MODIFIED:20260413T193731Z
UID:138520-0-1777611600@thehomechannel.co.za
SUMMARY:000390
DESCRIPTION:“OVHD\, DSTV”
URL:https://thehomechannel.co.za/tv-schedule/000390-2/
CATEGORIES:06:00:00
END:VEVENT
BEGIN:VEVENT
DTSTART;TZID=Africa/Johannesburg:20260424T231308
DTEND;TZID=Africa/Johannesburg:20260501T060000
DTSTAMP:20260424T231308
CREATED:20260413T193731Z
LAST-MODIFIED:20260413T193731Z
UID:138521-0-1777615200@thehomechannel.co.za
SUMMARY:000391
DESCRIPTION:“OVHD\, DSTV”
URL:https://thehomechannel.co.za/tv-schedule/000391-2/
CATEGORIES:06:30:00
END:VEVENT
BEGIN:VEVENT
DTSTART;TZID=Africa/Johannesburg:20260424T231308
DTEND;TZID=Africa/Johannesburg:20260501T063000
DTSTAMP:20260424T231308
CREATED:20260413T193731Z
LAST-MODIFIED:20260413T193731Z
UID:138522-0-1777617000@thehomechannel.co.za
SUMMARY:000392
DESCRIPTION:“OVHD\, DSTV”
URL:https://thehomechannel.co.za/tv-schedule/000392-2/
CATEGORIES:07:00:00
END:VEVENT
BEGIN:VEVENT
DTSTART;TZID=Africa/Johannesburg:20260424T231308
DTEND;TZID=Africa/Johannesburg:20260501T070000
DTSTAMP:20260424T231308
CREATED:20260413T193731Z
LAST-MODIFIED:20260413T193731Z
UID:138523-0-1777618800@thehomechannel.co.za
SUMMARY:000393
DESCRIPTION:“OVHD\, DSTV”
URL:https://thehomechannel.co.za/tv-schedule/000393-2/
CATEGORIES:07:30:00
END:VEVENT
BEGIN:VEVENT
DTSTART;TZID=Africa/Johannesburg:20260424T231308
DTEND;TZID=Africa/Johannesburg:20260501T073000
DTSTAMP:20260424T231308
CREATED:20260413T193731Z
LAST-MODIFIED:20260413T193731Z
UID:138524-0-1777620600@thehomechannel.co.za
SUMMARY:000394
DESCRIPTION:“OVHD\, DSTV”
URL:https://thehomechannel.co.za/tv-schedule/000394-2/
CATEGORIES:08:00:00
END:VEVENT
BEGIN:VEVENT
DTSTART;TZID=Africa/Johannesburg:20260424T231308
DTEND;TZID=Africa/Johannesburg:20260501T080000
DTSTAMP:20260424T231308
CREATED:20260413T193933Z
LAST-MODIFIED:20260413T193933Z
UID:138525-0-1777622400@thehomechannel.co.za
SUMMARY:000395
DESCRIPTION:OVHD
URL:https://thehomechannel.co.za/tv-schedule/000395-2/
CATEGORIES:09:00:00
END:VEVENT
BEGIN:VEVENT
DTSTART;TZID=Africa/Johannesburg:20260424T231308
DTEND;TZID=Africa/Johannesburg:20260501T090000
DTSTAMP:20260424T231308
CREATED:20260413T193933Z
LAST-MODIFIED:20260413T193933Z
UID:138526-0-1777626000@thehomechannel.co.za
SUMMARY:000396
DESCRIPTION:“OVHD\, DSTV”
URL:https://thehomechannel.co.za/tv-schedule/000396-2/
CATEGORIES:10:00:00
END:VEVENT
BEGIN:VEVENT
DTSTART;TZID=Africa/Johannesburg:20260424T231308
DTEND;TZID=Africa/Johannesburg:20260501T100000
DTSTAMP:20260424T231308
CREATED:20260413T193934Z
LAST-MODIFIED:20260413T193934Z
UID:138527-0-1777629600@thehomechannel.co.za
SUMMARY:000397
DESCRIPTION:“OVHD\, DSTV”
URL:https://thehomechannel.co.za/tv-schedule/000397-2/
CATEGORIES:10:30:00
END:VEVENT
BEGIN:VEVENT
DTSTART;TZID=Africa/Johannesburg:20260424T231308
DTEND;TZID=Africa/Johannesburg:20260501T103000
DTSTAMP:20260424T231308
CREATED:20260413T193934Z
LAST-MODIFIED:20260413T193934Z
UID:138528-0-1777631400@thehomechannel.co.za
SUMMARY:000398
DESCRIPTION:“OVHD\, DSTV”
URL:https://thehomechannel.co.za/tv-schedule/000398-2/
CATEGORIES:11:00:00
END:VEVENT
BEGIN:VEVENT
DTSTART;TZID=Africa/Johannesburg:20260424T231308
DTEND;TZID=Africa/Johannesburg:20260501T110000
DTSTAMP:20260424T231308
CREATED:20260413T193934Z
LAST-MODIFIED:20260413T193934Z
UID:138529-0-1777633200@thehomechannel.co.za
SUMMARY:000399
DESCRIPTION:“OVHD\, DSTV”
URL:https://thehomechannel.co.za/tv-schedule/000399-2/
CATEGORIES:12:00:00
END:VEVENT
BEGIN:VEVENT
DTSTART;TZID=Africa/Johannesburg:20260424T231308
DTEND;TZID=Africa/Johannesburg:20260501T120000
DTSTAMP:20260424T231308
CREATED:20260413T194133Z
LAST-MODIFIED:20260413T194133Z
UID:138530-0-1777636800@thehomechannel.co.za
SUMMARY:000400
DESCRIPTION:“OVHD\, DSTV”
URL:https://thehomechannel.co.za/tv-schedule/000400-2/
CATEGORIES:12:30:00
END:VEVENT
BEGIN:VEVENT
DTSTART;TZID=Africa/Johannesburg:20260424T231308
DTEND;TZID=Africa/Johannesburg:20260501T123000
DTSTAMP:20260424T231308
CREATED:20260413T194133Z
LAST-MODIFIED:20260413T194133Z
UID:138531-0-1777638600@thehomechannel.co.za
SUMMARY:000401
DESCRIPTION:“OVHD\, DSTV”
URL:https://thehomechannel.co.za/tv-schedule/000401-2/
CATEGORIES:13:00:00
END:VEVENT
BEGIN:VEVENT
DTSTART;TZID=Africa/Johannesburg:20260424T231308
DTEND;TZID=Africa/Johannesburg:20260501T130000
DTSTAMP:20260424T231308
CREATED:20260413T194133Z
LAST-MODIFIED:20260413T194133Z
UID:138532-0-1777640400@thehomechannel.co.za
SUMMARY:000402
DESCRIPTION:“OVHD\, DSTV”
URL:https://thehomechannel.co.za/tv-schedule/000402-2/
CATEGORIES:14:00:00
END:VEVENT
BEGIN:VEVENT
DTSTART;TZID=Africa/Johannesburg:20260424T231308
DTEND;TZID=Africa/Johannesburg:20260501T140000
DTSTAMP:20260424T231308
CREATED:20260413T194133Z
LAST-MODIFIED:20260413T194133Z
UID:138533-0-1777644000@thehomechannel.co.za
SUMMARY:000403
DESCRIPTION:“OVHD\, DSTV”
URL:https://thehomechannel.co.za/tv-schedule/000403-2/
CATEGORIES:14:30:00
END:VEVENT
BEGIN:VEVENT
DTSTART;TZID=Africa/Johannesburg:20260424T231308
DTEND;TZID=Africa/Johannesburg:20260501T143000
DTSTAMP:20260424T231308
CREATED:20260413T194133Z
LAST-MODIFIED:20260413T194133Z
UID:138534-0-1777645800@thehomechannel.co.za
SUMMARY:000404
DESCRIPTION:“OVHD\, DSTV”
URL:https://thehomechannel.co.za/tv-schedule/000404-2/
CATEGORIES:15:00:00
END:VEVENT
BEGIN:VEVENT
DTSTART;TZID=Africa/Johannesburg:20260424T231308
DTEND;TZID=Africa/Johannesburg:20260501T150000
DTSTAMP:20260424T231308
CREATED:20260413T194311Z
LAST-MODIFIED:20260413T194311Z
UID:138535-0-1777647600@thehomechannel.co.za
SUMMARY:000405
DESCRIPTION:“OVHD\, DSTV”
URL:https://thehomechannel.co.za/tv-schedule/000405-2/
CATEGORIES:15:30:00
END:VEVENT
BEGIN:VEVENT
DTSTART;TZID=Africa/Johannesburg:20260424T231308
DTEND;TZID=Africa/Johannesburg:20260501T153000
DTSTAMP:20260424T231308
CREATED:20260413T194311Z
LAST-MODIFIED:20260413T194311Z
UID:138536-0-1777649400@thehomechannel.co.za
SUMMARY:000406
DESCRIPTION:“OVHD\, DSTV”
URL:https://thehomechannel.co.za/tv-schedule/000406-2/
CATEGORIES:16:00:00
END:VEVENT
BEGIN:VEVENT
DTSTART;TZID=Africa/Johannesburg:20260424T231308
DTEND;TZID=Africa/Johannesburg:20260501T160000
DTSTAMP:20260424T231308
CREATED:20260413T194311Z
LAST-MODIFIED:20260413T194311Z
UID:138537-0-1777651200@thehomechannel.co.za
SUMMARY:000407
DESCRIPTION:“OVHD\, DSTV”
URL:https://thehomechannel.co.za/tv-schedule/000407-2/
CATEGORIES:16:30:00
END:VEVENT
BEGIN:VEVENT
DTSTART;TZID=Africa/Johannesburg:20260424T231308
DTEND;TZID=Africa/Johannesburg:20260501T163000
DTSTAMP:20260424T231308
CREATED:20260413T194311Z
LAST-MODIFIED:20260413T194311Z
UID:138538-0-1777653000@thehomechannel.co.za
SUMMARY:000408
DESCRIPTION:“OVHD\, DSTV”
URL:https://thehomechannel.co.za/tv-schedule/000408-2/
CATEGORIES:17:00:00
END:VEVENT
BEGIN:VEVENT
DTSTART;TZID=Africa/Johannesburg:20260424T231308
DTEND;TZID=Africa/Johannesburg:20260501T170000
DTSTAMP:20260424T231308
CREATED:20260413T194311Z
LAST-MODIFIED:20260413T194311Z
UID:138539-0-1777654800@thehomechannel.co.za
SUMMARY:000409
DESCRIPTION:“OVHD\, DSTV”
URL:https://thehomechannel.co.za/tv-schedule/000409-2/
CATEGORIES:17:30:00
END:VEVENT
BEGIN:VEVENT
DTSTART;TZID=Africa/Johannesburg:20260424T231308
DTEND;TZID=Africa/Johannesburg:20260501T180000
DTSTAMP:20260424T231308
CREATED:20260413T194531Z
LAST-MODIFIED:20260413T194531Z
UID:138541-0-1777658400@thehomechannel.co.za
SUMMARY:000411
DESCRIPTION:“OVHD\, DSTV”
URL:https://thehomechannel.co.za/tv-schedule/000411-2/
CATEGORIES:19:00:00
END:VEVENT
BEGIN:VEVENT
DTSTART;TZID=Africa/Johannesburg:20260424T231308
DTEND;TZID=Africa/Johannesburg:20260501T190000
DTSTAMP:20260424T231308
CREATED:20260413T194531Z
LAST-MODIFIED:20260413T194531Z
UID:138542-0-1777662000@thehomechannel.co.za
SUMMARY:000412
DESCRIPTION:OVHD
URL:https://thehomechannel.co.za/tv-schedule/000412-2/
CATEGORIES:20:00:00
END:VEVENT
BEGIN:VEVENT
DTSTART;TZID=Africa/Johannesburg:20260424T231308
DTEND;TZID=Africa/Johannesburg:20260501T200000
DTSTAMP:20260424T231308
CREATED:20260413T194531Z
LAST-MODIFIED:20260413T194531Z
UID:138543-0-1777665600@thehomechannel.co.za
SUMMARY:000413
DESCRIPTION:“OVHD\, DSTV”
URL:https://thehomechannel.co.za/tv-schedule/000413-2/
CATEGORIES:21:00:00
END:VEVENT
BEGIN:VEVENT
DTSTART;TZID=Africa/Johannesburg:20260424T231308
DTEND;TZID=Africa/Johannesburg:20260501T210000
DTSTAMP:20260424T231308
CREATED:20260413T194531Z
LAST-MODIFIED:20260413T194531Z
UID:138544-0-1777669200@thehomechannel.co.za
SUMMARY:000414
DESCRIPTION:“OVHD\, DSTV”
URL:https://thehomechannel.co.za/tv-schedule/000414-2/
CATEGORIES:22:00:00
END:VEVENT
BEGIN:VEVENT
DTSTART;TZID=Africa/Johannesburg:20260424T231308
DTEND;TZID=Africa/Johannesburg:20260501T173000
DTSTAMP:20260424T231308
CREATED:20260413T194531Z
LAST-MODIFIED:20260413T194531Z
UID:138540-0-1777656600@thehomechannel.co.za
SUMMARY:000410
DESCRIPTION:“OVHD\, DSTV”
URL:https://thehomechannel.co.za/tv-schedule/000410-2/
CATEGORIES:18:00:00
END:VEVENT
END:VCALENDAR