BEGIN:VCALENDAR
VERSION:2.0
PRODID:-//The Home Channel - ECPv6.15.11//NONSGML v1.0//EN
CALSCALE:GREGORIAN
METHOD:PUBLISH
X-ORIGINAL-URL:https://thehomechannel.co.za
X-WR-CALDESC:Events for The Home Channel
REFRESH-INTERVAL;VALUE=DURATION:PT1H
X-Robots-Tag:noindex
X-PUBLISHED-TTL:PT1H
BEGIN:VTIMEZONE
TZID:Africa/Johannesburg
BEGIN:STANDARD
TZOFFSETFROM:+0200
TZOFFSETTO:+0200
TZNAME:SAST
DTSTART:19690101T000000
END:STANDARD
END:VTIMEZONE
BEGIN:VEVENT
DTSTART;TZID=Africa/Johannesburg:20260424T200225
DTEND;TZID=Africa/Johannesburg:20260430T140000
DTSTAMP:20260424T200225
CREATED:20260413T192752Z
LAST-MODIFIED:20260413T192752Z
UID:138497-0-1777557600@thehomechannel.co.za
SUMMARY:000367
DESCRIPTION:“OVHD\, DSTV”
URL:https://thehomechannel.co.za/tv-schedule/000367-2/
CATEGORIES:14:30:00
END:VEVENT
BEGIN:VEVENT
DTSTART;TZID=Africa/Johannesburg:20260424T200225
DTEND;TZID=Africa/Johannesburg:20260430T143000
DTSTAMP:20260424T200225
CREATED:20260413T192752Z
LAST-MODIFIED:20260413T192752Z
UID:138498-0-1777559400@thehomechannel.co.za
SUMMARY:000368
DESCRIPTION:“OVHD\, DSTV”
URL:https://thehomechannel.co.za/tv-schedule/000368-2/
CATEGORIES:15:00:00
END:VEVENT
BEGIN:VEVENT
DTSTART;TZID=Africa/Johannesburg:20260424T200225
DTEND;TZID=Africa/Johannesburg:20260430T150000
DTSTAMP:20260424T200225
CREATED:20260413T192752Z
LAST-MODIFIED:20260413T192752Z
UID:138499-0-1777561200@thehomechannel.co.za
SUMMARY:000369
DESCRIPTION:“OVHD\, DSTV”
URL:https://thehomechannel.co.za/tv-schedule/000369-2/
CATEGORIES:15:30:00
END:VEVENT
BEGIN:VEVENT
DTSTART;TZID=Africa/Johannesburg:20260424T200225
DTEND;TZID=Africa/Johannesburg:20260430T160000
DTSTAMP:20260424T200225
CREATED:20260413T192922Z
LAST-MODIFIED:20260413T192922Z
UID:138501-0-1777564800@thehomechannel.co.za
SUMMARY:000371
DESCRIPTION:“OVHD\, DSTV”
URL:https://thehomechannel.co.za/tv-schedule/000371-2/
CATEGORIES:17:00:00
END:VEVENT
BEGIN:VEVENT
DTSTART;TZID=Africa/Johannesburg:20260424T200225
DTEND;TZID=Africa/Johannesburg:20260430T170000
DTSTAMP:20260424T200225
CREATED:20260413T192922Z
LAST-MODIFIED:20260413T192922Z
UID:138502-0-1777568400@thehomechannel.co.za
SUMMARY:000372
DESCRIPTION:“OVHD\, DSTV”
URL:https://thehomechannel.co.za/tv-schedule/000372-2/
CATEGORIES:18:00:00
END:VEVENT
BEGIN:VEVENT
DTSTART;TZID=Africa/Johannesburg:20260424T200225
DTEND;TZID=Africa/Johannesburg:20260430T180000
DTSTAMP:20260424T200225
CREATED:20260413T192922Z
LAST-MODIFIED:20260413T192922Z
UID:138503-0-1777572000@thehomechannel.co.za
SUMMARY:000373
DESCRIPTION:“OVHD\, DSTV”
URL:https://thehomechannel.co.za/tv-schedule/000373-2/
CATEGORIES:18:30:00
END:VEVENT
BEGIN:VEVENT
DTSTART;TZID=Africa/Johannesburg:20260424T200225
DTEND;TZID=Africa/Johannesburg:20260430T183000
DTSTAMP:20260424T200225
CREATED:20260413T192922Z
LAST-MODIFIED:20260413T192922Z
UID:138504-0-1777573800@thehomechannel.co.za
SUMMARY:000374
DESCRIPTION:“OVHD\, DSTV”
URL:https://thehomechannel.co.za/tv-schedule/000374-2/
CATEGORIES:19:00:00
END:VEVENT
BEGIN:VEVENT
DTSTART;TZID=Africa/Johannesburg:20260424T200225
DTEND;TZID=Africa/Johannesburg:20260430T153000
DTSTAMP:20260424T200225
CREATED:20260413T192922Z
LAST-MODIFIED:20260413T192922Z
UID:138500-0-1777563000@thehomechannel.co.za
SUMMARY:000370
DESCRIPTION:“OVHD\, DSTV”
URL:https://thehomechannel.co.za/tv-schedule/000370-2/
CATEGORIES:16:00:00
END:VEVENT
BEGIN:VEVENT
DTSTART;TZID=Africa/Johannesburg:20260424T200225
DTEND;TZID=Africa/Johannesburg:20260430T193000
DTSTAMP:20260424T200225
CREATED:20260413T193131Z
LAST-MODIFIED:20260413T193131Z
UID:138506-0-1777577400@thehomechannel.co.za
SUMMARY:000376
DESCRIPTION:“OVHD\, DSTV”
URL:https://thehomechannel.co.za/tv-schedule/000376-2/
CATEGORIES:20:00:00
END:VEVENT
BEGIN:VEVENT
DTSTART;TZID=Africa/Johannesburg:20260424T200225
DTEND;TZID=Africa/Johannesburg:20260430T200000
DTSTAMP:20260424T200225
CREATED:20260413T193131Z
LAST-MODIFIED:20260413T193131Z
UID:138507-0-1777579200@thehomechannel.co.za
SUMMARY:000377
DESCRIPTION:OVHD
URL:https://thehomechannel.co.za/tv-schedule/000377-2/
CATEGORIES:21:00:00
END:VEVENT
BEGIN:VEVENT
DTSTART;TZID=Africa/Johannesburg:20260424T200225
DTEND;TZID=Africa/Johannesburg:20260430T190000
DTSTAMP:20260424T200225
CREATED:20260413T193131Z
LAST-MODIFIED:20260413T193131Z
UID:138505-0-1777575600@thehomechannel.co.za
SUMMARY:000375
DESCRIPTION:“OVHD\, DSTV”
URL:https://thehomechannel.co.za/tv-schedule/000375-2/
CATEGORIES:19:30:00
END:VEVENT
BEGIN:VEVENT
DTSTART;TZID=Africa/Johannesburg:20260424T200225
DTEND;TZID=Africa/Johannesburg:20260430T210000
DTSTAMP:20260424T200225
CREATED:20260413T193132Z
LAST-MODIFIED:20260413T193132Z
UID:138508-0-1777582800@thehomechannel.co.za
SUMMARY:000378
DESCRIPTION:“OVHD\, DSTV”
URL:https://thehomechannel.co.za/tv-schedule/000378-2/
CATEGORIES:22:00:00
END:VEVENT
BEGIN:VEVENT
DTSTART;TZID=Africa/Johannesburg:20260424T200225
DTEND;TZID=Africa/Johannesburg:20260430T220000
DTSTAMP:20260424T200225
CREATED:20260413T193132Z
LAST-MODIFIED:20260413T193132Z
UID:138509-0-1777586400@thehomechannel.co.za
SUMMARY:000379
DESCRIPTION:“OVHD\, DSTV”
URL:https://thehomechannel.co.za/tv-schedule/000379-2/
CATEGORIES:23:00:00
END:VEVENT
BEGIN:VEVENT
DTSTART;TZID=Africa/Johannesburg:20260424T200225
DTEND;TZID=Africa/Johannesburg:20260501T233000
DTSTAMP:20260424T200225
CREATED:20260413T193309Z
LAST-MODIFIED:20260413T193309Z
UID:138511-0-1777678200@thehomechannel.co.za
SUMMARY:000381
DESCRIPTION:“OVHD\, DSTV”
URL:https://thehomechannel.co.za/tv-schedule/000381-2/
CATEGORIES:00:00:00
END:VEVENT
BEGIN:VEVENT
DTSTART;TZID=Africa/Johannesburg:20260424T200225
DTEND;TZID=Africa/Johannesburg:20260501T000000
DTSTAMP:20260424T200225
CREATED:20260413T193309Z
LAST-MODIFIED:20260413T193309Z
UID:138512-0-1777593600@thehomechannel.co.za
SUMMARY:000382
DESCRIPTION:“OVHD\, DSTV”
URL:https://thehomechannel.co.za/tv-schedule/000382-2/
CATEGORIES:01:00:00
END:VEVENT
BEGIN:VEVENT
DTSTART;TZID=Africa/Johannesburg:20260424T200225
DTEND;TZID=Africa/Johannesburg:20260501T010000
DTSTAMP:20260424T200225
CREATED:20260413T193309Z
LAST-MODIFIED:20260413T193309Z
UID:138513-0-1777597200@thehomechannel.co.za
SUMMARY:000383
DESCRIPTION:“OVHD\, DSTV”
URL:https://thehomechannel.co.za/tv-schedule/000383-2/
CATEGORIES:01:30:00
END:VEVENT
BEGIN:VEVENT
DTSTART;TZID=Africa/Johannesburg:20260424T200225
DTEND;TZID=Africa/Johannesburg:20260501T013000
DTSTAMP:20260424T200225
CREATED:20260413T193309Z
LAST-MODIFIED:20260413T193309Z
UID:138514-0-1777599000@thehomechannel.co.za
SUMMARY:000384
DESCRIPTION:“OVHD\, DSTV”
URL:https://thehomechannel.co.za/tv-schedule/000384-2/
CATEGORIES:02:00:00
END:VEVENT
BEGIN:VEVENT
DTSTART;TZID=Africa/Johannesburg:20260424T200225
DTEND;TZID=Africa/Johannesburg:20260430T230000
DTSTAMP:20260424T200225
CREATED:20260413T193309Z
LAST-MODIFIED:20260413T193309Z
UID:138510-0-1777590000@thehomechannel.co.za
SUMMARY:000380
DESCRIPTION:“OVHD\, DSTV”
URL:https://thehomechannel.co.za/tv-schedule/000380-2/
CATEGORIES:23:30:00
END:VEVENT
BEGIN:VEVENT
DTSTART;TZID=Africa/Johannesburg:20260424T200225
DTEND;TZID=Africa/Johannesburg:20260501T030000
DTSTAMP:20260424T200225
CREATED:20260413T193530Z
LAST-MODIFIED:20260413T193530Z
UID:138517-0-1777604400@thehomechannel.co.za
SUMMARY:000387
DESCRIPTION:“OVHD\, DSTV”
URL:https://thehomechannel.co.za/tv-schedule/000387-2/
CATEGORIES:03:30:00
END:VEVENT
BEGIN:VEVENT
DTSTART;TZID=Africa/Johannesburg:20260424T200225
DTEND;TZID=Africa/Johannesburg:20260501T033000
DTSTAMP:20260424T200225
CREATED:20260413T193530Z
LAST-MODIFIED:20260413T193530Z
UID:138518-0-1777606200@thehomechannel.co.za
SUMMARY:000388
DESCRIPTION:“OVHD\, DSTV”
URL:https://thehomechannel.co.za/tv-schedule/000388-2/
CATEGORIES:04:00:00
END:VEVENT
BEGIN:VEVENT
DTSTART;TZID=Africa/Johannesburg:20260424T200225
DTEND;TZID=Africa/Johannesburg:20260501T040000
DTSTAMP:20260424T200225
CREATED:20260413T193530Z
LAST-MODIFIED:20260413T193530Z
UID:138519-0-1777608000@thehomechannel.co.za
SUMMARY:000389
DESCRIPTION:“OVHD\, DSTV”
URL:https://thehomechannel.co.za/tv-schedule/000389-2/
CATEGORIES:05:00:00
END:VEVENT
BEGIN:VEVENT
DTSTART;TZID=Africa/Johannesburg:20260424T200225
DTEND;TZID=Africa/Johannesburg:20260501T020000
DTSTAMP:20260424T200225
CREATED:20260413T193530Z
LAST-MODIFIED:20260413T193530Z
UID:138515-0-1777600800@thehomechannel.co.za
SUMMARY:000385
DESCRIPTION:“OVHD\, DSTV”
URL:https://thehomechannel.co.za/tv-schedule/000385-2/
CATEGORIES:02:30:00
END:VEVENT
BEGIN:VEVENT
DTSTART;TZID=Africa/Johannesburg:20260424T200225
DTEND;TZID=Africa/Johannesburg:20260501T023000
DTSTAMP:20260424T200225
CREATED:20260413T193530Z
LAST-MODIFIED:20260413T193530Z
UID:138516-0-1777602600@thehomechannel.co.za
SUMMARY:000386
DESCRIPTION:“OVHD\, DSTV”
URL:https://thehomechannel.co.za/tv-schedule/000386-2/
CATEGORIES:03:00:00
END:VEVENT
BEGIN:VEVENT
DTSTART;TZID=Africa/Johannesburg:20260424T200225
DTEND;TZID=Africa/Johannesburg:20260501T063000
DTSTAMP:20260424T200225
CREATED:20260413T193731Z
LAST-MODIFIED:20260413T193731Z
UID:138522-0-1777617000@thehomechannel.co.za
SUMMARY:000392
DESCRIPTION:“OVHD\, DSTV”
URL:https://thehomechannel.co.za/tv-schedule/000392-2/
CATEGORIES:07:00:00
END:VEVENT
BEGIN:VEVENT
DTSTART;TZID=Africa/Johannesburg:20260424T200225
DTEND;TZID=Africa/Johannesburg:20260501T070000
DTSTAMP:20260424T200225
CREATED:20260413T193731Z
LAST-MODIFIED:20260413T193731Z
UID:138523-0-1777618800@thehomechannel.co.za
SUMMARY:000393
DESCRIPTION:“OVHD\, DSTV”
URL:https://thehomechannel.co.za/tv-schedule/000393-2/
CATEGORIES:07:30:00
END:VEVENT
BEGIN:VEVENT
DTSTART;TZID=Africa/Johannesburg:20260424T200225
DTEND;TZID=Africa/Johannesburg:20260501T073000
DTSTAMP:20260424T200225
CREATED:20260413T193731Z
LAST-MODIFIED:20260413T193731Z
UID:138524-0-1777620600@thehomechannel.co.za
SUMMARY:000394
DESCRIPTION:“OVHD\, DSTV”
URL:https://thehomechannel.co.za/tv-schedule/000394-2/
CATEGORIES:08:00:00
END:VEVENT
BEGIN:VEVENT
DTSTART;TZID=Africa/Johannesburg:20260424T200225
DTEND;TZID=Africa/Johannesburg:20260501T050000
DTSTAMP:20260424T200225
CREATED:20260413T193731Z
LAST-MODIFIED:20260413T193731Z
UID:138520-0-1777611600@thehomechannel.co.za
SUMMARY:000390
DESCRIPTION:“OVHD\, DSTV”
URL:https://thehomechannel.co.za/tv-schedule/000390-2/
CATEGORIES:06:00:00
END:VEVENT
BEGIN:VEVENT
DTSTART;TZID=Africa/Johannesburg:20260424T200225
DTEND;TZID=Africa/Johannesburg:20260501T060000
DTSTAMP:20260424T200225
CREATED:20260413T193731Z
LAST-MODIFIED:20260413T193731Z
UID:138521-0-1777615200@thehomechannel.co.za
SUMMARY:000391
DESCRIPTION:“OVHD\, DSTV”
URL:https://thehomechannel.co.za/tv-schedule/000391-2/
CATEGORIES:06:30:00
END:VEVENT
BEGIN:VEVENT
DTSTART;TZID=Africa/Johannesburg:20260424T200225
DTEND;TZID=Africa/Johannesburg:20260501T080000
DTSTAMP:20260424T200225
CREATED:20260413T193933Z
LAST-MODIFIED:20260413T193933Z
UID:138525-0-1777622400@thehomechannel.co.za
SUMMARY:000395
DESCRIPTION:OVHD
URL:https://thehomechannel.co.za/tv-schedule/000395-2/
CATEGORIES:09:00:00
END:VEVENT
BEGIN:VEVENT
DTSTART;TZID=Africa/Johannesburg:20260424T200225
DTEND;TZID=Africa/Johannesburg:20260501T090000
DTSTAMP:20260424T200225
CREATED:20260413T193933Z
LAST-MODIFIED:20260413T193933Z
UID:138526-0-1777626000@thehomechannel.co.za
SUMMARY:000396
DESCRIPTION:“OVHD\, DSTV”
URL:https://thehomechannel.co.za/tv-schedule/000396-2/
CATEGORIES:10:00:00
END:VEVENT
END:VCALENDAR