BEGIN:VCALENDAR
VERSION:2.0
PRODID:-//The Home Channel - ECPv6.15.11//NONSGML v1.0//EN
CALSCALE:GREGORIAN
METHOD:PUBLISH
X-ORIGINAL-URL:https://thehomechannel.co.za
X-WR-CALDESC:Events for The Home Channel
REFRESH-INTERVAL;VALUE=DURATION:PT1H
X-Robots-Tag:noindex
X-PUBLISHED-TTL:PT1H
BEGIN:VTIMEZONE
TZID:Africa/Johannesburg
BEGIN:STANDARD
TZOFFSETFROM:+0200
TZOFFSETTO:+0200
TZNAME:SAST
DTSTART:19690101T000000
END:STANDARD
END:VTIMEZONE
BEGIN:VEVENT
DTSTART;TZID=Africa/Johannesburg:20260424T183054
DTEND;TZID=Africa/Johannesburg:20260430T090000
DTSTAMP:20260424T183054
CREATED:20260413T192330Z
LAST-MODIFIED:20260413T192330Z
UID:138489-0-1777539600@thehomechannel.co.za
SUMMARY:000359
DESCRIPTION:“OVHD\, DSTV”
URL:https://thehomechannel.co.za/tv-schedule/000359-2/
CATEGORIES:10:00:00
END:VEVENT
BEGIN:VEVENT
DTSTART;TZID=Africa/Johannesburg:20260424T183054
DTEND;TZID=Africa/Johannesburg:20260430T060000
DTSTAMP:20260424T183054
CREATED:20260413T192330Z
LAST-MODIFIED:20260413T192330Z
UID:138485-0-1777528800@thehomechannel.co.za
SUMMARY:000355
DESCRIPTION:“OVHD\, DSTV”
URL:https://thehomechannel.co.za/tv-schedule/000355-2/
CATEGORIES:06:30:00
END:VEVENT
BEGIN:VEVENT
DTSTART;TZID=Africa/Johannesburg:20260424T183054
DTEND;TZID=Africa/Johannesburg:20260430T103000
DTSTAMP:20260424T183054
CREATED:20260413T192544Z
LAST-MODIFIED:20260413T192544Z
UID:138491-0-1777545000@thehomechannel.co.za
SUMMARY:000361
DESCRIPTION:“OVHD\, DSTV”
URL:https://thehomechannel.co.za/tv-schedule/000361-2/
CATEGORIES:11:00:00
END:VEVENT
BEGIN:VEVENT
DTSTART;TZID=Africa/Johannesburg:20260424T183054
DTEND;TZID=Africa/Johannesburg:20260430T110000
DTSTAMP:20260424T183054
CREATED:20260413T192544Z
LAST-MODIFIED:20260413T192544Z
UID:138492-0-1777546800@thehomechannel.co.za
SUMMARY:000362
DESCRIPTION:“OVHD\, DSTV”
URL:https://thehomechannel.co.za/tv-schedule/000362-2/
CATEGORIES:11:30:00
END:VEVENT
BEGIN:VEVENT
DTSTART;TZID=Africa/Johannesburg:20260424T183054
DTEND;TZID=Africa/Johannesburg:20260430T113000
DTSTAMP:20260424T183054
CREATED:20260413T192544Z
LAST-MODIFIED:20260413T192544Z
UID:138493-0-1777548600@thehomechannel.co.za
SUMMARY:000363
DESCRIPTION:“OVHD\, DSTV”
URL:https://thehomechannel.co.za/tv-schedule/000363-2/
CATEGORIES:12:00:00
END:VEVENT
BEGIN:VEVENT
DTSTART;TZID=Africa/Johannesburg:20260424T183054
DTEND;TZID=Africa/Johannesburg:20260430T120000
DTSTAMP:20260424T183054
CREATED:20260413T192544Z
LAST-MODIFIED:20260413T192544Z
UID:138494-0-1777550400@thehomechannel.co.za
SUMMARY:000364
DESCRIPTION:“OVHD\, DSTV”
URL:https://thehomechannel.co.za/tv-schedule/000364-2/
CATEGORIES:13:00:00
END:VEVENT
BEGIN:VEVENT
DTSTART;TZID=Africa/Johannesburg:20260424T183054
DTEND;TZID=Africa/Johannesburg:20260430T100000
DTSTAMP:20260424T183054
CREATED:20260413T192544Z
LAST-MODIFIED:20260413T192544Z
UID:138490-0-1777543200@thehomechannel.co.za
SUMMARY:000360
DESCRIPTION:“OVHD\, DSTV”
URL:https://thehomechannel.co.za/tv-schedule/000360-2/
CATEGORIES:10:30:00
END:VEVENT
BEGIN:VEVENT
DTSTART;TZID=Africa/Johannesburg:20260424T183054
DTEND;TZID=Africa/Johannesburg:20260430T140000
DTSTAMP:20260424T183054
CREATED:20260413T192752Z
LAST-MODIFIED:20260413T192752Z
UID:138497-0-1777557600@thehomechannel.co.za
SUMMARY:000367
DESCRIPTION:“OVHD\, DSTV”
URL:https://thehomechannel.co.za/tv-schedule/000367-2/
CATEGORIES:14:30:00
END:VEVENT
BEGIN:VEVENT
DTSTART;TZID=Africa/Johannesburg:20260424T183054
DTEND;TZID=Africa/Johannesburg:20260430T143000
DTSTAMP:20260424T183054
CREATED:20260413T192752Z
LAST-MODIFIED:20260413T192752Z
UID:138498-0-1777559400@thehomechannel.co.za
SUMMARY:000368
DESCRIPTION:“OVHD\, DSTV”
URL:https://thehomechannel.co.za/tv-schedule/000368-2/
CATEGORIES:15:00:00
END:VEVENT
BEGIN:VEVENT
DTSTART;TZID=Africa/Johannesburg:20260424T183054
DTEND;TZID=Africa/Johannesburg:20260430T150000
DTSTAMP:20260424T183054
CREATED:20260413T192752Z
LAST-MODIFIED:20260413T192752Z
UID:138499-0-1777561200@thehomechannel.co.za
SUMMARY:000369
DESCRIPTION:“OVHD\, DSTV”
URL:https://thehomechannel.co.za/tv-schedule/000369-2/
CATEGORIES:15:30:00
END:VEVENT
BEGIN:VEVENT
DTSTART;TZID=Africa/Johannesburg:20260424T183054
DTEND;TZID=Africa/Johannesburg:20260430T130000
DTSTAMP:20260424T183054
CREATED:20260413T192752Z
LAST-MODIFIED:20260413T192752Z
UID:138495-0-1777554000@thehomechannel.co.za
SUMMARY:000365
DESCRIPTION:“OVHD\, DSTV”
URL:https://thehomechannel.co.za/tv-schedule/000365-2/
CATEGORIES:13:30:00
END:VEVENT
BEGIN:VEVENT
DTSTART;TZID=Africa/Johannesburg:20260424T183054
DTEND;TZID=Africa/Johannesburg:20260430T133000
DTSTAMP:20260424T183054
CREATED:20260413T192752Z
LAST-MODIFIED:20260413T192752Z
UID:138496-0-1777555800@thehomechannel.co.za
SUMMARY:000366
DESCRIPTION:“OVHD\, DSTV”
URL:https://thehomechannel.co.za/tv-schedule/000366-2/
CATEGORIES:14:00:00
END:VEVENT
BEGIN:VEVENT
DTSTART;TZID=Africa/Johannesburg:20260424T183054
DTEND;TZID=Africa/Johannesburg:20260430T170000
DTSTAMP:20260424T183054
CREATED:20260413T192922Z
LAST-MODIFIED:20260413T192922Z
UID:138502-0-1777568400@thehomechannel.co.za
SUMMARY:000372
DESCRIPTION:“OVHD\, DSTV”
URL:https://thehomechannel.co.za/tv-schedule/000372-2/
CATEGORIES:18:00:00
END:VEVENT
BEGIN:VEVENT
DTSTART;TZID=Africa/Johannesburg:20260424T183054
DTEND;TZID=Africa/Johannesburg:20260430T180000
DTSTAMP:20260424T183054
CREATED:20260413T192922Z
LAST-MODIFIED:20260413T192922Z
UID:138503-0-1777572000@thehomechannel.co.za
SUMMARY:000373
DESCRIPTION:“OVHD\, DSTV”
URL:https://thehomechannel.co.za/tv-schedule/000373-2/
CATEGORIES:18:30:00
END:VEVENT
BEGIN:VEVENT
DTSTART;TZID=Africa/Johannesburg:20260424T183054
DTEND;TZID=Africa/Johannesburg:20260430T183000
DTSTAMP:20260424T183054
CREATED:20260413T192922Z
LAST-MODIFIED:20260413T192922Z
UID:138504-0-1777573800@thehomechannel.co.za
SUMMARY:000374
DESCRIPTION:“OVHD\, DSTV”
URL:https://thehomechannel.co.za/tv-schedule/000374-2/
CATEGORIES:19:00:00
END:VEVENT
BEGIN:VEVENT
DTSTART;TZID=Africa/Johannesburg:20260424T183054
DTEND;TZID=Africa/Johannesburg:20260430T153000
DTSTAMP:20260424T183054
CREATED:20260413T192922Z
LAST-MODIFIED:20260413T192922Z
UID:138500-0-1777563000@thehomechannel.co.za
SUMMARY:000370
DESCRIPTION:“OVHD\, DSTV”
URL:https://thehomechannel.co.za/tv-schedule/000370-2/
CATEGORIES:16:00:00
END:VEVENT
BEGIN:VEVENT
DTSTART;TZID=Africa/Johannesburg:20260424T183054
DTEND;TZID=Africa/Johannesburg:20260430T160000
DTSTAMP:20260424T183054
CREATED:20260413T192922Z
LAST-MODIFIED:20260413T192922Z
UID:138501-0-1777564800@thehomechannel.co.za
SUMMARY:000371
DESCRIPTION:“OVHD\, DSTV”
URL:https://thehomechannel.co.za/tv-schedule/000371-2/
CATEGORIES:17:00:00
END:VEVENT
BEGIN:VEVENT
DTSTART;TZID=Africa/Johannesburg:20260424T183054
DTEND;TZID=Africa/Johannesburg:20260430T200000
DTSTAMP:20260424T183054
CREATED:20260413T193131Z
LAST-MODIFIED:20260413T193131Z
UID:138507-0-1777579200@thehomechannel.co.za
SUMMARY:000377
DESCRIPTION:OVHD
URL:https://thehomechannel.co.za/tv-schedule/000377-2/
CATEGORIES:21:00:00
END:VEVENT
BEGIN:VEVENT
DTSTART;TZID=Africa/Johannesburg:20260424T183054
DTEND;TZID=Africa/Johannesburg:20260430T190000
DTSTAMP:20260424T183054
CREATED:20260413T193131Z
LAST-MODIFIED:20260413T193131Z
UID:138505-0-1777575600@thehomechannel.co.za
SUMMARY:000375
DESCRIPTION:“OVHD\, DSTV”
URL:https://thehomechannel.co.za/tv-schedule/000375-2/
CATEGORIES:19:30:00
END:VEVENT
BEGIN:VEVENT
DTSTART;TZID=Africa/Johannesburg:20260424T183054
DTEND;TZID=Africa/Johannesburg:20260430T193000
DTSTAMP:20260424T183054
CREATED:20260413T193131Z
LAST-MODIFIED:20260413T193131Z
UID:138506-0-1777577400@thehomechannel.co.za
SUMMARY:000376
DESCRIPTION:“OVHD\, DSTV”
URL:https://thehomechannel.co.za/tv-schedule/000376-2/
CATEGORIES:20:00:00
END:VEVENT
BEGIN:VEVENT
DTSTART;TZID=Africa/Johannesburg:20260424T183054
DTEND;TZID=Africa/Johannesburg:20260430T210000
DTSTAMP:20260424T183054
CREATED:20260413T193132Z
LAST-MODIFIED:20260413T193132Z
UID:138508-0-1777582800@thehomechannel.co.za
SUMMARY:000378
DESCRIPTION:“OVHD\, DSTV”
URL:https://thehomechannel.co.za/tv-schedule/000378-2/
CATEGORIES:22:00:00
END:VEVENT
BEGIN:VEVENT
DTSTART;TZID=Africa/Johannesburg:20260424T183054
DTEND;TZID=Africa/Johannesburg:20260430T220000
DTSTAMP:20260424T183054
CREATED:20260413T193132Z
LAST-MODIFIED:20260413T193132Z
UID:138509-0-1777586400@thehomechannel.co.za
SUMMARY:000379
DESCRIPTION:“OVHD\, DSTV”
URL:https://thehomechannel.co.za/tv-schedule/000379-2/
CATEGORIES:23:00:00
END:VEVENT
BEGIN:VEVENT
DTSTART;TZID=Africa/Johannesburg:20260424T183054
DTEND;TZID=Africa/Johannesburg:20260501T010000
DTSTAMP:20260424T183054
CREATED:20260413T193309Z
LAST-MODIFIED:20260413T193309Z
UID:138513-0-1777597200@thehomechannel.co.za
SUMMARY:000383
DESCRIPTION:“OVHD\, DSTV”
URL:https://thehomechannel.co.za/tv-schedule/000383-2/
CATEGORIES:01:30:00
END:VEVENT
BEGIN:VEVENT
DTSTART;TZID=Africa/Johannesburg:20260424T183054
DTEND;TZID=Africa/Johannesburg:20260501T013000
DTSTAMP:20260424T183054
CREATED:20260413T193309Z
LAST-MODIFIED:20260413T193309Z
UID:138514-0-1777599000@thehomechannel.co.za
SUMMARY:000384
DESCRIPTION:“OVHD\, DSTV”
URL:https://thehomechannel.co.za/tv-schedule/000384-2/
CATEGORIES:02:00:00
END:VEVENT
BEGIN:VEVENT
DTSTART;TZID=Africa/Johannesburg:20260424T183054
DTEND;TZID=Africa/Johannesburg:20260430T230000
DTSTAMP:20260424T183054
CREATED:20260413T193309Z
LAST-MODIFIED:20260413T193309Z
UID:138510-0-1777590000@thehomechannel.co.za
SUMMARY:000380
DESCRIPTION:“OVHD\, DSTV”
URL:https://thehomechannel.co.za/tv-schedule/000380-2/
CATEGORIES:23:30:00
END:VEVENT
BEGIN:VEVENT
DTSTART;TZID=Africa/Johannesburg:20260424T183054
DTEND;TZID=Africa/Johannesburg:20260501T233000
DTSTAMP:20260424T183054
CREATED:20260413T193309Z
LAST-MODIFIED:20260413T193309Z
UID:138511-0-1777678200@thehomechannel.co.za
SUMMARY:000381
DESCRIPTION:“OVHD\, DSTV”
URL:https://thehomechannel.co.za/tv-schedule/000381-2/
CATEGORIES:00:00:00
END:VEVENT
BEGIN:VEVENT
DTSTART;TZID=Africa/Johannesburg:20260424T183054
DTEND;TZID=Africa/Johannesburg:20260501T000000
DTSTAMP:20260424T183054
CREATED:20260413T193309Z
LAST-MODIFIED:20260413T193309Z
UID:138512-0-1777593600@thehomechannel.co.za
SUMMARY:000382
DESCRIPTION:“OVHD\, DSTV”
URL:https://thehomechannel.co.za/tv-schedule/000382-2/
CATEGORIES:01:00:00
END:VEVENT
BEGIN:VEVENT
DTSTART;TZID=Africa/Johannesburg:20260424T183054
DTEND;TZID=Africa/Johannesburg:20260501T033000
DTSTAMP:20260424T183054
CREATED:20260413T193530Z
LAST-MODIFIED:20260413T193530Z
UID:138518-0-1777606200@thehomechannel.co.za
SUMMARY:000388
DESCRIPTION:“OVHD\, DSTV”
URL:https://thehomechannel.co.za/tv-schedule/000388-2/
CATEGORIES:04:00:00
END:VEVENT
BEGIN:VEVENT
DTSTART;TZID=Africa/Johannesburg:20260424T183054
DTEND;TZID=Africa/Johannesburg:20260501T040000
DTSTAMP:20260424T183054
CREATED:20260413T193530Z
LAST-MODIFIED:20260413T193530Z
UID:138519-0-1777608000@thehomechannel.co.za
SUMMARY:000389
DESCRIPTION:“OVHD\, DSTV”
URL:https://thehomechannel.co.za/tv-schedule/000389-2/
CATEGORIES:05:00:00
END:VEVENT
BEGIN:VEVENT
DTSTART;TZID=Africa/Johannesburg:20260424T183054
DTEND;TZID=Africa/Johannesburg:20260501T020000
DTSTAMP:20260424T183054
CREATED:20260413T193530Z
LAST-MODIFIED:20260413T193530Z
UID:138515-0-1777600800@thehomechannel.co.za
SUMMARY:000385
DESCRIPTION:“OVHD\, DSTV”
URL:https://thehomechannel.co.za/tv-schedule/000385-2/
CATEGORIES:02:30:00
END:VEVENT
END:VCALENDAR