BEGIN:VCALENDAR
VERSION:2.0
PRODID:-//The Home Channel - ECPv6.15.11//NONSGML v1.0//EN
CALSCALE:GREGORIAN
METHOD:PUBLISH
X-WR-CALNAME:The Home Channel
X-ORIGINAL-URL:https://thehomechannel.co.za
X-WR-CALDESC:Events for The Home Channel
REFRESH-INTERVAL;VALUE=DURATION:PT1H
X-Robots-Tag:noindex
X-PUBLISHED-TTL:PT1H
BEGIN:VTIMEZONE
TZID:Africa/Johannesburg
BEGIN:STANDARD
TZOFFSETFROM:+0200
TZOFFSETTO:+0200
TZNAME:SAST
DTSTART:20240101T000000
END:STANDARD
END:VTIMEZONE
BEGIN:VEVENT
DTSTART;TZID=Africa/Johannesburg:20250531T203000
DTEND;TZID=Africa/Johannesburg:20250531T210000
DTSTAMP:20260421T172940
CREATED:20250402T165329Z
LAST-MODIFIED:20250502T182549Z
UID:99739-1748723400-1748725200@thehomechannel.co.za
SUMMARY:Jamie's Quick & Easy Food
DESCRIPTION:Jamie’s Quick & Easy Food is the ultimate set of go-to recipes that are quick to cook and easy to remember.
URL:https://thehomechannel.co.za/tv-schedule/jamies-quick-easy-food-150/
CATEGORIES:DSTV,OVHD
END:VEVENT
BEGIN:VEVENT
DTSTART;TZID=Africa/Johannesburg:20250531T210000
DTEND;TZID=Africa/Johannesburg:20250531T220000
DTSTAMP:20260421T172940
CREATED:20250402T165329Z
LAST-MODIFIED:20250502T182549Z
UID:99740-1748725200-1748728800@thehomechannel.co.za
SUMMARY:Art of Architecture
DESCRIPTION:Named Young British Architect of the Year in 1998\, Niall McLaughlin has never looked back. Today we take a look at his latest contribution\, a new library for Magdalene College Cambridge.
URL:https://thehomechannel.co.za/tv-schedule/art-of-architecture-93/
CATEGORIES:DSTV,OVHD
ATTACH;FMTTYPE=image/jpeg:https://thehomechannel.co.za/wp-content/uploads/2025/04/Art-of-Architecture-scaled.jpg
END:VEVENT
BEGIN:VEVENT
DTSTART;TZID=Africa/Johannesburg:20250531T220000
DTEND;TZID=Africa/Johannesburg:20250531T223000
DTSTAMP:20260421T172940
CREATED:20250402T165329Z
LAST-MODIFIED:20250502T182549Z
UID:99741-1748728800-1748730600@thehomechannel.co.za
SUMMARY:Finest Homes
DESCRIPTION:We explore a quirky heritage home with Lisa-Mari Theophilus and a stylish Sea Point apartment by Bryce Henderson of Studio BHD.
URL:https://thehomechannel.co.za/tv-schedule/finest-homes-448/
CATEGORIES:DSTV,OVHD
ATTACH;FMTTYPE=image/jpeg:https://thehomechannel.co.za/wp-content/uploads/2024/05/FinestHomesSep2019-8-scaled-e1724398209434.jpg
END:VEVENT
BEGIN:VEVENT
DTSTART;TZID=Africa/Johannesburg:20250531T223000
DTEND;TZID=Africa/Johannesburg:20250531T230000
DTSTAMP:20260421T172940
CREATED:20250402T182803Z
LAST-MODIFIED:20250502T182549Z
UID:100836-1748730600-1748732400@thehomechannel.co.za
SUMMARY:Home of the year Scotland
DESCRIPTION:Anna Campbell-Jones\, Michael Angus and Kate Spiers travel across Scotland tochoose nine regional finalists before one is crowned Scotland’s Home of the Year.
URL:https://thehomechannel.co.za/tv-schedule/home-of-the-year-scotland-272/
CATEGORIES:OVHD
ATTACH;FMTTYPE=image/jpeg:https://thehomechannel.co.za/wp-content/uploads/2025/04/Home-of-the-Year-Scotland-Season-04_High-Res_IMG06-scaled.jpg
END:VEVENT
BEGIN:VEVENT
DTSTART;TZID=Africa/Johannesburg:20250531T230000
DTEND;TZID=Africa/Johannesburg:20250601T000000
DTSTAMP:20260421T172940
CREATED:20250402T165344Z
LAST-MODIFIED:20250502T182602Z
UID:99743-1748732400-1748736000@thehomechannel.co.za
SUMMARY:Property Brothers: Forever Home
DESCRIPTION:Drew and Jonathan beautifully transform the family room\, dining room\, kitchen\, and main ensuite to give them room to move in with their new husband and wife.
URL:https://thehomechannel.co.za/tv-schedule/property-brothers-forever-home-722/
CATEGORIES:DSTV,OVHD
ATTACH;FMTTYPE=image/jpeg:https://thehomechannel.co.za/wp-content/uploads/2025/03/PBFH404_REVEALS_AND_AFTER-0149-scaled.jpg
END:VEVENT
BEGIN:VEVENT
DTSTART;TZID=Africa/Johannesburg:20250601T000000
DTEND;TZID=Africa/Johannesburg:20250601T003000
DTSTAMP:20260421T172940
CREATED:20250402T165344Z
LAST-MODIFIED:20250502T182603Z
UID:99744-1748736000-1748737800@thehomechannel.co.za
SUMMARY:Afrimaxx
DESCRIPTION:Afrimaxx is a show celebrating contemporary African lifestyle. The show seeks out the continent’s finest design and lifestyle innovation across the spectrum – from interiors and architecture to fashion\, arts\, food and travel.
URL:https://thehomechannel.co.za/tv-schedule/afrimaxx-660/
CATEGORIES:DSTV,OVHD
ATTACH;FMTTYPE=image/png:https://thehomechannel.co.za/wp-content/uploads/2025/03/Afrimax-Logo-Screen.png
END:VEVENT
BEGIN:VEVENT
DTSTART;TZID=Africa/Johannesburg:20250601T003000
DTEND;TZID=Africa/Johannesburg:20250601T010000
DTSTAMP:20260421T172940
CREATED:20250402T165345Z
LAST-MODIFIED:20250502T182603Z
UID:99745-1748737800-1748739600@thehomechannel.co.za
SUMMARY:Open Homes
DESCRIPTION:Carlene kicks off the show Queensland showcasing coastal mansion with ocean views. Adam Gives an inspirational recipe you can use at home.
URL:https://thehomechannel.co.za/tv-schedule/open-homes-208/
CATEGORIES:DSTV,OVHD
ATTACH;FMTTYPE=image/jpeg:https://thehomechannel.co.za/wp-content/uploads/2025/03/Copy-of-Michael_Carlene_NewHeroShot_2048x.jpg
END:VEVENT
BEGIN:VEVENT
DTSTART;TZID=Africa/Johannesburg:20250601T010000
DTEND;TZID=Africa/Johannesburg:20250601T020000
DTSTAMP:20260421T172940
CREATED:20250402T165345Z
LAST-MODIFIED:20250502T182603Z
UID:99746-1748739600-1748743200@thehomechannel.co.za
SUMMARY:A place in the Sun: Summer Sun
DESCRIPTION:House hunters are taken to see properties for sale in a foreign country that they want to move to or frequently holiday in.
URL:https://thehomechannel.co.za/tv-schedule/a-place-in-the-sun-summer-sun-262/
CATEGORIES:DSTV,OVHD
END:VEVENT
BEGIN:VEVENT
DTSTART;TZID=Africa/Johannesburg:20250601T020000
DTEND;TZID=Africa/Johannesburg:20250601T030000
DTSTAMP:20260421T172940
CREATED:20250402T165345Z
LAST-MODIFIED:20250502T182603Z
UID:99747-1748743200-1748746800@thehomechannel.co.za
SUMMARY:Real Health
DESCRIPTION:We take a closer look at what Arthritis is and how to assist dealing with it; we discuss a common infection which is known as a swimmer’s ear\, and we explore kinesiology.
URL:https://thehomechannel.co.za/tv-schedule/real-health-729/
CATEGORIES:DSTV,OVHD
ATTACH;FMTTYPE=image/jpeg:https://thehomechannel.co.za/wp-content/uploads/2025/03/Real-Health-4-EDIT.jpg
END:VEVENT
BEGIN:VEVENT
DTSTART;TZID=Africa/Johannesburg:20250601T030000
DTEND;TZID=Africa/Johannesburg:20250601T033000
DTSTAMP:20260421T172940
CREATED:20250402T182818Z
LAST-MODIFIED:20250502T182619Z
UID:100842-1748746800-1748748600@thehomechannel.co.za
SUMMARY:Design for You
DESCRIPTION:We spend the day at the lavish Munro Boutique Hotel with owner Mark Kaplan. Then we look at some accessories and furniture to suit your fine living tastes.
URL:https://thehomechannel.co.za/tv-schedule/design-for-you-281/
CATEGORIES:OVHD
ATTACH;FMTTYPE=image/png:https://thehomechannel.co.za/wp-content/uploads/2025/03/Screenshot-2024-12-17-at-14.15.54-e1741791665774.png
END:VEVENT
BEGIN:VEVENT
DTSTART;TZID=Africa/Johannesburg:20250601T033000
DTEND;TZID=Africa/Johannesburg:20250601T043000
DTSTAMP:20260421T172940
CREATED:20250402T165401Z
LAST-MODIFIED:20250502T182619Z
UID:99749-1748748600-1748752200@thehomechannel.co.za
SUMMARY:Art of Architecture
DESCRIPTION:Named Young British Architect of the Year in 1998\, Niall McLaughlin has never looked back. Today we take a look at his latest contribution\, a new library for Magdalene College Cambridge.
URL:https://thehomechannel.co.za/tv-schedule/art-of-architecture-94/
CATEGORIES:DSTV,OVHD
ATTACH;FMTTYPE=image/jpeg:https://thehomechannel.co.za/wp-content/uploads/2025/04/Art-of-Architecture-scaled.jpg
END:VEVENT
BEGIN:VEVENT
DTSTART;TZID=Africa/Johannesburg:20250601T043000
DTEND;TZID=Africa/Johannesburg:20250601T050000
DTSTAMP:20260421T172940
CREATED:20250402T165402Z
LAST-MODIFIED:20250502T182620Z
UID:99750-1748752200-1748754000@thehomechannel.co.za
SUMMARY:Finest Homes
DESCRIPTION:We explore a quirky heritage home with Lisa-Mari Theophilus and a stylish Sea Point apartment by Bryce Henderson of Studio BHD.
URL:https://thehomechannel.co.za/tv-schedule/finest-homes-449/
CATEGORIES:DSTV,OVHD
ATTACH;FMTTYPE=image/jpeg:https://thehomechannel.co.za/wp-content/uploads/2024/05/FinestHomesSep2019-8-scaled-e1724398209434.jpg
END:VEVENT
BEGIN:VEVENT
DTSTART;TZID=Africa/Johannesburg:20250601T050000
DTEND;TZID=Africa/Johannesburg:20250601T053000
DTSTAMP:20260421T172940
CREATED:20250402T182818Z
LAST-MODIFIED:20250502T182620Z
UID:100845-1748754000-1748755800@thehomechannel.co.za
SUMMARY:Home of the year Scotland
DESCRIPTION:Anna Campbell-Jones\, Michael Angus and Kate Spiers travel across Scotland tochoose nine regional finalists before one is crowned Scotland’s Home of the Year.
URL:https://thehomechannel.co.za/tv-schedule/home-of-the-year-scotland-273/
CATEGORIES:OVHD
ATTACH;FMTTYPE=image/jpeg:https://thehomechannel.co.za/wp-content/uploads/2025/04/Home-of-the-Year-Scotland-Season-04_High-Res_IMG06-scaled.jpg
END:VEVENT
BEGIN:VEVENT
DTSTART;TZID=Africa/Johannesburg:20250601T053000
DTEND;TZID=Africa/Johannesburg:20250601T063000
DTSTAMP:20260421T172940
CREATED:20250402T182832Z
LAST-MODIFIED:20250502T182620Z
UID:100846-1748755800-1748759400@thehomechannel.co.za
SUMMARY:Trading Up with Mandy
DESCRIPTION:Trading Up with Mandy Rennehan follows Blue Collar CEO and multimillion-dollar designer and construction mogul\, Mandy Rennehan as she overhauls three unique properties in her beloved hometown of Yarmouth\, Nova Scotia.
URL:https://thehomechannel.co.za/tv-schedule/trading-up-with-mandy-150/
CATEGORIES:DSTV,OVHD
ATTACH;FMTTYPE=image/jpeg:https://thehomechannel.co.za/wp-content/uploads/2025/03/DSC7247-Edit-scaled.jpg
END:VEVENT
BEGIN:VEVENT
DTSTART;TZID=Africa/Johannesburg:20250601T063000
DTEND;TZID=Africa/Johannesburg:20250601T070000
DTSTAMP:20260421T172940
CREATED:20250402T182832Z
LAST-MODIFIED:20250502T182631Z
UID:100847-1748759400-1748761200@thehomechannel.co.za
SUMMARY:Afrimaxx
DESCRIPTION:Afrimaxx is a show celebrating contemporary African lifestyle. The show seeks out the continent’s finest design and lifestyle innovation across the spectrum – from interiors and architecture to fashion\, arts\, food and travel.
URL:https://thehomechannel.co.za/tv-schedule/afrimaxx-670/
CATEGORIES:DSTV,OVHD
ATTACH;FMTTYPE=image/png:https://thehomechannel.co.za/wp-content/uploads/2025/03/Afrimax-Logo-Screen.png
END:VEVENT
BEGIN:VEVENT
DTSTART;TZID=Africa/Johannesburg:20250601T070000
DTEND;TZID=Africa/Johannesburg:20250601T080000
DTSTAMP:20260421T172940
CREATED:20250402T165413Z
LAST-MODIFIED:20250502T182631Z
UID:99753-1748761200-1748764800@thehomechannel.co.za
SUMMARY:A place in the Sun: Summer Sun
DESCRIPTION:House hunters are taken to see properties for sale in a foreign country that they want to move to or frequently holiday in.
URL:https://thehomechannel.co.za/tv-schedule/a-place-in-the-sun-summer-sun-263/
CATEGORIES:DSTV,OVHD
END:VEVENT
BEGIN:VEVENT
DTSTART;TZID=Africa/Johannesburg:20250601T080000
DTEND;TZID=Africa/Johannesburg:20250601T090000
DTSTAMP:20260421T172940
CREATED:20250402T165413Z
LAST-MODIFIED:20250502T182631Z
UID:99754-1748764800-1748768400@thehomechannel.co.za
SUMMARY:Real Health
DESCRIPTION:We take a closer look at what Arthritis is and how to assist dealing with it; we discuss a common infection which is known as a swimmer’s ear\, and we explore kinesiology.
URL:https://thehomechannel.co.za/tv-schedule/real-health-730/
CATEGORIES:DSTV,OVHD
ATTACH;FMTTYPE=image/jpeg:https://thehomechannel.co.za/wp-content/uploads/2025/03/Real-Health-4-EDIT.jpg
END:VEVENT
BEGIN:VEVENT
DTSTART;TZID=Africa/Johannesburg:20250601T090000
DTEND;TZID=Africa/Johannesburg:20250601T093000
DTSTAMP:20260421T172940
CREATED:20250402T182833Z
LAST-MODIFIED:20250502T182631Z
UID:100850-1748768400-1748770200@thehomechannel.co.za
SUMMARY:Design for You
DESCRIPTION:We spend the day at the lavish Munro Boutique Hotel with owner Mark Kaplan. Then we look at some accessories and furniture to suit your fine living tastes.
URL:https://thehomechannel.co.za/tv-schedule/design-for-you-282/
CATEGORIES:OVHD
ATTACH;FMTTYPE=image/png:https://thehomechannel.co.za/wp-content/uploads/2025/03/Screenshot-2024-12-17-at-14.15.54-e1741791665774.png
END:VEVENT
BEGIN:VEVENT
DTSTART;TZID=Africa/Johannesburg:20250601T093000
DTEND;TZID=Africa/Johannesburg:20250601T103000
DTSTAMP:20260421T172940
CREATED:20250402T165414Z
LAST-MODIFIED:20250502T182631Z
UID:99756-1748770200-1748773800@thehomechannel.co.za
SUMMARY:Art of Architecture
DESCRIPTION:Named Young British Architect of the Year in 1998\, Niall McLaughlin has never looked back. Today we take a look at his latest contribution\, a new library for Magdalene College Cambridge.
URL:https://thehomechannel.co.za/tv-schedule/art-of-architecture-95/
CATEGORIES:DSTV,OVHD
ATTACH;FMTTYPE=image/jpeg:https://thehomechannel.co.za/wp-content/uploads/2025/04/Art-of-Architecture-scaled.jpg
END:VEVENT
BEGIN:VEVENT
DTSTART;TZID=Africa/Johannesburg:20250601T103000
DTEND;TZID=Africa/Johannesburg:20250601T110000
DTSTAMP:20260421T172940
CREATED:20250402T165414Z
LAST-MODIFIED:20250502T182649Z
UID:99757-1748773800-1748775600@thehomechannel.co.za
SUMMARY:Finest Homes
DESCRIPTION:We explore a quirky heritage home with Lisa-Mari Theophilus and a stylish Sea Point apartment by Bryce Henderson of Studio BHD.
URL:https://thehomechannel.co.za/tv-schedule/finest-homes-450/
CATEGORIES:DSTV,OVHD
ATTACH;FMTTYPE=image/jpeg:https://thehomechannel.co.za/wp-content/uploads/2024/05/FinestHomesSep2019-8-scaled-e1724398209434.jpg
END:VEVENT
BEGIN:VEVENT
DTSTART;TZID=Africa/Johannesburg:20250601T110000
DTEND;TZID=Africa/Johannesburg:20250601T113000
DTSTAMP:20260421T172940
CREATED:20250402T182842Z
LAST-MODIFIED:20250502T182649Z
UID:100853-1748775600-1748777400@thehomechannel.co.za
SUMMARY:Home of the year Scotland
DESCRIPTION:Anna Campbell-Jones\, Michael Angus and Kate Spiers travel across Scotland tochoose nine regional finalists before one is crowned Scotland’s Home of the Year.
URL:https://thehomechannel.co.za/tv-schedule/home-of-the-year-scotland-274/
CATEGORIES:OVHD
ATTACH;FMTTYPE=image/jpeg:https://thehomechannel.co.za/wp-content/uploads/2025/04/Home-of-the-Year-Scotland-Season-04_High-Res_IMG06-scaled.jpg
END:VEVENT
BEGIN:VEVENT
DTSTART;TZID=Africa/Johannesburg:20250601T113000
DTEND;TZID=Africa/Johannesburg:20250601T123000
DTSTAMP:20260421T172940
CREATED:20250402T165429Z
LAST-MODIFIED:20250502T182649Z
UID:99759-1748777400-1748781000@thehomechannel.co.za
SUMMARY:Trading Up with Mandy
DESCRIPTION:Trading Up with Mandy Rennehan follows Blue Collar CEO and multimillion-dollar designer and construction mogul\, Mandy Rennehan as she overhauls three unique properties in her beloved hometown of Yarmouth\, Nova Scotia.
URL:https://thehomechannel.co.za/tv-schedule/trading-up-with-mandy-137/
CATEGORIES:DSTV,OVHD
ATTACH;FMTTYPE=image/jpeg:https://thehomechannel.co.za/wp-content/uploads/2025/03/DSC7247-Edit-scaled.jpg
END:VEVENT
BEGIN:VEVENT
DTSTART;TZID=Africa/Johannesburg:20250601T123000
DTEND;TZID=Africa/Johannesburg:20250601T130000
DTSTAMP:20260421T172940
CREATED:20250402T165429Z
LAST-MODIFIED:20250502T182650Z
UID:99760-1748781000-1748782800@thehomechannel.co.za
SUMMARY:Afrimaxx
DESCRIPTION:Afrimaxx is a show celebrating contemporary African lifestyle. The show seeks out the continent’s finest design and lifestyle innovation across the spectrum – from interiors and architecture to fashion\, arts\, food and travel.
URL:https://thehomechannel.co.za/tv-schedule/afrimaxx-661/
CATEGORIES:DSTV,OVHD
ATTACH;FMTTYPE=image/png:https://thehomechannel.co.za/wp-content/uploads/2025/03/Afrimax-Logo-Screen.png
END:VEVENT
BEGIN:VEVENT
DTSTART;TZID=Africa/Johannesburg:20250601T130000
DTEND;TZID=Africa/Johannesburg:20250601T133000
DTSTAMP:20260421T172940
CREATED:20250402T165430Z
LAST-MODIFIED:20250502T182650Z
UID:99761-1748782800-1748784600@thehomechannel.co.za
SUMMARY:Open Homes
DESCRIPTION:Carlene kicks off the show Queensland showcasing coastal mansion with ocean views. Adam Gives an inspirational recipe you can use at home.
URL:https://thehomechannel.co.za/tv-schedule/open-homes-209/
CATEGORIES:DSTV,OVHD
ATTACH;FMTTYPE=image/jpeg:https://thehomechannel.co.za/wp-content/uploads/2025/03/Copy-of-Michael_Carlene_NewHeroShot_2048x.jpg
END:VEVENT
BEGIN:VEVENT
DTSTART;TZID=Africa/Johannesburg:20250601T133000
DTEND;TZID=Africa/Johannesburg:20250601T140000
DTSTAMP:20260421T172940
CREATED:20250402T165430Z
LAST-MODIFIED:20250502T182703Z
UID:99762-1748784600-1748786400@thehomechannel.co.za
SUMMARY:Nadiya Bakes
DESCRIPTION:Nadiya focuses on baking treats to share. She kicks things off with a brioche wreath\, then mini pecan pies\, bread and butter pudding and finally a cranachan.
URL:https://thehomechannel.co.za/tv-schedule/nadiya-bakes-65/
CATEGORIES:DSTV,OVHD
ATTACH;FMTTYPE=image/jpeg:https://thehomechannel.co.za/wp-content/uploads/2025/04/Nadiya_Bakes_S1_Hero_Images-scaled.jpg
END:VEVENT
BEGIN:VEVENT
DTSTART;TZID=Africa/Johannesburg:20250601T140000
DTEND;TZID=Africa/Johannesburg:20250601T143000
DTSTAMP:20260421T172940
CREATED:20250402T165445Z
LAST-MODIFIED:20250502T182703Z
UID:99763-1748786400-1748788200@thehomechannel.co.za
SUMMARY:Jamie's Quick & Easy Food
DESCRIPTION:Jamie’s Quick & Easy Food is the ultimate set of go-to recipes that are quick to cook and easy to remember.
URL:https://thehomechannel.co.za/tv-schedule/jamies-quick-easy-food-151/
CATEGORIES:DSTV,OVHD
END:VEVENT
BEGIN:VEVENT
DTSTART;TZID=Africa/Johannesburg:20250601T143000
DTEND;TZID=Africa/Johannesburg:20250601T150000
DTSTAMP:20260421T172940
CREATED:20250402T165445Z
LAST-MODIFIED:20250502T182703Z
UID:99764-1748788200-1748790000@thehomechannel.co.za
SUMMARY:Donal Skehan: Home Cook
DESCRIPTION:Donal shares recipes to suit every kind of busy household\, with new\, easy-to-follow recipes\, time-saving hacks and practical cooking tips\, including the kitchen gadgets that Donal relies on at home.
URL:https://thehomechannel.co.za/tv-schedule/donal-skehan-home-cook-35/
CATEGORIES:DSTV,OVHD
ATTACH;FMTTYPE=image/jpeg:https://thehomechannel.co.za/wp-content/uploads/2025/05/Donal-Skehan-Home-Cook-1200x675-1.jpg
END:VEVENT
BEGIN:VEVENT
DTSTART;TZID=Africa/Johannesburg:20250601T150000
DTEND;TZID=Africa/Johannesburg:20250601T160000
DTSTAMP:20260421T172940
CREATED:20250402T165445Z
LAST-MODIFIED:20250502T182704Z
UID:99765-1748790000-1748793600@thehomechannel.co.za
SUMMARY:Grand Designs
DESCRIPTION:Grand Designs UK\, hosted by designer and writer Kevin McCloud\, follows intrepid homebuilders as they pursue their architectural dreams.
URL:https://thehomechannel.co.za/tv-schedule/grand-designs-22/
CATEGORIES:DSTV,OVHD
ATTACH;FMTTYPE=image/jpeg:https://thehomechannel.co.za/wp-content/uploads/2025/06/Lewes-Kevin-and-contributors-img-12-scaled.jpg
END:VEVENT
BEGIN:VEVENT
DTSTART;TZID=Africa/Johannesburg:20250601T160000
DTEND;TZID=Africa/Johannesburg:20250601T163000
DTSTAMP:20260421T172940
CREATED:20250402T165446Z
LAST-MODIFIED:20250502T182704Z
UID:99766-1748793600-1748795400@thehomechannel.co.za
SUMMARY:The Gardener
DESCRIPTION:Tanya shares a pot stand DIY with serious presence. We look at must have grey foliage plants and visit a garden with loads of inspiration.
URL:https://thehomechannel.co.za/tv-schedule/the-gardener-181/
CATEGORIES:DSTV,OVHD
ATTACH;FMTTYPE=image/jpeg:https://thehomechannel.co.za/wp-content/uploads/2025/03/IMG_7697-1-scaled.jpg
END:VEVENT
BEGIN:VEVENT
DTSTART;TZID=Africa/Johannesburg:20250601T163000
DTEND;TZID=Africa/Johannesburg:20250601T173000
DTSTAMP:20260421T172940
CREATED:20250402T165446Z
LAST-MODIFIED:20250502T182720Z
UID:99767-1748795400-1748799000@thehomechannel.co.za
SUMMARY:Scott's Vacation House Rules
DESCRIPTION:In every episode Scott McGillivray helps make homeowner’s dreams come true by unlocking the hidden potential in their dated\, uninspired vacation property.
URL:https://thehomechannel.co.za/tv-schedule/scotts-vacation-house-rules-47/
CATEGORIES:DSTV,OVHD
END:VEVENT
END:VCALENDAR