BEGIN:VCALENDAR
VERSION:2.0
PRODID:-//The Home Channel - ECPv6.15.11//NONSGML v1.0//EN
CALSCALE:GREGORIAN
METHOD:PUBLISH
X-ORIGINAL-URL:https://thehomechannel.co.za
X-WR-CALDESC:Events for The Home Channel
REFRESH-INTERVAL;VALUE=DURATION:PT1H
X-Robots-Tag:noindex
X-PUBLISHED-TTL:PT1H
BEGIN:VTIMEZONE
TZID:Africa/Johannesburg
BEGIN:STANDARD
TZOFFSETFROM:+0200
TZOFFSETTO:+0200
TZNAME:SAST
DTSTART:20250101T000000
END:STANDARD
END:VTIMEZONE
BEGIN:VEVENT
DTSTART;TZID=Africa/Johannesburg:20260411T150000
DTEND;TZID=Africa/Johannesburg:20260411T153000
DTSTAMP:20260421T132352
CREATED:20260407T142954Z
LAST-MODIFIED:20260407T160954Z
UID:136800-1775919600-1775921400@thehomechannel.co.za
SUMMARY:Invade: The Home Obsession
DESCRIPTION:Explore Thula Thula Game Reserve’s elephant conservation and resort ambience. Tam Hayward maximizes space in a studio apartment. Meet ceramic artist Astrid Dahl\, inspired by Zulu clay coiling.
URL:https://thehomechannel.co.za/tv-schedule/invade-the-home-obsession-205/
CATEGORIES:DSTV,OVHD
ATTACH;FMTTYPE=image/jpeg:https://thehomechannel.co.za/wp-content/uploads/2026/02/DSC08437-2-scaled.jpg
END:VEVENT
BEGIN:VEVENT
DTSTART;TZID=Africa/Johannesburg:20260411T153000
DTEND;TZID=Africa/Johannesburg:20260411T160000
DTSTAMP:20260421T132352
CREATED:20260407T142954Z
LAST-MODIFIED:20260407T160954Z
UID:136801-1775921400-1775923200@thehomechannel.co.za
SUMMARY:Jamie's Easy Meals for Everyday
DESCRIPTION:Colourful stuffed peppers with black-bean stew and a comforting chicken noodle soup.
URL:https://thehomechannel.co.za/tv-schedule/jamies-easy-meals-for-everyday-351/
CATEGORIES:DSTV,OVHD
END:VEVENT
BEGIN:VEVENT
DTSTART;TZID=Africa/Johannesburg:20260411T160000
DTEND;TZID=Africa/Johannesburg:20260411T170000
DTSTAMP:20260421T132352
CREATED:20260407T143214Z
LAST-MODIFIED:20260407T160954Z
UID:136802-1775923200-1775926800@thehomechannel.co.za
SUMMARY:Art of Architecture
DESCRIPTION:Dubbed as Baron Foster of Thames Bank\, Norman has had his buildings firmly embedded in the public. You may recognise several of his projects such as London’s Millenium Bridge\, The Gherkin and more.
URL:https://thehomechannel.co.za/tv-schedule/art-of-architecture-142/
CATEGORIES:DSTV,OVHD
END:VEVENT
BEGIN:VEVENT
DTSTART;TZID=Africa/Johannesburg:20260411T170000
DTEND;TZID=Africa/Johannesburg:20260411T173000
DTSTAMP:20260421T132352
CREATED:20260407T143215Z
LAST-MODIFIED:20260407T161214Z
UID:136803-1775926800-1775928600@thehomechannel.co.za
SUMMARY:Afrimaxx
DESCRIPTION:From custom car builds in South Africa to Peulh Vagabond’s global craft\, luxury homes in the Western Cape\, Lilongwe’s adventures\, and traditional textile redefined in Congo.
URL:https://thehomechannel.co.za/tv-schedule/afrimaxx-1384/
CATEGORIES:DSTV,OVHD
ATTACH;FMTTYPE=image/png:https://thehomechannel.co.za/wp-content/uploads/2025/03/Afrimax-Logo-Screen.png
END:VEVENT
BEGIN:VEVENT
DTSTART;TZID=Africa/Johannesburg:20260411T173000
DTEND;TZID=Africa/Johannesburg:20260411T180000
DTSTAMP:20260421T132352
CREATED:20260407T143215Z
LAST-MODIFIED:20260407T161214Z
UID:136804-1775928600-1775930400@thehomechannel.co.za
SUMMARY:Home of the year Scotland
DESCRIPTION:The judges are in the Hebrides hunting for Scotland’s Home of the Year.
URL:https://thehomechannel.co.za/tv-schedule/home-of-the-year-scotland-324/
CATEGORIES:DSTV,OVHD
ATTACH;FMTTYPE=image/jpeg:https://thehomechannel.co.za/wp-content/uploads/2026/03/Home-of-the-Year-Scotland-Season-03_High-Res_EP301_IMG02.jpg
END:VEVENT
BEGIN:VEVENT
DTSTART;TZID=Africa/Johannesburg:20260411T180000
DTEND;TZID=Africa/Johannesburg:20260411T190000
DTSTAMP:20260421T132352
CREATED:20260407T143215Z
LAST-MODIFIED:20260407T161214Z
UID:136805-1775930400-1775934000@thehomechannel.co.za
SUMMARY:Gut Job
DESCRIPTION:The team moves from dust to detail as Jen and Miguel’s troubled main floor overhaul steps closer to completion.
URL:https://thehomechannel.co.za/tv-schedule/gut-job-74/
CATEGORIES:DSTV,OVHD
ATTACH;FMTTYPE=image/jpeg:https://thehomechannel.co.za/wp-content/uploads/2026/02/Gut-Job-1.jpg
END:VEVENT
BEGIN:VEVENT
DTSTART;TZID=Africa/Johannesburg:20260411T190000
DTEND;TZID=Africa/Johannesburg:20260411T193000
DTSTAMP:20260421T132352
CREATED:20260407T143216Z
LAST-MODIFIED:20260407T161214Z
UID:136806-1775934000-1775935800@thehomechannel.co.za
SUMMARY:The Gardener And Friends
DESCRIPTION:We look at some winning succulents. We make our own compost. We visit a feature garden in Cape Town and Tanya looks at another must have power tool.
URL:https://thehomechannel.co.za/tv-schedule/the-gardener-and-friends-485/
CATEGORIES:DSTV,OVHD
END:VEVENT
BEGIN:VEVENT
DTSTART;TZID=Africa/Johannesburg:20260411T193000
DTEND;TZID=Africa/Johannesburg:20260411T200000
DTSTAMP:20260421T132352
CREATED:20260407T143413Z
LAST-MODIFIED:20260407T161214Z
UID:136807-1775935800-1775937600@thehomechannel.co.za
SUMMARY:Real Health
DESCRIPTION:We’ll discuss strategies to strengthen bones and prevent falls\, compare e-cigarettes and traditional cigarettes\, and explore the gut-poop relationship
URL:https://thehomechannel.co.za/tv-schedule/real-health-1509/
CATEGORIES:DSTV,OVHD
ATTACH;FMTTYPE=image/jpeg:https://thehomechannel.co.za/wp-content/uploads/2025/03/Real-Health-4-EDIT.jpg
END:VEVENT
BEGIN:VEVENT
DTSTART;TZID=Africa/Johannesburg:20260411T200000
DTEND;TZID=Africa/Johannesburg:20260411T203000
DTSTAMP:20260421T132352
CREATED:20260407T143413Z
LAST-MODIFIED:20260407T161354Z
UID:136808-1775937600-1775939400@thehomechannel.co.za
SUMMARY:Country House Hunters New Zealand
DESCRIPTION:Phil and Sarah are looking for a family home suitable to raise their two-year-old\, in the stunning Bay of Plenty region.
URL:https://thehomechannel.co.za/tv-schedule/country-house-hunters-new-zealand-340/
CATEGORIES:DSTV,OVHD
ATTACH;FMTTYPE=image/png:https://thehomechannel.co.za/wp-content/uploads/2025/10/House-7-scaled.png
END:VEVENT
BEGIN:VEVENT
DTSTART;TZID=Africa/Johannesburg:20260411T203000
DTEND;TZID=Africa/Johannesburg:20260411T210000
DTSTAMP:20260421T132352
CREATED:20260407T143414Z
LAST-MODIFIED:20260407T161354Z
UID:136809-1775939400-1775941200@thehomechannel.co.za
SUMMARY:Good Food Kitchen
DESCRIPTION:Adam shows us that good food doesn’t have to be complicated with his Naked lamb shoulder with rosemary vinaigrette.
URL:https://thehomechannel.co.za/tv-schedule/good-food-kitchen-259/
CATEGORIES:DSTV,OVHD
ATTACH;FMTTYPE=image/jpeg:https://thehomechannel.co.za/wp-content/uploads/2026/03/HD-MP4-TIMELINE77.jpg
END:VEVENT
BEGIN:VEVENT
DTSTART;TZID=Africa/Johannesburg:20260411T210000
DTEND;TZID=Africa/Johannesburg:20260411T220000
DTSTAMP:20260421T132352
CREATED:20260407T143414Z
LAST-MODIFIED:20260407T161354Z
UID:136810-1775941200-1775944800@thehomechannel.co.za
SUMMARY:Escape to the Country
DESCRIPTION:Jonnie Irwin’s house searching mission is with a couple of creative Californians keen to make a lifestyle leap to the Welsh borders
URL:https://thehomechannel.co.za/tv-schedule/escape-to-the-country-1158/
CATEGORIES:DSTV,OVHD
ATTACH;FMTTYPE=image/jpeg:https://thehomechannel.co.za/wp-content/uploads/2025/06/Image_-_S26_-_Gallery_Screengrabs_-_Escape_to_the_Country_44.jpg
END:VEVENT
BEGIN:VEVENT
DTSTART;TZID=Africa/Johannesburg:20260411T220000
DTEND;TZID=Africa/Johannesburg:20260411T223000
DTSTAMP:20260421T132352
CREATED:20260407T143414Z
LAST-MODIFIED:20260407T161354Z
UID:136811-1775944800-1775946600@thehomechannel.co.za
SUMMARY:Invade: The Home Obsession
DESCRIPTION:Explore Thula Thula Game Reserve’s elephant conservation and resort ambience. Tam Hayward maximizes space in a studio apartment. Meet ceramic artist Astrid Dahl\, inspired by Zulu clay coiling.
URL:https://thehomechannel.co.za/tv-schedule/invade-the-home-obsession-206/
CATEGORIES:DSTV,OVHD
ATTACH;FMTTYPE=image/jpeg:https://thehomechannel.co.za/wp-content/uploads/2026/02/DSC08437-2-scaled.jpg
END:VEVENT
BEGIN:VEVENT
DTSTART;TZID=Africa/Johannesburg:20260411T223000
DTEND;TZID=Africa/Johannesburg:20260411T230000
DTSTAMP:20260421T132352
CREATED:20260407T143613Z
LAST-MODIFIED:20260407T161354Z
UID:136812-1775946600-1775948400@thehomechannel.co.za
SUMMARY:Garden Heroes
DESCRIPTION:The Garden Heroes experts are visiting 3 gardens to assess ‘Labours of Love’.
URL:https://thehomechannel.co.za/tv-schedule/garden-heroes-89/
CATEGORIES:DSTV,OVHD
ATTACH;FMTTYPE=image/jpeg:https://thehomechannel.co.za/wp-content/uploads/2025/04/MG_6431-scaled.jpg
END:VEVENT
BEGIN:VEVENT
DTSTART;TZID=Africa/Johannesburg:20260411T230000
DTEND;TZID=Africa/Johannesburg:20260412T000000
DTSTAMP:20260421T132352
CREATED:20260407T143613Z
LAST-MODIFIED:20260407T161554Z
UID:136813-1775948400-1775952000@thehomechannel.co.za
SUMMARY:Art of Architecture
DESCRIPTION:Dubbed as Baron Foster of Thames Bank\, Norman has had his buildings firmly embedded in the public. You may recognise several of his projects such as London’s Millenium Bridge\, The Gherkin and more.
URL:https://thehomechannel.co.za/tv-schedule/art-of-architecture-143/
CATEGORIES:DSTV,OVHD
END:VEVENT
BEGIN:VEVENT
DTSTART;TZID=Africa/Johannesburg:20260412T000000
DTEND;TZID=Africa/Johannesburg:20260412T003000
DTSTAMP:20260421T132352
CREATED:20260407T143613Z
LAST-MODIFIED:20260407T161554Z
UID:136814-1775952000-1775953800@thehomechannel.co.za
SUMMARY:Afrimaxx
DESCRIPTION:From custom car builds in South Africa to Peulh Vagabond’s global craft\, luxury homes in the Western Cape\, Lilongwe’s adventures\, and traditional textile redefined in Congo.
URL:https://thehomechannel.co.za/tv-schedule/afrimaxx-1385/
CATEGORIES:DSTV,OVHD
ATTACH;FMTTYPE=image/png:https://thehomechannel.co.za/wp-content/uploads/2026/02/Afrimax-Logo-Screen.png
END:VEVENT
BEGIN:VEVENT
DTSTART;TZID=Africa/Johannesburg:20260412T003000
DTEND;TZID=Africa/Johannesburg:20260412T010000
DTSTAMP:20260421T132352
CREATED:20260407T143614Z
LAST-MODIFIED:20260407T161554Z
UID:136815-1775953800-1775955600@thehomechannel.co.za
SUMMARY:Home of the year Scotland
DESCRIPTION:The judges are in the Hebrides hunting for Scotland’s Home of the Year.
URL:https://thehomechannel.co.za/tv-schedule/home-of-the-year-scotland-325/
CATEGORIES:DSTV,OVHD
ATTACH;FMTTYPE=image/jpeg:https://thehomechannel.co.za/wp-content/uploads/2025/04/Home-of-the-Year-Scotland-Season-04_High-Res_IMG06-scaled.jpg
END:VEVENT
BEGIN:VEVENT
DTSTART;TZID=Africa/Johannesburg:20260412T010000
DTEND;TZID=Africa/Johannesburg:20260412T020000
DTSTAMP:20260421T132352
CREATED:20260407T143614Z
LAST-MODIFIED:20260407T161554Z
UID:136816-1775955600-1775959200@thehomechannel.co.za
SUMMARY:Chateau DIY
DESCRIPTION:Janet and Philip face the eye of the storm as they battle the elements to put on a special dinner party.
URL:https://thehomechannel.co.za/tv-schedule/chateau-diy-476/
CATEGORIES:DSTV,OVHD
END:VEVENT
BEGIN:VEVENT
DTSTART;TZID=Africa/Johannesburg:20260412T020000
DTEND;TZID=Africa/Johannesburg:20260412T023000
DTSTAMP:20260421T132352
CREATED:20260407T143755Z
LAST-MODIFIED:20260407T161554Z
UID:136817-1775959200-1775961000@thehomechannel.co.za
SUMMARY:Real Health
DESCRIPTION:We’ll discuss strategies to strengthen bones and prevent falls\, compare e-cigarettes and traditional cigarettes\, and explore the gut-poop relationship
URL:https://thehomechannel.co.za/tv-schedule/real-health-1510/
CATEGORIES:DSTV,OVHD
ATTACH;FMTTYPE=image/jpeg:https://thehomechannel.co.za/wp-content/uploads/2025/03/Real-Health-4-EDIT.jpg
END:VEVENT
BEGIN:VEVENT
DTSTART;TZID=Africa/Johannesburg:20260412T023000
DTEND;TZID=Africa/Johannesburg:20260412T030000
DTSTAMP:20260421T132352
CREATED:20260407T143755Z
LAST-MODIFIED:20260407T161816Z
UID:136818-1775961000-1775962800@thehomechannel.co.za
SUMMARY:Country House Hunters New Zealand
DESCRIPTION:Phil and Sarah are looking for a family home suitable to raise their two-year-old\, in the stunning Bay of Plenty region.
URL:https://thehomechannel.co.za/tv-schedule/country-house-hunters-new-zealand-341/
CATEGORIES:DSTV,OVHD
ATTACH;FMTTYPE=image/png:https://thehomechannel.co.za/wp-content/uploads/2025/10/House-7-scaled.png
END:VEVENT
BEGIN:VEVENT
DTSTART;TZID=Africa/Johannesburg:20260412T030000
DTEND;TZID=Africa/Johannesburg:20260412T033000
DTSTAMP:20260421T132352
CREATED:20260407T143755Z
LAST-MODIFIED:20260407T161816Z
UID:136819-1775962800-1775964600@thehomechannel.co.za
SUMMARY:Smart Home Nation
DESCRIPTION:Tanya tours a spectacular seaside mansion outside LA where air\, water\, light and sound are all monitored by a high-tech system that targets human health.
URL:https://thehomechannel.co.za/tv-schedule/smart-home-nation-152/
CATEGORIES:DSTV,OVHD
ATTACH;FMTTYPE=image/jpeg:https://thehomechannel.co.za/wp-content/uploads/2026/03/Copy-of-SHN_bestpics_009-scaled.jpg
END:VEVENT
BEGIN:VEVENT
DTSTART;TZID=Africa/Johannesburg:20260412T033000
DTEND;TZID=Africa/Johannesburg:20260412T043000
DTSTAMP:20260421T132352
CREATED:20260407T143756Z
LAST-MODIFIED:20260407T161816Z
UID:136820-1775964600-1775968200@thehomechannel.co.za
SUMMARY:Escape to the Country
DESCRIPTION:Jonnie Irwin’s house searching mission is with a couple of creative Californians keen to make a lifestyle leap to the Welsh borders
URL:https://thehomechannel.co.za/tv-schedule/escape-to-the-country-1159/
CATEGORIES:DSTV,OVHD
ATTACH;FMTTYPE=image/jpeg:https://thehomechannel.co.za/wp-content/uploads/2025/06/Image_-_S26_-_Gallery_Screengrabs_-_Escape_to_the_Country_44.jpg
END:VEVENT
BEGIN:VEVENT
DTSTART;TZID=Africa/Johannesburg:20260412T043000
DTEND;TZID=Africa/Johannesburg:20260412T050000
DTSTAMP:20260421T132352
CREATED:20260407T143756Z
LAST-MODIFIED:20260407T161816Z
UID:136821-1775968200-1775970000@thehomechannel.co.za
SUMMARY:Invade: The Home Obsession
DESCRIPTION:Explore Thula Thula Game Reserve’s elephant conservation and resort ambience. Tam Hayward maximizes space in a studio apartment. Meet ceramic artist Astrid Dahl\, inspired by Zulu clay coiling.
URL:https://thehomechannel.co.za/tv-schedule/invade-the-home-obsession-207/
CATEGORIES:DSTV,OVHD
ATTACH;FMTTYPE=image/jpeg:https://thehomechannel.co.za/wp-content/uploads/2026/02/DSC08437-2-scaled.jpg
END:VEVENT
BEGIN:VEVENT
DTSTART;TZID=Africa/Johannesburg:20260412T050000
DTEND;TZID=Africa/Johannesburg:20260412T053000
DTSTAMP:20260421T132352
CREATED:20260407T161816Z
LAST-MODIFIED:20260407T161816Z
UID:137067-1775970000-1775971800@thehomechannel.co.za
SUMMARY:Garden Heroes
DESCRIPTION:The Garden Heroes experts are visiting 3 gardens to assess ‘Labours of Love’.
URL:https://thehomechannel.co.za/tv-schedule/garden-heroes-94/
CATEGORIES:DSTV,OVHD
ATTACH;FMTTYPE=image/jpeg:https://thehomechannel.co.za/wp-content/uploads/2026/03/MG_6351-scaled.jpg
END:VEVENT
BEGIN:VEVENT
DTSTART;TZID=Africa/Johannesburg:20260412T050000
DTEND;TZID=Africa/Johannesburg:20260412T060000
DTSTAMP:20260421T132352
CREATED:20260407T143955Z
LAST-MODIFIED:20260407T143955Z
UID:136822-1775970000-1775973600@thehomechannel.co.za
SUMMARY:Homemark
DESCRIPTION:Infomercial
URL:https://thehomechannel.co.za/tv-schedule/homemark-1901/
CATEGORIES:DSTV,OVHD
END:VEVENT
BEGIN:VEVENT
DTSTART;TZID=Africa/Johannesburg:20260412T053000
DTEND;TZID=Africa/Johannesburg:20260412T063000
DTSTAMP:20260421T132352
CREATED:20260407T161954Z
LAST-MODIFIED:20260407T161954Z
UID:137068-1775971800-1775975400@thehomechannel.co.za
SUMMARY:Holiday Homes in the Sun
DESCRIPTION:Amanda Lamb\, JB Gill\, Sam Pinkham are in Sorrento\, on the bay of Naples in Italy\, competing to find the best holiday home with a truly mind-blowing view.
URL:https://thehomechannel.co.za/tv-schedule/holiday-homes-in-the-sun-196/
CATEGORIES:DSTV,OVHD
END:VEVENT
BEGIN:VEVENT
DTSTART;TZID=Africa/Johannesburg:20260412T060000
DTEND;TZID=Africa/Johannesburg:20260412T070000
DTSTAMP:20260421T132352
CREATED:20260407T143956Z
LAST-MODIFIED:20260407T143956Z
UID:136823-1775973600-1775977200@thehomechannel.co.za
SUMMARY:Homemark
DESCRIPTION:Infomercial
URL:https://thehomechannel.co.za/tv-schedule/homemark-1902/
CATEGORIES:DSTV,OVHD
END:VEVENT
BEGIN:VEVENT
DTSTART;TZID=Africa/Johannesburg:20260412T063000
DTEND;TZID=Africa/Johannesburg:20260412T070000
DTSTAMP:20260421T132352
CREATED:20260407T161954Z
LAST-MODIFIED:20260407T161954Z
UID:137069-1775975400-1775977200@thehomechannel.co.za
SUMMARY:Afrimaxx
DESCRIPTION:From custom car builds in South Africa to Peulh Vagabond’s global craft\, luxury homes in the Western Cape\, Lilongwe’s adventures\, and traditional textile redefined in Congo.
URL:https://thehomechannel.co.za/tv-schedule/afrimaxx-1389/
CATEGORIES:DSTV,OVHD
ATTACH;FMTTYPE=image/png:https://thehomechannel.co.za/wp-content/uploads/2026/02/Afrimax-Logo-Screen.png
END:VEVENT
BEGIN:VEVENT
DTSTART;TZID=Africa/Johannesburg:20260412T070000
DTEND;TZID=Africa/Johannesburg:20260412T080000
DTSTAMP:20260421T132352
CREATED:20260407T143956Z
LAST-MODIFIED:20260407T161954Z
UID:136824-1775977200-1775980800@thehomechannel.co.za
SUMMARY:Chateau DIY
DESCRIPTION:Janet and Philip face the eye of the storm as they battle the elements to put on a special dinner party.
URL:https://thehomechannel.co.za/tv-schedule/chateau-diy-477/
CATEGORIES:DSTV,OVHD
END:VEVENT
BEGIN:VEVENT
DTSTART;TZID=Africa/Johannesburg:20260412T080000
DTEND;TZID=Africa/Johannesburg:20260412T083000
DTSTAMP:20260421T132352
CREATED:20260407T143957Z
LAST-MODIFIED:20260407T161954Z
UID:136825-1775980800-1775982600@thehomechannel.co.za
SUMMARY:Real Health
DESCRIPTION:We’ll discuss strategies to strengthen bones and prevent falls\, compare e-cigarettes and traditional cigarettes\, and explore the gut-poop relationship
URL:https://thehomechannel.co.za/tv-schedule/real-health-1511/
CATEGORIES:DSTV,OVHD
ATTACH;FMTTYPE=image/jpeg:https://thehomechannel.co.za/wp-content/uploads/2025/03/Real-Health-4-EDIT.jpg
END:VEVENT
BEGIN:VEVENT
DTSTART;TZID=Africa/Johannesburg:20260412T083000
DTEND;TZID=Africa/Johannesburg:20260412T090000
DTSTAMP:20260421T132352
CREATED:20260407T143957Z
LAST-MODIFIED:20260407T161954Z
UID:136826-1775982600-1775984400@thehomechannel.co.za
SUMMARY:Country House Hunters New Zealand
DESCRIPTION:Phil and Sarah are looking for a family home suitable to raise their two-year-old\, in the stunning Bay of Plenty region.
URL:https://thehomechannel.co.za/tv-schedule/country-house-hunters-new-zealand-342/
CATEGORIES:DSTV,OVHD
ATTACH;FMTTYPE=image/png:https://thehomechannel.co.za/wp-content/uploads/2025/10/House-7-scaled.png
END:VEVENT
END:VCALENDAR